{"text_format":"1","workbook":"xlsx","n_sheets":3,"sheets":["入力部分","出力部分","簡易マニュアル"],"not_rendered":{"charts":2,"images":0,"macros":1,"external_links":0,"defined_names":0,"comments":0,"pivot_tables":0},"unopened":[],"bounds":{"document_bytes":16777216,"sheet_cells":100000,"rows_first":2000,"rows_last":500,"rows_between":2000,"halvings":0,"cell_chars":16384,"cell_head_chars":4096},"cells_cut":0,"cells_raw":0,"read":"whole","date_system":"1900"}

{"sheet":"入力部分","index":0,"n_rows":50,"n_cols":10,"rows_kept":50,"cut":false,"hidden":false,"merged":[]}
["露出高推定モデル（混合粒径対応）　",null,null,null,"バージョン2.0 β"]
["ファイル名","rosyutsudaka Miyagawa-Model ver2.0 β"]
[]
[null,null,"黄色く塗った箇所を入力してください",null,null,"入力値に基づく粒径加積曲線　　→",null,null,{"$f":"SUM(D7:D12)","v":1},500]
[null,null,null,null,null,null,null,null,{"$f":"SUM(D8:D12)","v":0.89999999999999991},256]
[null,"i","粒径範囲※","各区分の存在割合F（i）","←この部分は入力必須です",null,null,null,{"$f":"SUM(D9:D12)","v":0.6},150]
[null,"F(1)","256mm～",0.1,null,null,null,null,{"$f":"SUM(D10:D12)","v":0.4},64]
[null,"F(2)","128～256mm",0.3,null,null,null,null,{"$f":"SUM(D11:D12)","v":0.2},16]
[null,"F(3)","64～128mm",0.2,null,null,null,null,{"$f":"SUM(D12:D12)","v":0.1},2]
[null,"F(4)","16～64mm",0.2,null,null,null,null,0,1]
[null,"F(5)","2～16mm",0.1]
[null,"F(6)","～2mm",0.1]
[null,"計",null,{"$f":"SUM(D7:D12)","v":1},{"$f":"IF(D13=1,\"o.k.\",\"計が1になるように入力してください\")","v":"o.k."}]
[]
[null,null,"青く塗った箇所は自分で設定したい場合に入力してください",null,null,null,null,"計算で使う部分（自分で設定しない場合は、自動で設定されます）"]
[]
[null,"i","粒径範囲※","各区分の代表粒径",null,null,null,"i","各区分の代表粒径　mm"]
[null,"F(1)","256mm～",null,"←巨礫（目安：330mm）",null,null,"F(1)",{"$f":"IF(D18=0,330,D18)","v":330}]
[null,"F(2)","128～256mm",null,"←大礫（目安：200mm）",null,null,"F(2)",{"$f":"IF(D19=0,192,D19)","v":192}]
[null,"F(3)","64～128mm",null,"←大礫（目安：100mm）",null,null,"F(3)",{"$f":"IF(D20=0,96,D20)","v":96}]
[null,"F(4)","16～64mm",null,"←中礫（目安：40mm）",null,null,"F(4)",{"$f":"IF(D21=0,40,D21)","v":40}]
[null,"F(5)","2～16mm",null,"←砂利（目安：9mm）","←露出高にカウントしない",null,"F(5)"]
[null,"F(6)","～2mm",null,"←砂（目安：1mm）","←露出高にカウントしない",null,"F(6)"]
[]
[]
[null,"i","粒径範囲※","各区分の代表高さ Si","←代表粒径の0.64倍が目安（2021/4/1更新）",null,null,"i","各区分の代表高さ Si mm"]
[null,"F(1)","256mm～",null,null,null,null,"F(1)",{"$f":"IF(D27=0,IF(D18=0,I18*0.64,D18*0.64), D27)","v":211.20000000000002}]
[null,"F(2)","128～256mm",null,null,null,null,"F(2)",{"$f":"IF(D28=0,IF(D19=0,I19*0.64,D19*0.64), D28)","v":122.88}]
[null,"F(3)","64～128mm",null,null,null,null,"F(3)",{"$f":"IF(D29=0,IF(D20=0,I20*0.64,D20*0.64), D29)","v":61.44}]
[null,"F(4)","16～64mm",null,null,null,null,"F(4)",{"$f":"IF(D30=0,IF(D21=0,I21*0.64,D21*0.64), D30)","v":25.6}]
[null,"F(5)","2～16mm",null,null,"←露出高にカウントしない",null,"F(5)"]
[null,"F(6)","～2mm",null,null,"←露出高にカウントしない",null,"F(6)"]
[]
[]
[null,"i","粒径範囲※","各区分の標準偏差σ","←代表粒径の0.217～0.3倍が目安（2021/4/1更新）",null,null,"i","各区分の標準偏差σ"]
[null,"F(1)","256mm～",null,null,null,null,"F(1)",{"$f":"IF(D36=0,I18*0.3,D36)","v":99}]
[null,"F(2)","128～256mm",null,null,null,null,"F(2)",{"$f":"IF(D37=0,I19*0.3,D37)","v":57.599999999999994}]
[null,"F(3)","64～128mm",null,null,null,null,"F(3)",{"$f":"IF(D38=0,I20*0.3,D38)","v":28.799999999999997}]
[null,"F(4)","16～64mm",null,null,null,null,"F(4)",{"$f":"IF(D39=0,I21*0.3,D39)","v":12}]
[null,"F(5)","2～16mm",null,null,"←露出高にカウントしない",null,"F(5)"]
[null,"F(6)","～2mm",null,null,"←露出高にカウントしない",null,"F(6)"]
[]
[]
[null,"※","Wentworthの粒径区分を参照",null,null,null,null,"i","ゼロ点補正"]
[null,null,"F(1)","256mm～",null,null,null,"F(1)",{"$f":"0.5*I27-(0.5*(I$27*D$7+I$28*D$8+I$29*D$9+D$10*I$30)/(SUM(D$7:D$10)))","v":58.480000000000004}]
[null,null,"F(2)","128～256mm",null,null,null,"F(2)",{"$f":"0.5*I28-(0.5*(I$27*D$7+I$28*D$8+I$29*D$9+D$10*I$30)/(SUM(D$7:D$10)))","v":14.319999999999993}]
[null,null,"F(3)","64～128mm",null,null,null,"F(3)",{"$f":"0.5*I29-(0.5*(I$27*D$7+I$28*D$8+I$29*D$9+D$10*I$30)/(SUM(D$7:D$10)))","v":-16.400000000000006}]
[null,null,"F(4)","16～64mm","↑露出高にカウントした範囲",null,null,"F(4)",{"$f":"0.5*I30-(0.5*(I$27*D$7+I$28*D$8+I$29*D$9+D$10*I$30)/(SUM(D$7:D$10)))","v":-34.320000000000007}]
[null,null,"F(5)","2～16mm",null,null,null,"F(5)"]
[null,null,"F(6)","～2mm",null,null,null,"F(6)"]

{"sheet":"出力部分","index":1,"n_rows":506,"n_cols":30,"rows_kept":506,"cut":false,"hidden":false,"merged":[]}
["露出高推定モデル（混合粒径対応）　",null,null,"バージョン2.0 β",null,null,null,null,null,null,null,"F（1）の分布",null,"P(x)の累積値","xの平均値",null,"F（2）の分布",null,"P(x)の累積値","xの平均値",null,"F（3）の分布",null,"P(x)の累積値","xの平均値",null,"F（4）の分布",null,"P(x)の累積値","xの平均値"]
["ファイル名","rosyutsudaka Miyagawa-Model ver2.0 β",null,null,null,null,null,null,null,null,null,null,null,{"$f":"SUM(N6:N506)","v":0.93916722713055723},{"$f":"SUM(O6:O506)","v":155.27370779817528},null,null,null,{"$f":"SUM(S6:S506)","v":0.97109559997651484},{"$f":"SUM(T6:T506)","v":109.25004492715769},null,null,null,{"$f":"SUM(X6:X506)","v":0.99699137115330361},{"$f":"SUM(Y6:Y506)","v":77.889970871241971},null,null,null,{"$f":"SUM(AC6:AC506)","v":1.0002533379337457},{"$f":"SUM(AD6:AD506)","v":59.935194875005358}]
[]
[null,null,null,null,null,"混合粒径における露出高",null,null,"露出高","露出高がxの確率",null,null,"露出高","露出高がxの確率",null,null,null,"露出高","露出高がxの確率",null,null,null,"露出高","露出高がxの確率",null,null,null,"露出高","露出高がxの確率"]
[null,"露出高分布",null,null,null,"平均値 mm","P(x)の累積値（<1）",null,"ｘ mm"," P（x）",null,null,"x mm","p(x)","x*p(x)",null,null,"x mm","p(x)","x*p(x)",null,null,"x mm","p(x)","x*p(x)",null,null,"x mm","p(x)","x*p(x)"]
[null,null,null,null,null,{"$f":"(入力部分!D7*(O2-入力部分!I45)+入力部分!D8*(T2-入力部分!I46)+入力部分!D9*(Y2-入力部分!I47)+入力部分!D10*(AD2-入力部分!I48))/(SUM(入力部分!D7:D10))","v":94.834271759017881},{"$f":"SUM(J6:J506)","v":0.98086793065427413},null,0,{"$f":"(入力部分!D$7*N6+入力部分!D$8*S6+入力部分!D$9*X6+入力部分!D$10*AC6)/(SUM(入力部分!D$7:D$10))","v":6.8296950924362292E-4},null,null,0,{"$f":"1/入力部分!$I$36/(2*3.14)^0.5*EXP(-1/2*(((M6+入力部分!$I$45)-入力部分!$I$27)/入力部分!$I$36)^2)","v":1.2264239113047074E-3},{"$f":"M6*$N6","v":0},null,null,0,{"$f":"1/入力部分!$I$37/(2*3.14)^0.5*EXP(-1/2*(((R6+入力部分!$I$46)-入力部分!$I$28)/入力部分!$I$37)^2)","v":1.1728759311962955E-3},{"$f":"R6*$S6","v":0},null,null,0,{"$f":"1/入力部分!$I$38/(2*3.14)^0.5*EXP(-1/2*(((W6+入力部分!$I$47)-入力部分!$I$29)/入力部分!$I$38)^2)","v":3.592240622236551E-4},{"$f":"W6*$X6","v":0},null,null,0,{"$f":"1/入力部分!$I$39/(2*3.14)^0.5*EXP(-1/2*(((AB6+入力部分!$I$48)-入力部分!$I$30)/入力部分!$I$39)^2)","v":1.2812230403964056E-7},{"$f":"AB6*$AC6","v":0}]
[null,null,null,null,null,null,null,null,1,{"$f":"(入力部分!D$7*N7+入力部分!D$8*S7+入力部分!D$9*X7+入力部分!D$10*AC7)/(SUM(入力部分!D$7:D$10))","v":7.0872320967514614E-4},null,null,1,{"$f":"1/入力部分!$I$36/(2*3.14)^0.5*EXP(-1/2*(((M7+入力部分!$I$45)-入力部分!$I$27)/入力部分!$I$36)^2)","v":1.245620268887042E-3},{"$f":"M7*$N7","v":1.245620268887042E-3},null,null,1,{"$f":"1/入力部分!$I$37/(2*3.14)^0.5*EXP(-1/2*(((R7+入力部分!$I$46)-入力部分!$I$28)/入力部分!$I$37)^2)","v":1.2117056091417221E-3},{"$f":"R7*$S7","v":1.2117056091417221E-3},null,null,1,{"$f":"1/入力部分!$I$38/(2*3.14)^0.5*EXP(-1/2*(((W7+入力部分!$I$47)-入力部分!$I$29)/入力部分!$I$38)^2)","v":3.9433072344940989E-4},{"$f":"W7*$X7","v":3.9433072344940989E-4},null,null,1,{"$f":"1/入力部分!$I$39/(2*3.14)^0.5*EXP(-1/2*(((AB7+入力部分!$I$48)-入力部分!$I$30)/入力部分!$I$39)^2)","v":1.9356709507052447E-7},{"$f":"AB7*$AC7","v":1.9356709507052447E-7}]
[null,null,null,null,null,null,null,null,2,{"$f":"(入力部分!D$7*N8+入力部分!D$8*S8+入力部分!D$9*X8+入力部分!D$10*AC8)/(SUM(入力部分!D$7:D$10))","v":7.3557412692757665E-4},null,null,2,{"$f":"1/入力部分!$I$36/(2*3.14)^0.5*EXP(-1/2*(((M8+入力部分!$I$45)-入力部分!$I$27)/入力部分!$I$36)^2)","v":1.2649880198331112E-3},{"$f":"M8*$N8","v":2.5299760396662223E-3},null,null,2,{"$f":"1/入力部分!$I$37/(2*3.14)^0.5*EXP(-1/2*(((R8+入力部分!$I$46)-入力部分!$I$28)/入力部分!$I$37)^2)","v":1.2514435450452829E-3},{"$f":"R8*$S8","v":2.5028870900905657E-3},null,null,2,{"$f":"1/入力部分!$I$38/(2*3.14)^0.5*EXP(-1/2*(((W8+入力部分!$I$47)-入力部分!$I$29)/入力部分!$I$38)^2)","v":4.323467629876318E-4},{"$f":"W8*$X8","v":8.646935259752636E-4},null,null,2,{"$f":"1/入力部分!$I$39/(2*3.14)^0.5*EXP(-1/2*(((AB8+入力部分!$I$48)-入力部分!$I$30)/入力部分!$I$39)^2)","v":2.9041723819450176E-7},5.8083447638900351E-7]
[null,null,null,null,null,null,null,null,3,{"$f":"(入力部分!D$7*N9+入力部分!D$8*S9+入力部分!D$9*X9+入力部分!D$10*AC9)/(SUM(入力部分!D$7:D$10))","v":7.635737605078232E-4},null,null,3,{"$f":"1/入力部分!$I$36/(2*3.14)^0.5*EXP(-1/2*(((M9+入力部分!$I$45)-入力部分!$I$27)/入力部分!$I$36)^2)","v":1.2845258463619754E-3},3.8535775390859265E-3,null,null,3,{"$f":"1/入力部分!$I$37/(2*3.14)^0.5*EXP(-1/2*(((R9+入力部分!$I$46)-入力部分!$I$28)/入力部分!$I$37)^2)","v":1.2920951814583029E-3},3.8762855443749086E-3,null,null,3,{"$f":"1/入力部分!$I$38/(2*3.14)^0.5*EXP(-1/2*(((W9+入力部分!$I$47)-入力部分!$I$29)/入力部分!$I$38)^2)","v":4.7345663628046546E-4},1.4203699088413963E-3,null,null,3,{"$f":"1/入力部分!$I$39/(2*3.14)^0.5*EXP(-1/2*(((AB9+入力部分!$I$48)-入力部分!$I$30)/入力部分!$I$39)^2)","v":4.3271038238545613E-7},1.2981311471563683E-6]
[null,null,null,null,null,null,null,null,4,{"$f":"(入力部分!D$7*N10+入力部分!D$8*S10+入力部分!D$9*X10+入力部分!D$10*AC10)/(SUM(入力部分!D$7:D$10))","v":7.9277628306979029E-4},null,null,4,{"$f":"1/入力部分!$I$36/(2*3.14)^0.5*EXP(-1/2*(((M10+入力部分!$I$45)-入力部分!$I$27)/入力部分!$I$36)^2)","v":1.3042323578138877E-3},5.2169294312555507E-3,null,null,4,{"$f":"1/入力部分!$I$37/(2*3.14)^0.5*EXP(-1/2*(((R10+入力部分!$I$46)-入力部分!$I$28)/入力部分!$I$37)^2)","v":1.3336652991073443E-3},5.3346611964293772E-3,null,null,4,{"$f":"1/入力部分!$I$38/(2*3.14)^0.5*EXP(-1/2*(((W10+入力部分!$I$47)-入力部分!$I$29)/入力部分!$I$38)^2)","v":5.1785074480527945E-4},2.0714029792211178E-3,null,null,4,{"$f":"1/入力部分!$I$39/(2*3.14)^0.5*EXP(-1/2*(((AB10+入力部分!$I$48)-入力部分!$I$30)/入力部分!$I$39)^2)","v":6.4025990592137053E-7},2.5610396236854821E-6]
[null,null,null,null,null,null,null,null,5,{"$f":"(入力部分!D$7*N11+入力部分!D$8*S11+入力部分!D$9*X11+入力部分!D$10*AC11)/(SUM(入力部分!D$7:D$10))","v":8.2323896867656757E-4},null,null,5,{"$f":"1/入力部分!$I$36/(2*3.14)^0.5*EXP(-1/2*(((M11+入力部分!$I$45)-入力部分!$I$27)/入力部分!$I$36)^2)","v":1.3241060900966016E-3},{"$f":"M11*$N11","v":6.620530450483008E-3},null,null,5,{"$f":"1/入力部分!$I$37/(2*3.14)^0.5*EXP(-1/2*(((R11+入力部分!$I$46)-入力部分!$I$28)/入力部分!$I$37)^2)","v":1.3761579895422368E-3},6.8807899477111838E-3,null,null,5,{"$f":"1/入力部分!$I$38/(2*3.14)^0.5*EXP(-1/2*(((W11+入力部分!$I$47)-入力部分!$I$29)/入力部分!$I$38)^2)","v":5.6572504089378716E-4},2.8286252044689357E-3,null,null,5,{"$f":"1/入力部分!$I$39/(2*3.14)^0.5*EXP(-1/2*(((AB11+入力部分!$I$48)-入力部分!$I$30)/入力部分!$I$39)^2)","v":9.4080445082723419E-7},4.7040222541361705E-6]
[null,null,null,null,null,null,null,null,6,{"$f":"(入力部分!D$7*N12+入力部分!D$8*S12+入力部分!D$9*X12+入力部分!D$10*AC12)/(SUM(入力部分!D$7:D$10))","v":8.5502277888318493E-4},null,null,6,{"$f":"1/入力部分!$I$36/(2*3.14)^0.5*EXP(-1/2*(((M12+入力部分!$I$45)-入力部分!$I$27)/入力部分!$I$36)^2)","v":1.3441455051608989E-3},8.0648730309653936E-3,null,null,6,{"$f":"1/入力部分!$I$37/(2*3.14)^0.5*EXP(-1/2*(((R12+入力部分!$I$46)-入力部分!$I$28)/入力部分!$I$37)^2)","v":1.4195766279550056E-3},8.5174597677300339E-3,null,null,6,{"$f":"1/入力部分!$I$38/(2*3.14)^0.5*EXP(-1/2*(((W12+入力部分!$I$47)-入力部分!$I$29)/入力部分!$I$38)^2)","v":6.1728056027758106E-4},3.7036833616654863E-3,null,null,6,{"$f":"1/入力部分!$I$39/(2*3.14)^0.5*EXP(-1/2*(((AB12+入力部分!$I$48)-入力部分!$I$30)/入力部分!$I$39)^2)","v":1.372860742201019E-6},8.2371644532061147E-6]
[null,null,null,null,null,null,null,null,7,{"$f":"(入力部分!D$7*N13+入力部分!D$8*S13+入力部分!D$9*X13+入力部分!D$10*AC13)/(SUM(入力部分!D$7:D$10))","v":8.8819315374926041E-4},null,null,7,{"$f":"1/入力部分!$I$36/(2*3.14)^0.5*EXP(-1/2*(((M13+入力部分!$I$45)-入力部分!$I$27)/入力部分!$I$36)^2)","v":1.3643489905061134E-3},9.5504429335427944E-3,null,null,7,{"$f":"1/入力部分!$I$37/(2*3.14)^0.5*EXP(-1/2*(((R13+入力部分!$I$46)-入力部分!$I$28)/入力部分!$I$37)^2)","v":1.4639238462251143E-3},1.0247466923575799E-2,null,null,7,{"$f":"1/入力部分!$I$38/(2*3.14)^0.5*EXP(-1/2*(((W13+入力部分!$I$47)-入力部分!$I$29)/入力部分!$I$38)^2)","v":6.727228791204578E-4},4.7090601538432048E-3,null,null,7,{"$f":"1/入力部分!$I$39/(2*3.14)^0.5*EXP(-1/2*(((AB13+入力部分!$I$48)-入力部分!$I$30)/入力部分!$I$39)^2)","v":1.9894712858559133E-6},1.3926299000991394E-5]
[null,null,null,null,null,null,null,null,8,{"$f":"(入力部分!D$7*N14+入力部分!D$8*S14+入力部分!D$9*X14+入力部分!D$10*AC14)/(SUM(入力部分!D$7:D$10))","v":9.2282106443698178E-4},null,null,8,{"$f":"1/入力部分!$I$36/(2*3.14)^0.5*EXP(-1/2*(((M14+入力部分!$I$45)-入力部分!$I$27)/入力部分!$I$36)^2)","v":1.384714858716415E-3},1.107771886973132E-2,null,null,8,{"$f":"1/入力部分!$I$37/(2*3.14)^0.5*EXP(-1/2*(((R14+入力部分!$I$46)-入力部分!$I$28)/入力部分!$I$37)^2)","v":1.5092015062477459E-3},1.2073612049981967E-2,null,null,8,{"$f":"1/入力部分!$I$38/(2*3.14)^0.5*EXP(-1/2*(((W14+入力部分!$I$47)-入力部分!$I$29)/入力部分!$I$38)^2)","v":7.3226149266202337E-4},5.858091941296187E-3,null,null,8,{"$f":"1/入力部分!$I$39/(2*3.14)^0.5*EXP(-1/2*(((AB14+入力部分!$I$48)-入力部分!$I$30)/入力部分!$I$39)^2)","v":2.8630763560773154E-6},2.2904610848618523E-5]
[null,null,null,null,null,null,null,null,9,{"$f":"(入力部分!D$7*N15+入力部分!D$8*S15+入力部分!D$9*X15+入力部分!D$10*AC15)/(SUM(入力部分!D$7:D$10))","v":9.5898439418023171E-4},null,null,9,{"$f":"1/入力部分!$I$36/(2*3.14)^0.5*EXP(-1/2*(((M15+入力部分!$I$45)-入力部分!$I$27)/入力部分!$I$36)^2)","v":1.4052413470285977E-3},1.264717212325738E-2,null,null,9,{"$f":"1/入力部分!$I$37/(2*3.14)^0.5*EXP(-1/2*(((R15+入力部分!$I$46)-入力部分!$I$28)/入力部分!$I$37)^2)","v":1.5554106736030097E-3},1.3998696062427088E-2,null,null,9,{"$f":"1/入力部分!$I$38/(2*3.14)^0.5*EXP(-1/2*(((W15+入力部分!$I$47)-入力部分!$I$29)/入力部分!$I$38)^2)","v":7.9610911302370696E-4},7.164982017213363E-3,null,null,9,{"$f":"1/入力部分!$I$39/(2*3.14)^0.5*EXP(-1/2*(((AB15+入力部分!$I$48)-入力部分!$I$30)/入力部分!$I$39)^2)","v":4.0917797784060359E-6},3.6826018005654323E-5]
[null,null,null,null,null,null,null,null,10,{"$f":"(入力部分!D$7*N16+入力部分!D$8*S16+入力部分!D$9*X16+入力部分!D$10*AC16)/(SUM(入力部分!D$7:D$10))","v":9.9676972463441735E-4},null,null,10,{"$f":"1/入力部分!$I$36/(2*3.14)^0.5*EXP(-1/2*(((M16+入力部分!$I$45)-入力部分!$I$27)/入力部分!$I$36)^2)","v":1.4259266169321164E-3},1.4259266169321164E-2,null,null,10,{"$f":"1/入力部分!$I$37/(2*3.14)^0.5*EXP(-1/2*(((R16+入力部分!$I$46)-入力部分!$I$28)/入力部分!$I$37)^2)","v":1.6025515916250818E-3},1.6025515916250819E-2,null,null,10,{"$f":"1/入力部分!$I$38/(2*3.14)^0.5*EXP(-1/2*(((W16+入力部分!$I$47)-入力部分!$I$29)/入力部分!$I$38)^2)","v":8.6448088421846921E-4},8.6448088421846921E-3,null,null,10,{"$f":"1/入力部分!$I$39/(2*3.14)^0.5*EXP(-1/2*(((AB16+入力部分!$I$48)-入力部分!$I$30)/入力部分!$I$39)^2)","v":5.8073184155189092E-6},5.8073184155189088E-5]
[null,null,null,null,null,null,null,null,11,{"$f":"(入力部分!D$7*N17+入力部分!D$8*S17+入力部分!D$9*X17+入力部分!D$10*AC17)/(SUM(入力部分!D$7:D$10))","v":1.0362746142120378E-3},null,null,11,{"$f":"1/入力部分!$I$36/(2*3.14)^0.5*EXP(-1/2*(((M17+入力部分!$I$45)-入力部分!$I$27)/入力部分!$I$36)^2)","v":1.446768753802101E-3},1.5914456291823111E-2,null,null,11,{"$f":"1/入力部分!$I$37/(2*3.14)^0.5*EXP(-1/2*(((R17+入力部分!$I$46)-入力部分!$I$28)/入力部分!$I$37)^2)","v":1.6506236559312361E-3},1.8156860215243598E-2,null,null,11,{"$f":"1/入力部分!$I$38/(2*3.14)^0.5*EXP(-1/2*(((W17+入力部分!$I$47)-入力部分!$I$29)/入力部分!$I$38)^2)","v":9.3759351295932662E-4},1.0313528642552593E-2,null,null,11,{"$f":"1/入力部分!$I$39/(2*3.14)^0.5*EXP(-1/2*(((AB17+入力部分!$I$48)-入力部分!$I$30)/入力部分!$I$39)^2)","v":8.1850830909204225E-6},9.0035914000124651E-5]
[null,null,null,null,null,null,null,null,12,{"$f":"(入力部分!D$7*N18+入力部分!D$8*S18+入力部分!D$9*X18+入力部分!D$10*AC18)/(SUM(入力部分!D$7:D$10))","v":1.0776104629860233E-3},null,null,12,{"$f":"1/入力部分!$I$36/(2*3.14)^0.5*EXP(-1/2*(((M18+入力部分!$I$45)-入力部分!$I$27)/入力部分!$I$36)^2)","v":1.4677657665660663E-3},1.7613189198792796E-2,null,null,12,{"$f":"1/入力部分!$I$37/(2*3.14)^0.5*EXP(-1/2*(((R18+入力部分!$I$46)-入力部分!$I$28)/入力部分!$I$37)^2)","v":1.6996253894715997E-3},2.0395504673659196E-2,null,null,12,{"$f":"1/入力部分!$I$38/(2*3.14)^0.5*EXP(-1/2*(((W18+入力部分!$I$47)-入力部分!$I$29)/入力部分!$I$38)^2)","v":1.0156643144787105E-3},1.2187971773744526E-2,null,null,12,{"$f":"1/入力部分!$I$39/(2*3.14)^0.5*EXP(-1/2*(((AB18+入力部分!$I$48)-入力部分!$I$30)/入力部分!$I$39)^2)","v":1.1456569974950757E-5},1.3747883969940909E-4]
[null,null,null,null,null,null,null,null,13,{"$f":"(入力部分!D$7*N19+入力部分!D$8*S19+入力部分!D$9*X19+入力部分!D$10*AC19)/(SUM(入力部分!D$7:D$10))","v":1.1209060638142769E-3},null,null,13,{"$f":"1/入力部分!$I$36/(2*3.14)^0.5*EXP(-1/2*(((M19+入力部分!$I$45)-入力部分!$I$27)/入力部分!$I$36)^2)","v":1.4889155874050052E-3},1.935590263626507E-2,null,null,13,{"$f":"1/入力部分!$I$37/(2*3.14)^0.5*EXP(-1/2*(((R19+入力部分!$I$46)-入力部分!$I$28)/入力部分!$I$37)^2)","v":1.7495544181611912E-3},2.2744207436095485E-2,null,null,13,{"$f":"1/入力部分!$I$38/(2*3.14)^0.5*EXP(-1/2*(((W19+入力部分!$I$47)-入力部分!$I$29)/入力部分!$I$38)^2)","v":1.0989101732492999E-3},1.4285832252240898E-2,null,null,13,{"$f":"1/入力部分!$I$39/(2*3.14)^0.5*EXP(-1/2*(((AB19+入力部分!$I$48)-入力部分!$I$30)/入力部分!$I$39)^2)","v":1.5924661063518892E-5},2.0702059382574561E-4]
[null,null,null,null,null,null,null,null,14,{"$f":"(入力部分!D$7*N20+入力部分!D$8*S20+入力部分!D$9*X20+入力部分!D$10*AC20)/(SUM(入力部分!D$7:D$10))","v":1.166311939909453E-3},null,null,14,{"$f":"1/入力部分!$I$36/(2*3.14)^0.5*EXP(-1/2*(((M20+入力部分!$I$45)-入力部分!$I$27)/入力部分!$I$36)^2)","v":1.5102160714895688E-3},2.1143025000853962E-2,null,null,14,{"$f":"1/入力部分!$I$37/(2*3.14)^0.5*EXP(-1/2*(((R20+入力部分!$I$46)-入力部分!$I$28)/入力部分!$I$37)^2)","v":1.8004074471564295E-3},2.5205704260190011E-2,null,null,14,{"$f":"1/入力部分!$I$38/(2*3.14)^0.5*EXP(-1/2*(((W20+入力部分!$I$47)-入力部分!$I$29)/入力部分!$I$38)^2)","v":1.1875464192348249E-3},1.6625649869287547E-2,null,null,14,{"$f":"1/入力部分!$I$39/(2*3.14)^0.5*EXP(-1/2*(((AB20+入力部分!$I$48)-入力部分!$I$30)/入力部分!$I$39)^2)","v":2.198213392355837E-5},3.0774987492981719E-4]
[null,null,null,null,null,null,null,null,15,{"$f":"(入力部分!D$7*N21+入力部分!D$8*S21+入力部分!D$9*X21+入力部分!D$10*AC21)/(SUM(入力部分!D$7:D$10))","v":1.2140055632589625E-3},null,null,15,{"$f":"1/入力部分!$I$36/(2*3.14)^0.5*EXP(-1/2*(((M21+入力部分!$I$45)-入力部分!$I$27)/入力部分!$I$36)^2)","v":1.5316649967519992E-3},2.2974974951279988E-2,null,null,15,{"$f":"1/入力部分!$I$37/(2*3.14)^0.5*EXP(-1/2*(((R21+入力部分!$I$46)-入力部分!$I$28)/入力部分!$I$37)^2)","v":1.8521802378387556E-3},2.7782703567581335E-2,null,null,15,{"$f":"1/入力部分!$I$38/(2*3.14)^0.5*EXP(-1/2*(((W21+入力部分!$I$47)-入力部分!$I$29)/入力部分!$I$38)^2)","v":1.2817856210933368E-3},1.9226784316400052E-2,null,null,15,{"$f":"1/入力部分!$I$39/(2*3.14)^0.5*EXP(-1/2*(((AB21+入力部分!$I$48)-入力部分!$I$30)/入力部分!$I$39)^2)","v":3.0133776808380395E-5},4.5200665212570594E-4]
[null,null,null,null,null,null,null,null,16,{"$f":"(入力部分!D$7*N22+入力部分!D$8*S22+入力部分!D$9*X22+入力部分!D$10*AC22)/(SUM(入力部分!D$7:D$10))","v":1.2641975339582527E-3},null,null,16,{"$f":"1/入力部分!$I$36/(2*3.14)^0.5*EXP(-1/2*(((M22+入力部分!$I$45)-入力部分!$I$27)/入力部分!$I$36)^2)","v":1.553260063694463E-3},2.4852161019111408E-2,null,null,16,{"$f":"1/入力部分!$I$37/(2*3.14)^0.5*EXP(-1/2*(((R22+入力部分!$I$46)-入力部分!$I$28)/入力部分!$I$37)^2)","v":1.904867585568352E-3},3.0477881369093632E-2,null,null,16,{"$f":"1/入力部分!$I$38/(2*3.14)^0.5*EXP(-1/2*(((W22+入力部分!$I$47)-入力部分!$I$29)/入力部分!$I$38)^2)","v":1.381836298601177E-3},2.2109380777618832E-2,null,null,16,{"$f":"1/入力部分!$I$39/(2*3.14)^0.5*EXP(-1/2*(((AB22+入力部分!$I$48)-入力部分!$I$30)/入力部分!$I$39)^2)","v":4.1022427032074504E-5},6.5635883251319207E-4]
[null,null,null,null,null,null,null,null,17,{"$f":"(入力部分!D$7*N23+入力部分!D$8*S23+入力部分!D$9*X23+入力部分!D$10*AC23)/(SUM(入力部分!D$7:D$10))","v":1.3171387753710333E-3},null,null,17,{"$f":"1/入力部分!$I$36/(2*3.14)^0.5*EXP(-1/2*(((M23+入力部分!$I$45)-入力部分!$I$27)/入力部分!$I$36)^2)","v":1.574998895234438E-3},2.6774981218985444E-2,null,null,17,{"$f":"1/入力部分!$I$37/(2*3.14)^0.5*EXP(-1/2*(((R23+入力部分!$I$46)-入力部分!$I$28)/入力部分!$I$37)^2)","v":1.9584632982711566E-3},3.3293876070609664E-2,null,null,17,{"$f":"1/入力部分!$I$38/(2*3.14)^0.5*EXP(-1/2*(((W23+入力部分!$I$47)-入力部分!$I$29)/入力部分!$I$38)^2)","v":1.4879015574581584E-3},2.5294326476788694E-2,null,null,17,{"$f":"1/入力部分!$I$39/(2*3.14)^0.5*EXP(-1/2*(((AB23+入力部分!$I$48)-入力部分!$I$30)/入力部分!$I$39)^2)","v":5.5459149002021169E-5},9.4280553303435983E-4]
[null,null,null,null,null,null,null,null,18,{"$f":"(入力部分!D$7*N24+入力部分!D$8*S24+入力部分!D$9*X24+入力部分!D$10*AC24)/(SUM(入力部分!D$7:D$10))","v":1.3731287617823015E-3},null,null,18,{"$f":"1/入力部分!$I$36/(2*3.14)^0.5*EXP(-1/2*(((M24+入力部分!$I$45)-入力部分!$I$27)/入力部分!$I$36)^2)","v":1.5968790365877626E-3},2.8743822658579728E-2,null,null,18,{"$f":"1/入力部分!$I$37/(2*3.14)^0.5*EXP(-1/2*(((R24+入力部分!$I$46)-入力部分!$I$28)/入力部分!$I$37)^2)","v":2.0129601759223703E-3},3.6233283166602667E-2,null,null,18,{"$f":"1/入力部分!$I$38/(2*3.14)^0.5*EXP(-1/2*(((W24+入力部分!$I$47)-入力部分!$I$29)/入力部分!$I$38)^2)","v":1.6001776505670713E-3},2.8803197710207284E-2,null,null,18,{"$f":"1/入力部分!$I$39/(2*3.14)^0.5*EXP(-1/2*(((AB24+入力部分!$I$48)-入力部分!$I$30)/入力部分!$I$39)^2)","v":7.4457614384698385E-5},1.3402370589245709E-3]
[null,null,null,null,null,null,null,null,19,{"$f":"(入力部分!D$7*N25+入力部分!D$8*S25+入力部分!D$9*X25+入力部分!D$10*AC25)/(SUM(入力部分!D$7:D$10))","v":1.4325247417677296E-3},null,null,19,{"$f":"1/入力部分!$I$36/(2*3.14)^0.5*EXP(-1/2*(((M25+入力部分!$I$45)-入力部分!$I$27)/入力部分!$I$36)^2)","v":1.6188979551899612E-3},3.0759061148609261E-2,null,null,19,{"$f":"1/入力部分!$I$37/(2*3.14)^0.5*EXP(-1/2*(((R25+入力部分!$I$46)-入力部分!$I$28)/入力部分!$I$37)^2)","v":2.0683499909895961E-3},3.9298649828802323E-2,null,null,19,{"$f":"1/入力部分!$I$38/(2*3.14)^0.5*EXP(-1/2*(((W25+入力部分!$I$47)-入力部分!$I$29)/入力部分!$I$38)^2)","v":1.7188524708461454E-3},3.2658196946076759E-2,null,null,19,{"$f":"1/入力部分!$I$39/(2*3.14)^0.5*EXP(-1/2*(((AB25+入力部分!$I$48)-入力部分!$I$30)/入力部分!$I$39)^2)","v":9.9272532145398555E-5},1.8861781107625726E-3]
[null,null,null,null,null,null,null,null,20,{"$f":"(入力部分!D$7*N26+入力部分!D$8*S26+入力部分!D$9*X26+入力部分!D$10*AC26)/(SUM(入力部分!D$7:D$10))","v":1.49575185022364E-3},null,null,20,{"$f":"1/入力部分!$I$36/(2*3.14)^0.5*EXP(-1/2*(((M26+入力部分!$I$45)-入力部分!$I$27)/入力部分!$I$36)^2)","v":1.6410530406564185E-3},3.2821060813128369E-2,null,null,20,{"$f":"1/入力部分!$I$37/(2*3.14)^0.5*EXP(-1/2*(((R26+入力部分!$I$46)-入力部分!$I$28)/入力部分!$I$37)^2)","v":2.1246234698984426E-3},4.249246939796885E-2,null,null,20,{"$f":"1/入力部分!$I$38/(2*3.14)^0.5*EXP(-1/2*(((W26+入力部分!$I$47)-入力部分!$I$29)/入力部分!$I$38)^2)","v":1.8441039816233962E-3},3.6882079632467923E-2,null,null,20,{"$f":"1/入力部分!$I$39/(2*3.14)^0.5*EXP(-1/2*(((AB26+入力部分!$I$48)-入力部分!$I$30)/入力部分!$I$39)^2)","v":1.3144169409529005E-4},2.6288338819058011E-3]
[null,null,null,null,null,null,null,null,21,{"$f":"(入力部分!D$7*N27+入力部分!D$8*S27+入力部分!D$9*X27+入力部分!D$10*AC27)/(SUM(入力部分!D$7:D$10))","v":1.5633139140062318E-3},null,null,21,{"$f":"1/入力部分!$I$36/(2*3.14)^0.5*EXP(-1/2*(((M27+入力部分!$I$45)-入力部分!$I$27)/入力部分!$I$36)^2)","v":1.6633416047819778E-3},3.4930173700421535E-2,null,null,21,{"$f":"1/入力部分!$I$37/(2*3.14)^0.5*EXP(-1/2*(((R27+入力部分!$I$46)-入力部分!$I$28)/入力部分!$I$37)^2)","v":2.1817702755830152E-3},4.5817175787243321E-2,null,null,21,{"$f":"1/入力部分!$I$38/(2*3.14)^0.5*EXP(-1/2*(((W27+入力部分!$I$47)-入力部分!$I$29)/入力部分!$I$38)^2)","v":1.9760985916675183E-3},4.1498070425017887E-2,null,null,21,{"$f":"1/入力部分!$I$39/(2*3.14)^0.5*EXP(-1/2*(((AB27+入力部分!$I$48)-入力部分!$I$30)/入力部分!$I$39)^2)","v":1.7283084859189785E-4},3.6294478204298548E-3]
[null,null,null,null,null,null,null,null,22,{"$f":"(入力部分!D$7*N28+入力部分!D$8*S28+入力部分!D$9*X28+入力部分!D$10*AC28)/(SUM(入力部分!D$7:D$10))","v":1.6358046506486546E-3},null,null,22,{"$f":"1/入力部分!$I$36/(2*3.14)^0.5*EXP(-1/2*(((M28+入力部分!$I$45)-入力部分!$I$27)/入力部分!$I$36)^2)","v":1.6857608815805027E-3},3.7086739394771057E-2,null,null,22,{"$f":"1/入力部分!$I$37/(2*3.14)^0.5*EXP(-1/2*(((R28+入力部分!$I$46)-入力部分!$I$28)/入力部分!$I$37)^2)","v":2.2397789911831217E-3},4.9275137806028678E-2,null,null,22,{"$f":"1/入力部分!$I$38/(2*3.14)^0.5*EXP(-1/2*(((W28+入力部分!$I$47)-入力部分!$I$29)/入力部分!$I$38)^2)","v":2.1149894829211998E-3},4.6529768624266395E-2,null,null,22,{"$f":"1/入力部分!$I$39/(2*3.14)^0.5*EXP(-1/2*(((AB28+入力部分!$I$48)-入力部分!$I$30)/入力部分!$I$39)^2)","v":2.2568019210848414E-4},4.9649642263866513E-3]
[null,null,null,null,null,null,null,null,23,{"$f":"(入力部分!D$7*N29+入力部分!D$8*S29+入力部分!D$9*X29+入力部分!D$10*AC29)/(SUM(入力部分!D$7:D$10))","v":1.7139188383649558E-3},null,null,23,{"$f":"1/入力部分!$I$36/(2*3.14)^0.5*EXP(-1/2*(((M29+入力部分!$I$45)-入力部分!$I$27)/入力部分!$I$36)^2)","v":1.7083080273649189E-3},3.9291084629393132E-2,null,null,23,{"$f":"1/入力部分!$I$37/(2*3.14)^0.5*EXP(-1/2*(((R29+入力部分!$I$46)-入力部分!$I$28)/入力部分!$I$37)^2)","v":2.2986371049492538E-3},5.2868653413832838E-2,null,null,23,{"$f":"1/入力部分!$I$38/(2*3.14)^0.5*EXP(-1/2*(((W29+入力部分!$I$47)-入力部分!$I$29)/入力部分!$I$38)^2)","v":2.2609149000082365E-3},5.2001042700189438E-2,null,null,23,{"$f":"1/入力部分!$I$39/(2*3.14)^0.5*EXP(-1/2*(((AB29+入力部分!$I$48)-入力部分!$I$30)/入力部分!$I$39)^2)","v":2.9265078234524619E-4},6.7309679939406624E-3]
[null,null,null,null,null,null,null,null,24,{"$f":"(入力部分!D$7*N30+入力部分!D$8*S30+入力部分!D$9*X30+入力部分!D$10*AC30)/(SUM(入力部分!D$7:D$10))","v":1.7984629020344463E-3},null,null,24,{"$f":"1/入力部分!$I$36/(2*3.14)^0.5*EXP(-1/2*(((M30+入力部分!$I$45)-入力部分!$I$27)/入力部分!$I$36)^2)","v":1.7309801208682482E-3},4.1543522900837959E-2,null,null,24,{"$f":"1/入力部分!$I$37/(2*3.14)^0.5*EXP(-1/2*(((R30+入力部分!$I$46)-入力部分!$I$28)/入力部分!$I$37)^2)","v":2.3583309964154866E-3},5.6599943913971676E-2,null,null,24,{"$f":"1/入力部分!$I$38/(2*3.14)^0.5*EXP(-1/2*(((W30+入力部分!$I$47)-入力部分!$I$29)/入力部分!$I$38)^2)","v":2.4139964115741518E-3},5.7935913877779646E-2,null,null,24,{"$f":"1/入力部分!$I$39/(2*3.14)^0.5*EXP(-1/2*(((AB30+入力部分!$I$48)-入力部分!$I$30)/入力部分!$I$39)^2)","v":3.7686864150628037E-4},9.0448473961507285E-3]
[null,null,null,null,null,null,null,null,25,{"$f":"(入力部分!D$7*N31+入力部分!D$8*S31+入力部分!D$9*X31+入力部分!D$10*AC31)/(SUM(入力部分!D$7:D$10))","v":1.8903642197165781E-3},null,null,25,{"$f":"1/入力部分!$I$36/(2*3.14)^0.5*EXP(-1/2*(((M31+入力部分!$I$45)-入力部分!$I$27)/入力部分!$I$36)^2)","v":1.7537741634061049E-3},4.3844354085152623E-2,null,null,25,{"$f":"1/入力部分!$I$37/(2*3.14)^0.5*EXP(-1/2*(((R31+入力部分!$I$46)-入力部分!$I$28)/入力部分!$I$37)^2)","v":2.4188459238993292E-3},6.0471148097483232E-2,null,null,25,{"$f":"1/入力部分!$I$38/(2*3.14)^0.5*EXP(-1/2*(((W31+入力部分!$I$47)-入力部分!$I$29)/入力部分!$I$38)^2)","v":2.5743371544787084E-3},6.4358428861967715E-2,null,null,25,{"$f":"1/入力部分!$I$39/(2*3.14)^0.5*EXP(-1/2*(((AB31+入力部分!$I$48)-入力部分!$I$30)/入力部分!$I$39)^2)","v":4.8196375683555762E-4},1.204909392088894E-2]
[null,null,null,null,null,null,null,null,26,{"$f":"(入力部分!D$7*N32+入力部分!D$8*S32+入力部分!D$9*X32+入力部分!D$10*AC32)/(SUM(入力部分!D$7:D$10))","v":1.990678315386627E-3},null,null,26,{"$f":"1/入力部分!$I$36/(2*3.14)^0.5*EXP(-1/2*(((M32+入力部分!$I$45)-入力部分!$I$27)/入力部分!$I$36)^2)","v":1.776687079081107E-3},4.6193864056108785E-2,null,null,26,{"$f":"1/入力部分!$I$37/(2*3.14)^0.5*EXP(-1/2*(((R32+入力部分!$I$46)-入力部分!$I$28)/入力部分!$I$37)^2)","v":2.4801660133862823E-3},6.4484316348043344E-2,null,null,26,{"$f":"1/入力部分!$I$38/(2*3.14)^0.5*EXP(-1/2*(((W32+入力部分!$I$47)-入力部分!$I$29)/入力部分!$I$38)^2)","v":2.7420200727749557E-3},7.1292521892148852E-2,null,null,26,{"$f":"1/入力部分!$I$39/(2*3.14)^0.5*EXP(-1/2*(((AB32+入力部分!$I$48)-入力部分!$I$30)/入力部分!$I$39)^2)","v":6.1210062915157553E-4},1.5914616357940965E-2]
[null,null,null,null,null,null,null,null,27,{"$f":"(入力部分!D$7*N33+入力部分!D$8*S33+入力部分!D$9*X33+入力部分!D$10*AC33)/(SUM(入力部分!D$7:D$10))","v":2.1005929762203104E-3},null,null,27,{"$f":"1/入力部分!$I$36/(2*3.14)^0.5*EXP(-1/2*(((M33+入力部分!$I$45)-入力部分!$I$27)/入力部分!$I$36)^2)","v":1.7997157150296396E-3},4.8592324305800266E-2,null,null,27,{"$f":"1/入力部分!$I$37/(2*3.14)^0.5*EXP(-1/2*(((R33+入力部分!$I$46)-入力部分!$I$28)/入力部分!$I$37)^2)","v":2.5422742488554117E-3},6.8641404719096119E-2,null,null,27,{"$f":"1/入力部分!$I$38/(2*3.14)^0.5*EXP(-1/2*(((W33+入力部分!$I$47)-入力部分!$I$29)/入力部分!$I$38)^2)","v":2.9171061642700039E-3},7.8761866435290109E-2,null,null,27,{"$f":"1/入力部分!$I$39/(2*3.14)^0.5*EXP(-1/2*(((AB33+入力部分!$I$48)-入力部分!$I$30)/入力部分!$I$39)^2)","v":7.7199650981330046E-4},2.0843905764959113E-2]
[null,null,null,null,null,null,null,null,28,{"$f":"(入力部分!D$7*N34+入力部分!D$8*S34+入力部分!D$9*X34+入力部分!D$10*AC34)/(SUM(入力部分!D$7:D$10))","v":2.2214282292158877E-3},null,null,28,{"$f":"1/入力部分!$I$36/(2*3.14)^0.5*EXP(-1/2*(((M34+入力部分!$I$45)-入力部分!$I$27)/入力部分!$I$36)^2)","v":1.8228568417113743E-3},5.1039991567918483E-2,null,null,28,{"$f":"1/入力部分!$I$37/(2*3.14)^0.5*EXP(-1/2*(((R34+入力部分!$I$46)-入力部分!$I$28)/入力部分!$I$37)^2)","v":2.6051524641006281E-3},7.2944268994817582E-2,null,null,28,{"$f":"1/入力部分!$I$38/(2*3.14)^0.5*EXP(-1/2*(((W34+入力部分!$I$47)-入力部分!$I$29)/入力部分!$I$38)^2)","v":3.0996327482542131E-3},8.6789716951117965E-2,null,null,28,{"$f":"1/入力部分!$I$39/(2*3.14)^0.5*EXP(-1/2*(((AB34+入力部分!$I$48)-入力部分!$I$30)/入力部分!$I$39)^2)","v":9.6692305160270958E-4},2.7073845444875868E-2]
[null,null,null,null,null,null,null,null,29,{"$f":"(入力部分!D$7*N35+入力部分!D$8*S35+入力部分!D$9*X35+入力部分!D$10*AC35)/(SUM(入力部分!D$7:D$10))","v":2.354631046215268E-3},null,null,29,{"$f":"1/入力部分!$I$36/(2*3.14)^0.5*EXP(-1/2*(((M35+入力部分!$I$45)-入力部分!$I$27)/入力部分!$I$36)^2)","v":1.8461071532419166E-3},5.3537107444015582E-2,null,null,29,{"$f":"1/入力部分!$I$37/(2*3.14)^0.5*EXP(-1/2*(((R35+入力部分!$I$46)-入力部分!$I$28)/入力部分!$I$37)^2)","v":2.6687813361005517E-3},7.7394658746916006E-2,null,null,29,{"$f":"1/入力部分!$I$38/(2*3.14)^0.5*EXP(-1/2*(((W35+入力部分!$I$47)-入力部分!$I$29)/入力部分!$I$38)^2)","v":3.2896117686943538E-3},9.5398741292136255E-2,null,null,29,{"$f":"1/入力部分!$I$39/(2*3.14)^0.5*EXP(-1/2*(((AB35+入力部分!$I$48)-入力部分!$I$30)/入力部分!$I$39)^2)","v":1.2026868353949324E-3},3.4877918226453038E-2]
[null,null,null,null,null,null,null,null,30,{"$f":"(入力部分!D$7*N36+入力部分!D$8*S36+入力部分!D$9*X36+入力部分!D$10*AC36)/(SUM(入力部分!D$7:D$10))","v":2.5017636333973174E-3},null,null,30,{"$f":"1/入力部分!$I$36/(2*3.14)^0.5*EXP(-1/2*(((M36+入力部分!$I$45)-入力部分!$I$27)/入力部分!$I$36)^2)","v":1.8694632677689472E-3},5.6083898033068416E-2,null,null,30,{"$f":"1/入力部分!$I$37/(2*3.14)^0.5*EXP(-1/2*(((R36+入力部分!$I$46)-入力部分!$I$28)/入力部分!$I$37)^2)","v":2.7331403799878747E-3},8.1994211399636238E-2,null,null,30,{"$f":"1/入力部分!$I$38/(2*3.14)^0.5*EXP(-1/2*(((W36+入力部分!$I$47)-入力部分!$I$29)/入力部分!$I$38)^2)","v":3.4870281477992469E-3},0.1046108444339774,null,null,30,{"$f":"1/入力部分!$I$39/(2*3.14)^0.5*EXP(-1/2*(((AB36+入力部分!$I$48)-入力部分!$I$30)/入力部分!$I$39)^2)","v":1.4855841819237355E-3},4.4567525457712066E-2]
[null,null,null,null,null,null,null,null,31,{"$f":"(入力部分!D$7*N37+入力部分!D$8*S37+入力部分!D$9*X37+入力部分!D$10*AC37)/(SUM(入力部分!D$7:D$10))","v":2.6644842159119502E-3},null,null,31,{"$f":"1/入力部分!$I$36/(2*3.14)^0.5*EXP(-1/2*(((M37+入力部分!$I$45)-入力部分!$I$27)/入力部分!$I$36)^2)","v":1.8929217278921802E-3},5.8680573564657584E-2,null,null,31,{"$f":"1/入力部分!$I$37/(2*3.14)^0.5*EXP(-1/2*(((R37+入力部分!$I$46)-入力部分!$I$28)/入力部分!$I$37)^2)","v":2.7982079456669788E-3},8.6744446315676349E-2,null,null,31,{"$f":"1/入力部分!$I$38/(2*3.14)^0.5*EXP(-1/2*(((W37+入力部分!$I$47)-入力部分!$I$29)/入力部分!$I$38)^2)","v":3.691838205370349E-3},0.11444698436648082,null,null,31,{"$f":"1/入力部分!$I$39/(2*3.14)^0.5*EXP(-1/2*(((AB37+入力部分!$I$48)-入力部分!$I$30)/入力部分!$I$39)^2)","v":1.8223258758308931E-3},5.6492102150757686E-2]
[null,null,null,null,null,null,null,null,32,{"$f":"(入力部分!D$7*N38+入力部分!D$8*S38+入力部分!D$9*X38+入力部分!D$10*AC38)/(SUM(入力部分!D$7:D$10))","v":2.8445193639839183E-3},null,null,32,{"$f":"1/入力部分!$I$36/(2*3.14)^0.5*EXP(-1/2*(((M38+入力部分!$I$45)-入力部分!$I$27)/入力部分!$I$36)^2)","v":1.9164790011274306E-3},6.132732803607778E-2,null,null,32,{"$f":"1/入力部分!$I$37/(2*3.14)^0.5*EXP(-1/2*(((R38+入力部分!$I$46)-入力部分!$I$28)/入力部分!$I$37)^2)","v":2.8639612161262527E-3},9.1646758916040086E-2,null,null,32,{"$f":"1/入力部分!$I$38/(2*3.14)^0.5*EXP(-1/2*(((W38+入力部分!$I$47)-入力部分!$I$29)/入力部分!$I$38)^2)","v":3.9039681597322308E-3},0.12492698111143138,null,null,32,{"$f":"1/入力部分!$I$39/(2*3.14)^0.5*EXP(-1/2*(((AB38+入力部分!$I$48)-入力部分!$I$30)/入力部分!$I$39)^2)","v":2.2199279714503477E-3},7.1037695086411126E-2]
[null,null,null,null,null,null,null,null,33,{"$f":"(入力部分!D$7*N39+入力部分!D$8*S39+入力部分!D$9*X39+入力部分!D$10*AC39)/(SUM(入力部分!D$7:D$10))","v":3.0436271341689751E-3},null,null,33,{"$f":"1/入力部分!$I$36/(2*3.14)^0.5*EXP(-1/2*(((M39+入力部分!$I$45)-入力部分!$I$27)/入力部分!$I$36)^2)","v":1.940131480415077E-3},6.4024338853697543E-2,null,null,33,{"$f":"1/入力部分!$I$37/(2*3.14)^0.5*EXP(-1/2*(((R39+入力部分!$I$46)-入力部分!$I$28)/入力部分!$I$37)^2)","v":2.9303762074890565E-3},9.6702414847138859E-2,null,null,33,{"$f":"1/入力部分!$I$38/(2*3.14)^0.5*EXP(-1/2*(((W39+入力部分!$I$47)-入力部分!$I$29)/入力部分!$I$38)^2)","v":4.123312726287123E-3},0.13606931996747507,null,null,33,{"$f":"1/入力部分!$I$39/(2*3.14)^0.5*EXP(-1/2*(((AB39+入力部分!$I$48)-入力部分!$I$30)/入力部分!$I$39)^2)","v":2.6855657589476547E-3},8.8623670045272607E-2]
[null,null,null,null,null,null,null,null,34,{"$f":"(入力部分!D$7*N40+入力部分!D$8*S40+入力部分!D$9*X40+入力部分!D$10*AC40)/(SUM(入力部分!D$7:D$10))","v":3.2635506246685656E-3},null,null,34,{"$f":"1/入力部分!$I$36/(2*3.14)^0.5*EXP(-1/2*(((M40+入力部分!$I$45)-入力部分!$I$27)/入力部分!$I$36)^2)","v":1.9638754846731561E-3},6.6771766478887301E-2,null,null,34,{"$f":"1/入力部分!$I$37/(2*3.14)^0.5*EXP(-1/2*(((R40+入力部分!$I$46)-入力部分!$I$28)/入力部分!$I$37)^2)","v":2.9974277708446242E-3},0.10191254420871722,null,null,34,{"$f":"1/入力部分!$I$38/(2*3.14)^0.5*EXP(-1/2*(((W40+入力部分!$I$47)-入力部分!$I$29)/入力部分!$I$38)^2)","v":4.3497338298427567E-3},0.14789095021465373,null,null,34,{"$f":"1/入力部分!$I$39/(2*3.14)^0.5*EXP(-1/2*(((AB40+入力部分!$I$48)-入力部分!$I$30)/入力部分!$I$39)^2)","v":3.2263892702279902E-3},0.10969723518775167]
[null,null,null,null,null,null,null,null,35,{"$f":"(入力部分!D$7*N41+入力部分!D$8*S41+入力部分!D$9*X41+入力部分!D$10*AC41)/(SUM(入力部分!D$7:D$10))","v":3.5059619668483658E-3},null,null,35,{"$f":"1/入力部分!$I$36/(2*3.14)^0.5*EXP(-1/2*(((M41+入力部分!$I$45)-入力部分!$I$27)/入力部分!$I$36)^2)","v":1.9877072593952991E-3},6.9569754078835463E-2,null,null,35,{"$f":"1/入力部分!$I$37/(2*3.14)^0.5*EXP(-1/2*(((R41+入力部分!$I$46)-入力部分!$I$28)/入力部分!$I$37)^2)","v":3.065089595897384E-3},0.10727813585640844,null,null,35,{"$f":"1/入力部分!$I$38/(2*3.14)^0.5*EXP(-1/2*(((W41+入力部分!$I$47)-入力部分!$I$29)/入力部分!$I$38)^2)","v":4.5830594468140012E-3},0.16040708063849005,null,null,35,{"$f":"1/入力部分!$I$39/(2*3.14)^0.5*EXP(-1/2*(((AB41+入力部分!$I$48)-入力部分!$I$30)/入力部分!$I$39)^2)","v":3.8493003970357371E-3},0.13472551389625079]
[null,null,null,null,null,null,null,null,36,{"$f":"(入力部分!D$7*N42+入力部分!D$8*S42+入力部分!D$9*X42+入力部分!D$10*AC42)/(SUM(入力部分!D$7:D$10))","v":3.7723972890811954E-3},null,null,36,{"$f":"1/入力部分!$I$36/(2*3.14)^0.5*EXP(-1/2*(((M42+入力部分!$I$45)-入力部分!$I$27)/入力部分!$I$36)^2)","v":2.0116229772937045E-3},7.2418427182573367E-2,null,null,36,{"$f":"1/入力部分!$I$37/(2*3.14)^0.5*EXP(-1/2*(((R42+入力部分!$I$46)-入力部分!$I$28)/入力部分!$I$37)^2)","v":3.1333342164701701E-3},0.11280003179292612,null,null,36,{"$f":"1/入力部分!$I$38/(2*3.14)^0.5*EXP(-1/2*(((W42+入力部分!$I$47)-入力部分!$I$29)/入力部分!$I$38)^2)","v":4.8230825931877596E-3},0.17363097335475935,null,null,36,{"$f":"1/入力部分!$I$39/(2*3.14)^0.5*EXP(-1/2*(((AB42+入力部分!$I$48)-入力部分!$I$30)/入力部分!$I$39)^2)","v":4.5606937497849149E-3},0.16418497499225693]
[null,null,null,null,null,null,null,null,37,{"$f":"(入力部分!D$7*N43+入力部分!D$8*S43+入力部分!D$9*X43+入力部分!D$10*AC43)/(SUM(入力部分!D$7:D$10))","v":4.0641837780078845E-3},null,null,37,{"$f":"1/入力部分!$I$36/(2*3.14)^0.5*EXP(-1/2*(((M43+入力部分!$I$45)-入力部分!$I$27)/入力部分!$I$36)^2)","v":2.0356187389872957E-3},7.5317893342529946E-2,null,null,37,{"$f":"1/入力部分!$I$37/(2*3.14)^0.5*EXP(-1/2*(((R43+入力部分!$I$46)-入力部分!$I$28)/入力部分!$I$37)^2)","v":3.2021330178936889E-3},0.11847892166206649,null,null,37,{"$f":"1/入力部分!$I$38/(2*3.14)^0.5*EXP(-1/2*(((W43+入力部分!$I$47)-入力部分!$I$29)/入力部分!$I$38)^2)","v":5.0695604737605541E-3},0.1875737375291405,null,null,37,{"$f":"1/入力部分!$I$39/(2*3.14)^0.5*EXP(-1/2*(((AB43+入力部分!$I$48)-入力部分!$I$30)/入力部分!$I$39)^2)","v":5.3661657419368019E-3},0.19854813245166167]
[null,null,null,null,null,null,null,null,38,{"$f":"(入力部分!D$7*N44+入力部分!D$8*S44+入力部分!D$9*X44+入力部分!D$10*AC44)/(SUM(入力部分!D$7:D$10))","v":4.3823606015950317E-3},null,null,38,{"$f":"1/入力部分!$I$36/(2*3.14)^0.5*EXP(-1/2*(((M44+入力部分!$I$45)-入力部分!$I$27)/入力部分!$I$36)^2)","v":2.0596905737351959E-3},7.8268241801937449E-2,null,null,38,{"$f":"1/入力部分!$I$37/(2*3.14)^0.5*EXP(-1/2*(((R44+入力部分!$I$46)-入力部分!$I$28)/入力部分!$I$37)^2)","v":3.271456246311298E-3},0.12431533735982933,null,null,38,{"$f":"1/入力部分!$I$38/(2*3.14)^0.5*EXP(-1/2*(((W44+入力部分!$I$47)-入力部分!$I$29)/入力部分!$I$38)^2)","v":5.3222138076038199E-3},0.20224412468894515,null,null,38,{"$f":"1/入力部分!$I$39/(2*3.14)^0.5*EXP(-1/2*(((AB44+入力部分!$I$48)-入力部分!$I$30)/入力部分!$I$39)^2)","v":6.270198942441762E-3},0.23826755981278697]
[null,null,null,null,null,null,null,null,39,{"$f":"(入力部分!D$7*N45+入力部分!D$8*S45+入力部分!D$9*X45+入力部分!D$10*AC45)/(SUM(入力部分!D$7:D$10))","v":4.7275961145511981E-3},null,null,39,{"$f":"1/入力部分!$I$36/(2*3.14)^0.5*EXP(-1/2*(((M45+入力部分!$I$45)-入力部分!$I$27)/入力部分!$I$36)^2)","v":2.0838344402155989E-3},8.1269543168408356E-2,null,null,39,{"$f":"1/入力部分!$I$37/(2*3.14)^0.5*EXP(-1/2*(((R45+入力部分!$I$46)-入力部分!$I$28)/入力部分!$I$37)^2)","v":3.3412730199247295E-3},0.13030964777706444,null,null,39,{"$f":"1/入力部分!$I$38/(2*3.14)^0.5*EXP(-1/2*(((W45+入力部分!$I$47)-入力部分!$I$29)/入力部分!$I$38)^2)","v":5.5807263439801059E-3},0.21764832741522414,null,null,39,{"$f":"1/入力部分!$I$39/(2*3.14)^0.5*EXP(-1/2*(((AB45+入力部分!$I$48)-入力部分!$I$30)/入力部分!$I$39)^2)","v":7.2758313642297904E-3},0.28375742320496183]
[null,null,null,null,null,null,null,null,40,{"$f":"(入力部分!D$7*N46+入力部分!D$8*S46+入力部分!D$9*X46+入力部分!D$10*AC46)/(SUM(入力部分!D$7:D$10))","v":5.1001043986476655E-3},null,null,40,{"$f":"1/入力部分!$I$36/(2*3.14)^0.5*EXP(-1/2*(((M46+入力部分!$I$45)-入力部分!$I$27)/入力部分!$I$36)^2)","v":2.108046227350115E-3},8.43218490940046E-2,null,null,40,{"$f":"1/入力部分!$I$37/(2*3.14)^0.5*EXP(-1/2*(((R46+入力部分!$I$46)-入力部分!$I$28)/入力部分!$I$37)^2)","v":3.4115513422028169E-3},0.13646205368811268,null,null,40,{"$f":"1/入力部分!$I$38/(2*3.14)^0.5*EXP(-1/2*(((W46+入力部分!$I$47)-入力部分!$I$29)/入力部分!$I$38)^2)","v":5.8447445820227154E-3},0.2337897832809086,null,null,40,{"$f":"1/入力部分!$I$39/(2*3.14)^0.5*EXP(-1/2*(((AB46+入力部分!$I$48)-入力部分!$I$30)/入力部分!$I$39)^2)","v":8.384322885588661E-3},0.33537291542354641]
[null,null,null,null,null,null,null,null,41,{"$f":"(入力部分!D$7*N47+入力部分!D$8*S47+入力部分!D$9*X47+入力部分!D$10*AC47)/(SUM(入力部分!D$7:D$10))","v":5.4995647514389815E-3},null,null,41,{"$f":"1/入力部分!$I$36/(2*3.14)^0.5*EXP(-1/2*(((M47+入力部分!$I$45)-入力部分!$I$27)/入力部分!$I$36)^2)","v":2.132321755173612E-3},8.7425191962118093E-2,null,null,41,{"$f":"1/入力部分!$I$37/(2*3.14)^0.5*EXP(-1/2*(((R47+入力部分!$I$46)-入力部分!$I$28)/入力部分!$I$37)^2)","v":3.482258117071571E-3},0.14277258279993441,null,null,41,{"$f":"1/入力部分!$I$38/(2*3.14)^0.5*EXP(-1/2*(((W47+入力部分!$I$47)-入力部分!$I$29)/入力部分!$I$38)^2)","v":6.1138777064026579E-3},0.25066898596250897,null,null,41,{"$f":"1/入力部分!$I$39/(2*3.14)^0.5*EXP(-1/2*(((AB47+入力部分!$I$48)-入力部分!$I$30)/入力部分!$I$39)^2)","v":9.5948332461591058E-3},0.39338816309252334]
[null,null,null,null,null,null,null,null,42,{"$f":"(入力部分!D$7*N48+入力部分!D$8*S48+入力部分!D$9*X48+入力部分!D$10*AC48)/(SUM(入力部分!D$7:D$10))","v":5.9250481770217788E-3},null,null,42,{"$f":"1/入力部分!$I$36/(2*3.14)^0.5*EXP(-1/2*(((M48+入力部分!$I$45)-入力部分!$I$27)/入力部分!$I$36)^2)","v":2.1566567757495495E-3},9.0579584581481076E-2,null,null,42,{"$f":"1/入力部分!$I$37/(2*3.14)^0.5*EXP(-1/2*(((R48+入力部分!$I$46)-入力部分!$I$28)/入力部分!$I$37)^2)","v":3.553359166100143E-3},0.149241084976206,null,null,42,{"$f":"1/入力部分!$I$38/(2*3.14)^0.5*EXP(-1/2*(((W48+入力部分!$I$47)-入力部分!$I$29)/入力部分!$I$38)^2)","v":6.3876977499434462E-3},0.26828330549762475,null,null,42,{"$f":"1/入力部分!$I$39/(2*3.14)^0.5*EXP(-1/2*(((AB48+入力部分!$I$48)-入力部分!$I$30)/入力部分!$I$39)^2)","v":1.0904127821118681E-2},0.45797336848698461]
[null,null,null,null,null,null,null,null,43,{"$f":"(入力部分!D$7*N49+入力部分!D$8*S49+入力部分!D$9*X49+入力部分!D$10*AC49)/(SUM(入力部分!D$7:D$10))","v":6.3749552026659993E-3},null,null,43,{"$f":"1/入力部分!$I$36/(2*3.14)^0.5*EXP(-1/2*(((M49+入力部分!$I$45)-入力部分!$I$27)/入力部分!$I$36)^2)","v":2.181046974130775E-3},9.3785019887623333E-2,null,null,43,{"$f":"1/入力部分!$I$37/(2*3.14)^0.5*EXP(-1/2*(((R49+入力部分!$I$46)-入力部分!$I$28)/入力部分!$I$37)^2)","v":3.624819247693241E-3},0.15586722765080935,null,null,43,{"$f":"1/入力部分!$I$38/(2*3.14)^0.5*EXP(-1/2*(((W49+入力部分!$I$47)-入力部分!$I$29)/入力部分!$I$38)^2)","v":6.6657399927114221E-3},0.28662681968659115,null,null,43,{"$f":"1/入力部分!$I$39/(2*3.14)^0.5*EXP(-1/2*(((AB49+入力部分!$I$48)-入力部分!$I$30)/入力部分!$I$39)^2)","v":1.2306328459347326E-2},0.52917212375193501]
[null,null,null,null,null,null,null,null,44,{"$f":"(入力部分!D$7*N50+入力部分!D$8*S50+入力部分!D$9*X50+入力部分!D$10*AC50)/(SUM(入力部分!D$7:D$10))","v":6.8469694009899544E-3},null,null,44,{"$f":"1/入力部分!$I$36/(2*3.14)^0.5*EXP(-1/2*(((M50+入力部分!$I$45)-入力部分!$I$27)/入力部分!$I$36)^2)","v":2.2054879693657117E-3},9.7041470652091316E-2,null,null,44,{"$f":"1/入力部分!$I$37/(2*3.14)^0.5*EXP(-1/2*(((R50+入力部分!$I$46)-入力部分!$I$28)/入力部分!$I$37)^2)","v":3.6966020782965275E-3},0.1626504914450472,null,null,44,{"$f":"1/入力部分!$I$38/(2*3.14)^0.5*EXP(-1/2*(((W50+入力部分!$I$47)-入力部分!$I$29)/入力部分!$I$38)^2)","v":6.9475036055148673E-3},0.30569015864265414,null,null,44,{"$f":"1/入力部分!$I$39/(2*3.14)^0.5*EXP(-1/2*(((AB50+入力部分!$I$48)-入力部分!$I$30)/入力部分!$I$39)^2)","v":1.3792726896317302E-2},0.60687998343796123]
[null,null,null,null,null,null,null,null,45,{"$f":"(入力部分!D$7*N51+入力部分!D$8*S51+入力部分!D$9*X51+入力部分!D$10*AC51)/(SUM(入力部分!D$7:D$10))","v":7.3380308034859312E-3},null,null,45,{"$f":"1/入力部分!$I$36/(2*3.14)^0.5*EXP(-1/2*(((M51+入力部分!$I$45)-入力部分!$I$27)/入力部分!$I$36)^2)","v":2.2299753155498401E-3},0.1003488891997428,null,null,45,{"$f":"1/入力部分!$I$37/(2*3.14)^0.5*EXP(-1/2*(((R51+入力部分!$I$46)-入力部分!$I$28)/入力部分!$I$37)^2)","v":3.7686703556173754E-3},0.1695901660027819,null,null,45,{"$f":"1/入力部分!$I$38/(2*3.14)^0.5*EXP(-1/2*(((W51+入力部分!$I$47)-入力部分!$I$29)/入力部分!$I$38)^2)","v":7.2324525439992956E-3},0.32546036447996829,null,null,45,{"$f":"1/入力部分!$I$39/(2*3.14)^0.5*EXP(-1/2*(((AB51+入力部分!$I$48)-入力部分!$I$30)/入力部分!$I$39)^2)","v":1.5351677478743445E-2},0.69082548654345499]
[null,null,null,null,null,null,null,null,46,{"$f":"(入力部分!D$7*N52+入力部分!D$8*S52+入力部分!D$9*X52+入力部分!D$10*AC52)/(SUM(入力部分!D$7:D$10))","v":7.844332925552068E-3},null,null,46,{"$f":"1/入力部分!$I$36/(2*3.14)^0.5*EXP(-1/2*(((M52+入力部分!$I$45)-入力部分!$I$27)/入力部分!$I$36)^2)","v":2.2545045029223262E-3},0.10370720713442701,null,null,46,{"$f":"1/入力部分!$I$37/(2*3.14)^0.5*EXP(-1/2*(((R52+入力部分!$I$46)-入力部分!$I$28)/入力部分!$I$37)^2)","v":3.8409857838590865E-3},0.17668534605751798,null,null,46,{"$f":"1/入力部分!$I$38/(2*3.14)^0.5*EXP(-1/2*(((W52+入力部分!$I$47)-入力部分!$I$29)/入力部分!$I$38)^2)","v":7.5200166976412937E-3},0.34592076809149952,null,null,46,{"$f":"1/入力部分!$I$39/(2*3.14)^0.5*EXP(-1/2*(((AB52+入力部分!$I$48)-入力部分!$I$30)/入力部分!$I$39)^2)","v":1.6968584077317189E-2},0.78055486755659076]
[null,null,null,null,null,null,null,null,47,{"$f":"(入力部分!D$7*N53+入力部分!D$8*S53+入力部分!D$9*X53+入力部分!D$10*AC53)/(SUM(入力部分!D$7:D$10))","v":8.3613463805517797E-3},null,null,47,{"$f":"1/入力部分!$I$36/(2*3.14)^0.5*EXP(-1/2*(((M53+入力部分!$I$45)-入力部分!$I$27)/入力部分!$I$36)^2)","v":2.2790709590076474E-3},0.10711633507335942,null,null,47,{"$f":"1/入力部分!$I$37/(2*3.14)^0.5*EXP(-1/2*(((R53+入力部分!$I$46)-入力部分!$I$28)/入力部分!$I$37)^2)","v":3.9135091009623833E-3},0.18393492774523201,null,null,47,{"$f":"1/入力部分!$I$38/(2*3.14)^0.5*EXP(-1/2*(((W53+入力部分!$I$47)-入力部分!$I$29)/入力部分!$I$38)^2)","v":7.8095932959341341E-3},0.36705088490890431,null,null,47,{"$f":"1/入力部分!$I$39/(2*3.14)^0.5*EXP(-1/2*(((AB53+入力部分!$I$48)-入力部分!$I$30)/入力部分!$I$39)^2)","v":1.8625993095325588E-2},0.87542167548030259]
[null,null,null,null,null,null,null,null,48,{"$f":"(入力部分!D$7*N54+入力部分!D$8*S54+入力部分!D$9*X54+入力部分!D$10*AC54)/(SUM(入力部分!D$7:D$10))","v":8.8838710551340152E-3},null,null,48,{"$f":"1/入力部分!$I$36/(2*3.14)^0.5*EXP(-1/2*(((M54+入力部分!$I$45)-入力部分!$I$27)/入力部分!$I$36)^2)","v":2.303670049801994E-3},0.11057616239049571,null,null,48,{"$f":"1/入力部分!$I$37/(2*3.14)^0.5*EXP(-1/2*(((R54+入力部分!$I$46)-入力部分!$I$28)/入力部分!$I$37)^2)","v":3.9862001078435801E-3},0.19133760517649184,null,null,48,{"$f":"1/入力部分!$I$38/(2*3.14)^0.5*EXP(-1/2*(((W54+入力部分!$I$47)-入力部分!$I$29)/入力部分!$I$38)^2)","v":8.1005485719416563E-3},0.3888263314531995,null,null,48,{"$f":"1/入力部分!$I$39/(2*3.14)^0.5*EXP(-1/2*(((AB54+入力部分!$I$48)-入力部分!$I$30)/入力部分!$I$39)^2)","v":2.0303800461928045E-2},0.97458242217254609]
[null,null,null,null,null,null,null,null,49,{"$f":"(入力部分!D$7*N55+入力部分!D$8*S55+入力部分!D$9*X55+入力部分!D$10*AC55)/(SUM(入力部分!D$7:D$10))","v":9.4061175852357924E-3},null,null,49,{"$f":"1/入力部分!$I$36/(2*3.14)^0.5*EXP(-1/2*(((M55+入力部分!$I$45)-入力部分!$I$27)/入力部分!$I$36)^2)","v":2.3282970810042216E-3},0.11408655696920686,null,null,49,{"$f":"1/入力部分!$I$37/(2*3.14)^0.5*EXP(-1/2*(((R55+入力部分!$I$46)-入力部分!$I$28)/入力部分!$I$37)^2)","v":4.0590176996143515E-3},0.19889186728110322,null,null,49,{"$f":"1/入力部分!$I$38/(2*3.14)^0.5*EXP(-1/2*(((W55+入力部分!$I$47)-入力部分!$I$29)/入力部分!$I$38)^2)","v":8.3922196811918592E-3},0.4112187643784011,null,null,49,{"$f":"1/入力部分!$I$39/(2*3.14)^0.5*EXP(-1/2*(((AB55+入力部分!$I$48)-入力部分!$I$30)/入力部分!$I$39)^2)","v":2.1979575569827676E-2},1.076999202921556]
[null,null,null,null,null,null,null,null,50,{"$f":"(入力部分!D$7*N56+入力部分!D$8*S56+入力部分!D$9*X56+入力部分!D$10*AC56)/(SUM(入力部分!D$7:D$10))","v":9.9218174673983608E-3},null,null,50,{"$f":"1/入力部分!$I$36/(2*3.14)^0.5*EXP(-1/2*(((M56+入力部分!$I$45)-入力部分!$I$27)/入力部分!$I$36)^2)","v":2.3529472992910709E-3},0.11764736496455354,null,null,50,{"$f":"1/入力部分!$I$37/(2*3.14)^0.5*EXP(-1/2*(((R56+入力部分!$I$46)-入力部分!$I$28)/入力部分!$I$37)^2)","v":4.131919898763577E-3},0.20659599493817885,null,null,50,{"$f":"1/入力部分!$I$38/(2*3.14)^0.5*EXP(-1/2*(((W56+入力部分!$I$47)-入力部分!$I$29)/入力部分!$I$38)^2)","v":8.6839168716087538E-3},0.43419584358043767,null,null,50,{"$f":"1/入力部分!$I$39/(2*3.14)^0.5*EXP(-1/2*(((AB56+入力部分!$I$48)-入力部分!$I$30)/入力部分!$I$39)^2)","v":2.362899950019379E-2},1.1814499750096896]
[null,null,null,null,null,null,null,null,51,{"$f":"(入力部分!D$7*N57+入力部分!D$8*S57+入力部分!D$9*X57+入力部分!D$10*AC57)/(SUM(入力部分!D$7:D$10))","v":1.0424359637026245E-2},null,null,51,{"$f":"1/入力部分!$I$36/(2*3.14)^0.5*EXP(-1/2*(((M57+入力部分!$I$45)-入力部分!$I$27)/入力部分!$I$36)^2)","v":2.3776158936363624E-3},0.12125841057545449,null,null,51,{"$f":"1/入力部分!$I$37/(2*3.14)^0.5*EXP(-1/2*(((R57+入力部分!$I$46)-入力部分!$I$28)/入力部分!$I$37)^2)","v":4.204863890277106E-3},0.21444805840413242,null,null,51,{"$f":"1/入力部分!$I$38/(2*3.14)^0.5*EXP(-1/2*(((W57+入力部分!$I$47)-入力部分!$I$29)/入力部分!$I$38)^2)","v":8.9749258978630789E-3},0.45772122079101701,null,null,51,{"$f":"1/入力部分!$I$39/(2*3.14)^0.5*EXP(-1/2*(((AB57+入力部分!$I$48)-入力部分!$I$30)/入力部分!$I$39)^2)","v":2.5226408868008057E-2},1.2865468522684109]
[null,null,null,null,null,null,null,null,52,{"$f":"(入力部分!D$7*N58+入力部分!D$8*S58+入力部分!D$9*X58+入力部分!D$10*AC58)/(SUM(入力部分!D$7:D$10))","v":1.0906949831990467E-2},null,null,52,{"$f":"1/入力部分!$I$36/(2*3.14)^0.5*EXP(-1/2*(((M58+入力部分!$I$45)-入力部分!$I$27)/入力部分!$I$36)^2)","v":2.4022979966738058E-3},0.1249194958270379,null,null,52,{"$f":"1/入力部分!$I$37/(2*3.14)^0.5*EXP(-1/2*(((R58+入力部分!$I$46)-入力部分!$I$28)/入力部分!$I$37)^2)","v":4.2778060586668148E-3},0.22244591505067438,null,null,52,{"$f":"1/入力部分!$I$38/(2*3.14)^0.5*EXP(-1/2*(((W58+入力部分!$I$47)-入力部分!$I$29)/入力部分!$I$38)^2)","v":9.2645106711829808E-3},0.48175455490151498,null,null,52,{"$f":"1/入力部分!$I$39/(2*3.14)^0.5*EXP(-1/2*(((AB58+入力部分!$I$48)-入力部分!$I$30)/入力部分!$I$39)^2)","v":2.674543057044176E-2},1.3907623896629715]
[null,null,null,null,null,null,null,null,53,{"$f":"(入力部分!D$7*N59+入力部分!D$8*S59+入力部分!D$9*X59+入力部分!D$10*AC59)/(SUM(入力部分!D$7:D$10))","v":1.1362787633120401E-2},null,null,53,{"$f":"1/入力部分!$I$36/(2*3.14)^0.5*EXP(-1/2*(((M59+入力部分!$I$45)-入力部分!$I$27)/入力部分!$I$36)^2)","v":2.4269886861030669E-3},0.12863040036346254,null,null,53,{"$f":"1/入力部分!$I$37/(2*3.14)^0.5*EXP(-1/2*(((R59+入力部分!$I$46)-入力部分!$I$28)/入力部分!$I$37)^2)","v":4.3507020268756707E-3},0.23058720742441055,null,null,53,{"$f":"1/入力部分!$I$38/(2*3.14)^0.5*EXP(-1/2*(((W59+入力部分!$I$47)-入力部分!$I$29)/入力部分!$I$38)^2)","v":9.5519161333299744E-3},0.50625155506648867,null,null,53,{"$f":"1/入力部分!$I$39/(2*3.14)^0.5*EXP(-1/2*(((AB59+入力部分!$I$48)-入力部分!$I$30)/入力部分!$I$39)^2)","v":2.8159687015786593E-2},1.4924634118366895]
[null,null,null,null,null,null,null,null,54,{"$f":"(入力部分!D$7*N60+入力部分!D$8*S60+入力部分!D$9*X60+入力部分!D$10*AC60)/(SUM(入力部分!D$7:D$10))","v":1.1785254830998107E-2},null,null,54,{"$f":"1/入力部分!$I$36/(2*3.14)^0.5*EXP(-1/2*(((M60+入力部分!$I$45)-入力部分!$I$27)/入力部分!$I$36)^2)","v":2.4516829861386657E-3},0.13239088125148796,null,null,54,{"$f":"1/入力部分!$I$37/(2*3.14)^0.5*EXP(-1/2*(((R60+入力部分!$I$46)-入力部分!$I$28)/入力部分!$I$37)^2)","v":4.4235066970209833E-3},0.23886936163913308,null,null,54,{"$f":"1/入力部分!$I$38/(2*3.14)^0.5*EXP(-1/2*(((W60+入力部分!$I$47)-入力部分!$I$29)/入力部分!$I$38)^2)","v":9.8363713411392835E-3},0.53116405242152132,null,null,54,{"$f":"1/入力部分!$I$39/(2*3.14)^0.5*EXP(-1/2*(((AB60+入力部分!$I$48)-入力部分!$I$30)/入力部分!$I$39)^2)","v":2.9443546444252341E-2},1.5899515079896265]
[null,null,null,null,null,null,null,null,55,{"$f":"(入力部分!D$7*N61+入力部分!D$8*S61+入力部分!D$9*X61+入力部分!D$10*AC61)/(SUM(入力部分!D$7:D$10))","v":1.2168107803616357E-2},null,null,55,{"$f":"1/入力部分!$I$36/(2*3.14)^0.5*EXP(-1/2*(((M61+入力部分!$I$45)-入力部分!$I$27)/入力部分!$I$36)^2)","v":2.4763758690012649E-3},0.13620067279506956,null,null,55,{"$f":"1/入力部分!$I$37/(2*3.14)^0.5*EXP(-1/2*(((R61+入力部分!$I$46)-入力部分!$I$28)/入力部分!$I$37)^2)","v":4.4961742929334079E-3},0.24728958611133744,null,null,55,{"$f":"1/入力部分!$I$38/(2*3.14)^0.5*EXP(-1/2*(((W61+入力部分!$I$47)-入力部分!$I$29)/入力部分!$I$38)^2)","v":1.0117092745773243E-2},0.55644010101752839,null,null,55,{"$f":"1/入力部分!$I$39/(2*3.14)^0.5*EXP(-1/2*(((AB61+入力部分!$I$48)-入力部分!$I$30)/入力部分!$I$39)^2)","v":3.0572889094791441E-2},1.6815089002135293]
[null,null,null,null,null,null,null,null,56,{"$f":"(入力部分!D$7*N62+入力部分!D$8*S62+入力部分!D$9*X62+入力部分!D$10*AC62)/(SUM(入力部分!D$7:D$10))","v":1.2505665981002667E-2},null,null,56,{"$f":"1/入力部分!$I$36/(2*3.14)^0.5*EXP(-1/2*(((M62+入力部分!$I$45)-入力部分!$I$27)/入力部分!$I$36)^2)","v":2.5010622564508654E-3},0.14005948636124846,null,null,56,{"$f":"1/入力部分!$I$37/(2*3.14)^0.5*EXP(-1/2*(((R62+入力部分!$I$46)-入力部分!$I$28)/入力部分!$I$37)^2)","v":4.5686584044447621E-3},0.25584487064890671,null,null,56,{"$f":"1/入力部分!$I$38/(2*3.14)^0.5*EXP(-1/2*(((W62+入力部分!$I$47)-入力部分!$I$29)/入力部分!$I$38)^2)","v":1.0393287648668606E-2},0.58202410832544194,null,null,56,{"$f":"1/入力部分!$I$39/(2*3.14)^0.5*EXP(-1/2*(((AB62+入力部分!$I$48)-入力部分!$I$30)/入力部分!$I$39)^2)","v":3.1525857540449488E-2},1.7654480222651714]
[null,null,null,null,null,null,null,null,57,{"$f":"(入力部分!D$7*N63+入力部分!D$8*S63+入力部分!D$9*X63+入力部分!D$10*AC63)/(SUM(入力部分!D$7:D$10))","v":1.2792988279522643E-2},null,null,57,{"$f":"1/入力部分!$I$36/(2*3.14)^0.5*EXP(-1/2*(((M63+入力部分!$I$45)-入力部分!$I$27)/入力部分!$I$36)^2)","v":2.5257370213613928E-3},0.14396701021759939,null,null,57,{"$f":"1/入力部分!$I$37/(2*3.14)^0.5*EXP(-1/2*(((R63+入力部分!$I$46)-入力部分!$I$28)/入力部分!$I$37)^2)","v":4.6409120333731606E-3},0.26453198590227017,null,null,57,{"$f":"1/入力部分!$I$38/(2*3.14)^0.5*EXP(-1/2*(((W63+入力部分!$I$47)-入力部分!$I$29)/入力部分!$I$38)^2)","v":1.0664157814099786E-2},0.60785699540368787,null,null,57,{"$f":"1/入力部分!$I$39/(2*3.14)^0.5*EXP(-1/2*(((AB63+入力部分!$I$48)-入力部分!$I$30)/入力部分!$I$39)^2)","v":3.2283558743250354E-2},1.8401628483652701]
[null,null,null,null,null,null,null,null,58,{"$f":"(入力部分!D$7*N64+入力部分!D$8*S64+入力部分!D$9*X64+入力部分!D$10*AC64)/(SUM(入力部分!D$7:D$10))","v":1.3026029642799536E-2},null,null,58,{"$f":"1/入力部分!$I$36/(2*3.14)^0.5*EXP(-1/2*(((M64+入力部分!$I$45)-入力部分!$I$27)/入力部分!$I$36)^2)","v":2.550394989336124E-3},0.14792290938149519,null,null,58,{"$f":"1/入力部分!$I$37/(2*3.14)^0.5*EXP(-1/2*(((R64+入力部分!$I$46)-入力部分!$I$28)/入力部分!$I$37)^2)","v":4.712887641149556E-3},0.27334748318667423,null,null,58,{"$f":"1/入力部分!$I$38/(2*3.14)^0.5*EXP(-1/2*(((W64+入力部分!$I$47)-入力部分!$I$29)/入力部分!$I$38)^2)","v":1.092890321635606E-2},0.63387638654865153,null,null,58,{"$f":"1/入力部分!$I$39/(2*3.14)^0.5*EXP(-1/2*(((AB64+入力部分!$I$48)-入力部分!$I$30)/入力部分!$I$39)^2)","v":3.2830686398449688E-2},1.9041798111100818]
[null,null,null,null,null,null,null,null,59,{"$f":"(入力部分!D$7*N65+入力部分!D$8*S65+入力部分!D$9*X65+入力部分!D$10*AC65)/(SUM(入力部分!D$7:D$10))","v":1.3201770530641631E-2},null,null,59,{"$f":"1/入力部分!$I$36/(2*3.14)^0.5*EXP(-1/2*(((M65+入力部分!$I$45)-入力部分!$I$27)/入力部分!$I$36)^2)","v":2.5750309403633639E-3},0.15192682548143846,null,null,59,{"$f":"1/入力部分!$I$37/(2*3.14)^0.5*EXP(-1/2*(((R65+入力部分!$I$46)-入力部分!$I$28)/入力部分!$I$37)^2)","v":4.7845371980253142E-3},0.28228769468349352,null,null,59,{"$f":"1/入力部分!$I$38/(2*3.14)^0.5*EXP(-1/2*(((W65+入力部分!$I$47)-入力部分!$I$29)/入力部分!$I$38)^2)","v":1.1186725897766866E-2},0.66001682796824512,null,null,59,{"$f":"1/入力部分!$I$39/(2*3.14)^0.5*EXP(-1/2*(((AB65+入力部分!$I$48)-入力部分!$I$30)/入力部分!$I$39)^2)","v":3.3156034957580009E-2},1.9562060624972206]
[null,null,null,null,null,null,null,null,60,{"$f":"(入力部分!D$7*N66+入力部分!D$8*S66+入力部分!D$9*X66+入力部分!D$10*AC66)/(SUM(入力部分!D$7:D$10))","v":1.3318313323300883E-2},null,null,60,{"$f":"1/入力部分!$I$36/(2*3.14)^0.5*EXP(-1/2*(((M66+入力部分!$I$45)-入力部分!$I$27)/入力部分!$I$36)^2)","v":2.5996396105117548E-3},0.1559783766307053,null,null,60,{"$f":"1/入力部分!$I$37/(2*3.14)^0.5*EXP(-1/2*(((R66+入力部分!$I$46)-入力部分!$I$28)/入力部分!$I$37)^2)","v":4.8558122337962082E-3},0.2913487340277725,null,null,60,{"$f":"1/入力部分!$I$38/(2*3.14)^0.5*EXP(-1/2*(((W66+入力部分!$I$47)-入力部分!$I$29)/入力部分!$I$38)^2)","v":1.1436833912229168E-2},0.68621003473375008,null,null,60,{"$f":"1/入力部分!$I$39/(2*3.14)^0.5*EXP(-1/2*(((AB66+入力部分!$I$48)-入力部分!$I$30)/入力部分!$I$39)^2)","v":3.3252881225024164E-2},1.9951728735014498]
[null,null,null,null,null,null,null,null,61,{"$f":"(入力部分!D$7*N67+入力部分!D$8*S67+入力部分!D$9*X67+入力部分!D$10*AC67)/(SUM(入力部分!D$7:D$10))","v":1.3374941096789576E-2},null,null,61,{"$f":"1/入力部分!$I$36/(2*3.14)^0.5*EXP(-1/2*(((M67+入力部分!$I$45)-入力部分!$I$27)/入力部分!$I$36)^2)","v":2.6242156936645603E-3},0.16007715731353817,null,null,61,{"$f":"1/入力部分!$I$37/(2*3.14)^0.5*EXP(-1/2*(((R67+入力部分!$I$46)-入力部分!$I$28)/入力部分!$I$37)^2)","v":4.9266638899738858E-3},0.30052649728840702,null,null,61,{"$f":"1/入力部分!$I$38/(2*3.14)^0.5*EXP(-1/2*(((W67+入力部分!$I$47)-入力部分!$I$29)/入力部分!$I$38)^2)","v":1.1678445327516837E-2},0.71238516497852711,null,null,61,{"$f":"1/入力部分!$I$39/(2*3.14)^0.5*EXP(-1/2*(((AB67+入力部分!$I$48)-入力部分!$I$30)/入力部分!$I$39)^2)","v":3.311921537784835E-2},2.0202721380487492]
[null,null,null,null,null,null,null,null,62,{"$f":"(入力部分!D$7*N68+入力部分!D$8*S68+入力部分!D$9*X68+入力部分!D$10*AC68)/(SUM(入力部分!D$7:D$10))","v":1.3372135990280481E-2},null,null,62,{"$f":"1/入力部分!$I$36/(2*3.14)^0.5*EXP(-1/2*(((M68+入力部分!$I$45)-入力部分!$I$27)/入力部分!$I$36)^2)","v":2.6487538432922305E-3},0.16422273828411829,null,null,62,{"$f":"1/入力部分!$I$37/(2*3.14)^0.5*EXP(-1/2*(((R68+入力部分!$I$46)-入力部分!$I$28)/入力部分!$I$37)^2)","v":4.9970429733318172E-3},0.30981666434657268,null,null,62,{"$f":"1/入力部分!$I$38/(2*3.14)^0.5*EXP(-1/2*(((W68+入力部分!$I$47)-入力部分!$I$29)/入力部分!$I$38)^2)","v":1.1910792258504251E-2},0.7384691200272635,null,null,62,{"$f":"1/入力部分!$I$39/(2*3.14)^0.5*EXP(-1/2*(((AB68+入力部分!$I$48)-入力部分!$I$30)/入力部分!$I$39)^2)","v":3.2757810320973829E-2},2.0309842399003775]
[null,null,null,null,null,null,null,null,63,{"$f":"(入力部分!D$7*N69+入力部分!D$8*S69+入力部分!D$9*X69+入力部分!D$10*AC69)/(SUM(入力部分!D$7:D$10))","v":1.3311556322637275E-2},null,null,63,{"$f":"1/入力部分!$I$36/(2*3.14)^0.5*EXP(-1/2*(((M69+入力部分!$I$45)-入力部分!$I$27)/入力部分!$I$36)^2)","v":2.6732486742625356E-3},0.16841466647853975,null,null,63,{"$f":"1/入力部分!$I$37/(2*3.14)^0.5*EXP(-1/2*(((R69+入力部分!$I$46)-入力部分!$I$28)/入力部分!$I$37)^2)","v":5.0669000107486564E-3},0.31921470067716534,null,null,63,{"$f":"1/入力部分!$I$38/(2*3.14)^0.5*EXP(-1/2*(((W69+入力部分!$I$47)-入力部分!$I$29)/入力部分!$I$38)^2)","v":1.2133124902533121E-2},0.76438686885958662,null,null,63,{"$f":"1/入力部分!$I$39/(2*3.14)^0.5*EXP(-1/2*(((AB69+入力部分!$I$48)-入力部分!$I$30)/入力部分!$I$39)^2)","v":3.2176126034761728E-2},2.0270959401899886]
[null,null,null,null,null,null,null,null,64,{"$f":"(入力部分!D$7*N70+入力部分!D$8*S70+入力部分!D$9*X70+入力部分!D$10*AC70)/(SUM(入力部分!D$7:D$10))","v":1.3195973602881031E-2},null,null,64,{"$f":"1/入力部分!$I$36/(2*3.14)^0.5*EXP(-1/2*(((M70+入力部分!$I$45)-入力部分!$I$27)/入力部分!$I$36)^2)","v":2.6976947646874931E-3},0.17265246493999956,null,null,64,{"$f":"1/入力部分!$I$37/(2*3.14)^0.5*EXP(-1/2*(((R70+入力部分!$I$46)-入力部分!$I$28)/入力部分!$I$37)^2)","v":5.1361853052680666E-3},0.32871585953715626,null,null,64,{"$f":"1/入力部分!$I$38/(2*3.14)^0.5*EXP(-1/2*(((W70+入力部分!$I$47)-入力部分!$I$29)/入力部分!$I$38)^2)","v":1.2344715547508156E-2},0.79006179504052199,null,null,64,{"$f":"1/入力部分!$I$39/(2*3.14)^0.5*EXP(-1/2*(((AB70+入力部分!$I$48)-入力部分!$I$30)/入力部分!$I$39)^2)","v":3.1386053523770122E-2},2.0087074255212878]
[null,null,null,null,null,null,null,null,65,{"$f":"(入力部分!D$7*N71+入力部分!D$8*S71+入力部分!D$9*X71+入力部分!D$10*AC71)/(SUM(入力部分!D$7:D$10))","v":1.3029172496013012E-2},null,null,65,{"$f":"1/入力部分!$I$36/(2*3.14)^0.5*EXP(-1/2*(((M71+入力部分!$I$45)-入力部分!$I$27)/入力部分!$I$36)^2)","v":2.7220866578063084E-3},0.17693563275741006,null,null,65,{"$f":"1/入力部分!$I$37/(2*3.14)^0.5*EXP(-1/2*(((R71+入力部分!$I$46)-入力部分!$I$28)/入力部分!$I$37)^2)","v":5.2048489932903412E-3},0.33831518456387216,null,null,65,{"$f":"1/入力部分!$I$38/(2*3.14)^0.5*EXP(-1/2*(((W71+入力部分!$I$47)-入力部分!$I$29)/入力部分!$I$38)^2)","v":1.2544862522936498E-2},0.81541606399087241,null,null,65,{"$f":"1/入力部分!$I$39/(2*3.14)^0.5*EXP(-1/2*(((AB71+入力部分!$I$48)-入力部分!$I$30)/入力部分!$I$39)^2)","v":3.0403510642276883E-2},{"$f":"AB71*$AC71","v":1.9762281917479974}]
[null,null,null,null,null,null,null,null,66,{"$f":"(入力部分!D$7*N72+入力部分!D$8*S72+入力部分!D$9*X72+入力部分!D$10*AC72)/(SUM(入力部分!D$7:D$10))","v":1.2815818533568573E-2},null,null,66,{"$f":"1/入力部分!$I$36/(2*3.14)^0.5*EXP(-1/2*(((M72+入力部分!$I$45)-入力部分!$I$27)/入力部分!$I$36)^2)","v":2.7464188639035065E-3},{"$f":"M72*$N72","v":0.18126364501763143},null,null,66,{"$f":"1/入力部分!$I$37/(2*3.14)^0.5*EXP(-1/2*(((R72+入力部分!$I$46)-入力部分!$I$28)/入力部分!$I$37)^2)","v":5.2728411028074833E-3},{"$f":"R72*$S72","v":0.3480075127852939},null,null,66,{"$f":"1/入力部分!$I$38/(2*3.14)^0.5*EXP(-1/2*(((W72+入力部分!$I$47)-入力部分!$I$29)/入力部分!$I$38)^2)","v":1.2732894064037381E-2},{"$f":"W72*$X72","v":0.84037100822646715},null,null,66,{"$f":"1/入力部分!$I$39/(2*3.14)^0.5*EXP(-1/2*(((AB72+入力部分!$I$48)-入力部分!$I$30)/入力部分!$I$39)^2)","v":2.9247908984073926E-2},1.9303619929488791]
[null,null,null,null,null,null,null,null,67,{"$f":"(入力部分!D$7*N73+入力部分!D$8*S73+入力部分!D$9*X73+入力部分!D$10*AC73)/(SUM(入力部分!D$7:D$10))","v":1.2561299794208265E-2},null,null,67,{"$f":"1/入力部分!$I$36/(2*3.14)^0.5*EXP(-1/2*(((M73+入力部分!$I$45)-入力部分!$I$27)/入力部分!$I$36)^2)","v":2.7706858622613805E-3},0.18563595277151249,null,null,67,{"$f":"1/入力部分!$I$37/(2*3.14)^0.5*EXP(-1/2*(((R73+入力部分!$I$46)-入力部分!$I$28)/入力部分!$I$37)^2)","v":5.3401116125900566E-3},0.35778747804353378,null,null,67,{"$f":"1/入力部分!$I$38/(2*3.14)^0.5*EXP(-1/2*(((W73+入力部分!$I$47)-入力部分!$I$29)/入力部分!$I$38)^2)","v":1.2908172059248709E-2},0.86484752796966347,null,null,67,{"$f":"1/入力部分!$I$39/(2*3.14)^0.5*EXP(-1/2*(((AB73+入力部分!$I$48)-入力部分!$I$30)/入力部分!$I$39)^2)","v":2.7941516767568567E-2},1.8720816234270941]
[null,null,null,null,null,null,null,null,68,{"$f":"(入力部分!D$7*N74+入力部分!D$8*S74+入力部分!D$9*X74+入力部分!D$10*AC74)/(SUM(入力部分!D$7:D$10))","v":1.2271549841884059E-2},null,null,68,{"$f":"1/入力部分!$I$36/(2*3.14)^0.5*EXP(-1/2*(((M74+入力部分!$I$45)-入力部分!$I$27)/入力部分!$I$36)^2)","v":2.7948821031458884E-3},0.1900519830139204,null,null,68,{"$f":"1/入力部分!$I$37/(2*3.14)^0.5*EXP(-1/2*(((R74+入力部分!$I$46)-入力部分!$I$28)/入力部分!$I$37)^2)","v":5.4066105122307778E-3},0.36764951483169289,null,null,68,{"$f":"1/入力部分!$I$38/(2*3.14)^0.5*EXP(-1/2*(((W74+入力部分!$I$47)-入力部分!$I$29)/入力部分!$I$38)^2)","v":1.3070095651949066E-2},0.88876650433253646,null,null,68,{"$f":"1/入力部分!$I$39/(2*3.14)^0.5*EXP(-1/2*(((AB74+入力部分!$I$48)-入力部分!$I$30)/入力部分!$I$39)^2)","v":2.650874689566805E-2},1.8025947889054275]
[null,null,null,null,null,null,null,null,69,{"$f":"(入力部分!D$7*N75+入力部分!D$8*S75+入力部分!D$9*X75+入力部分!D$10*AC75)/(SUM(入力部分!D$7:D$10))","v":1.1952859843297395E-2},null,null,69,{"$f":"1/入力部分!$I$36/(2*3.14)^0.5*EXP(-1/2*(((M75+入力部分!$I$45)-入力部分!$I$27)/入力部分!$I$36)^2)","v":2.8190020098250602E-3},0.19451113867792916,null,null,69,{"$f":"1/入力部分!$I$37/(2*3.14)^0.5*EXP(-1/2*(((R75+入力部分!$I$46)-入力部分!$I$28)/入力部分!$I$37)^2)","v":5.4722878629468027E-3},0.37758786254332938,null,null,69,{"$f":"1/入力部分!$I$38/(2*3.14)^0.5*EXP(-1/2*(((W75+入力部分!$I$47)-入力部分!$I$29)/入力部分!$I$38)^2)","v":1.3218104667996902E-2},0.91204922209178629,null,null,69,{"$f":"1/入力部分!$I$39/(2*3.14)^0.5*EXP(-1/2*(((AB75+入力部分!$I$48)-入力部分!$I$30)/入力部分!$I$39)^2)","v":2.4975401905859944E-2},1.7233027315043361]
[null,null,null,null,null,null,null,null,70,{"$f":"(入力部分!D$7*N76+入力部分!D$8*S76+入力部分!D$9*X76+入力部分!D$10*AC76)/(SUM(入力部分!D$7:D$10))","v":1.1611687968742625E-2},null,null,70,{"$f":"1/入力部分!$I$36/(2*3.14)^0.5*EXP(-1/2*(((M76+入力部分!$I$45)-入力部分!$I$27)/入力部分!$I$36)^2)","v":2.8430399806189666E-3},0.19901279864332766,null,null,70,{"$f":"1/入力部分!$I$37/(2*3.14)^0.5*EXP(-1/2*(((R76+入力部分!$I$46)-入力部分!$I$28)/入力部分!$I$37)^2)","v":5.5370938590397619E-3},0.38759657013278331,null,null,70,{"$f":"1/入力部分!$I$38/(2*3.14)^0.5*EXP(-1/2*(((W76+入力部分!$I$47)-入力部分!$I$29)/入力部分!$I$38)^2)","v":1.3351682841758802E-2},0.93461779892311614,null,null,70,{"$f":"1/入力部分!$I$39/(2*3.14)^0.5*EXP(-1/2*(((AB76+入力部分!$I$48)-入力部分!$I$30)/入力部分!$I$39)^2)","v":2.3367908254342575E-2},1.6357535778039802]
[null,null,null,null,null,null,null,null,71,{"$f":"(入力部分!D$7*N77+入力部分!D$8*S77+入力部分!D$9*X77+入力部分!D$10*AC77)/(SUM(入力部分!D$7:D$10))","v":1.125447391856456E-2},null,null,71,{"$f":"1/入力部分!$I$36/(2*3.14)^0.5*EXP(-1/2*(((M77+入力部分!$I$45)-入力部分!$I$27)/入力部分!$I$36)^2)","v":2.8669903909802666E-3},0.20355631775959893,null,null,71,{"$f":"1/入力部分!$I$37/(2*3.14)^0.5*EXP(-1/2*(((R77+入力部分!$I$46)-入力部分!$I$28)/入力部分!$I$37)^2)","v":5.600978889909917E-3},0.39766950118360411,null,null,71,{"$f":"1/入力部分!$I$38/(2*3.14)^0.5*EXP(-1/2*(((W77+入力部分!$I$47)-入力部分!$I$29)/入力部分!$I$38)^2)","v":1.3470360814648858E-2},0.95639561784006888,null,null,71,{"$f":"1/入力部分!$I$39/(2*3.14)^0.5*EXP(-1/2*(((AB77+入力部分!$I$48)-入力部分!$I$30)/入力部分!$I$39)^2)","v":2.1712571329254374E-2},1.5415925643770605]
[null,null,null,null,null,null,null,null,72,{"$f":"(入力部分!D$7*N78+入力部分!D$8*S78+入力部分!D$9*X78+入力部分!D$10*AC78)/(SUM(入力部分!D$7:D$10))","v":1.0887465748377571E-2},null,null,72,{"$f":"1/入力部分!$I$36/(2*3.14)^0.5*EXP(-1/2*(((M78+入力部分!$I$45)-入力部分!$I$27)/入力部分!$I$36)^2)","v":2.8908475956043191E-3},0.20814102688351097,null,null,72,{"$f":"1/入力部分!$I$37/(2*3.14)^0.5*EXP(-1/2*(((R78+入力部分!$I$46)-入力部分!$I$28)/入力部分!$I$37)^2)","v":5.6638936025184047E-3},0.40780033938132515,null,null,72,{"$f":"1/入力部分!$I$38/(2*3.14)^0.5*EXP(-1/2*(((W78+入力部分!$I$47)-入力部分!$I$29)/入力部分!$I$38)^2)","v":1.3573718881819656E-2},0.97730775949101523,null,null,72,{"$f":"1/入力部分!$I$39/(2*3.14)^0.5*EXP(-1/2*(((AB78+入力部分!$I$48)-入力部分!$I$30)/入力部分!$I$39)^2)","v":2.0034879910110853E-2},1.4425113535279814]
[null,null,null,null,null,null,null,null,73,{"$f":"(入力部分!D$7*N79+入力部分!D$8*S79+入力部分!D$9*X79+入力部分!D$10*AC79)/(SUM(入力部分!D$7:D$10))","v":1.0516565152256505E-2},null,null,73,{"$f":"1/入力部分!$I$36/(2*3.14)^0.5*EXP(-1/2*(((M79+入力部分!$I$45)-入力部分!$I$27)/入力部分!$I$36)^2)","v":2.9146059305678066E-3},0.21276623293144989,null,null,73,{"$f":"1/入力部分!$I$37/(2*3.14)^0.5*EXP(-1/2*(((R79+入力部分!$I$46)-入力部分!$I$28)/入力部分!$I$37)^2)","v":5.7257889641892535E-3},0.41798259438581553,null,null,73,{"$f":"1/入力部分!$I$38/(2*3.14)^0.5*EXP(-1/2*(((W79+入力部分!$I$47)-入力部分!$I$29)/入力部分!$I$38)^2)","v":1.3661389464518219E-2},0.9972814309098299,null,null,73,{"$f":"1/入力部分!$I$39/(2*3.14)^0.5*EXP(-1/2*(((AB79+入力部分!$I$48)-入力部分!$I$30)/入力部分!$I$39)^2)","v":1.835888473294002E-2},1.3401985855046215]
[null,null,null,null,null,null,null,null,74,{"$f":"(入力部分!D$7*N80+入力部分!D$8*S80+入力部分!D$9*X80+入力部分!D$10*AC80)/(SUM(入力部分!D$7:D$10))","v":1.0147196086066627E-2},null,null,74,{"$f":"1/入力部分!$I$36/(2*3.14)^0.5*EXP(-1/2*(((M80+入力部分!$I$45)-入力部分!$I$27)/入力部分!$I$36)^2)","v":2.9382597154948035E-3},0.21743121894661546,null,null,74,{"$f":"1/入力部分!$I$37/(2*3.14)^0.5*EXP(-1/2*(((R80+入力部分!$I$46)-入力部分!$I$28)/入力部分!$I$37)^2)","v":5.7866163256409227E-3},0.42820960809742831,null,null,74,{"$f":"1/入力部分!$I$38/(2*3.14)^0.5*EXP(-1/2*(((W80+入力部分!$I$47)-入力部分!$I$29)/入力部分!$I$38)^2)","v":1.3733059287729511E-2},1.0162463872919838,null,null,74,{"$f":"1/入力部分!$I$39/(2*3.14)^0.5*EXP(-1/2*(((AB80+入力部分!$I$48)-入力部分!$I$30)/入力部分!$I$39)^2)","v":1.6706670710328216E-2},1.2362936325642879]
[null,null,null,null,null,null,null,null,75,{"$f":"(入力部分!D$7*N81+入力部分!D$8*S81+入力部分!D$9*X81+入力部分!D$10*AC81)/(SUM(入力部分!D$7:D$10))","v":9.7842001669383154E-3},null,null,75,{"$f":"1/入力部分!$I$36/(2*3.14)^0.5*EXP(-1/2*(((M81+入力部分!$I$45)-入力部分!$I$27)/入力部分!$I$36)^2)","v":2.9618032557491882E-3},0.2221352441811891,null,null,75,{"$f":"1/入力部分!$I$37/(2*3.14)^0.5*EXP(-1/2*(((R81+入力部分!$I$46)-入力部分!$I$28)/入力部分!$I$37)^2)","v":5.8463274841353422E-3},0.43847456131015067,null,null,75,{"$f":"1/入力部分!$I$38/(2*3.14)^0.5*EXP(-1/2*(((W81+入力部分!$I$47)-入力部分!$I$29)/入力部分!$I$38)^2)","v":1.3788471245055233E-2},1.0341353433791425,null,null,75,{"$f":"1/入力部分!$I$39/(2*3.14)^0.5*EXP(-1/2*(((AB81+入力部分!$I$48)-入力部分!$I$30)/入力部分!$I$39)^2)","v":1.5097936568620426E-2},1.1323452426465319]
[null,null,null,null,null,null,null,null,76,{"$f":"(入力部分!D$7*N82+入力部分!D$8*S82+入力部分!D$9*X82+入力部分!D$10*AC82)/(SUM(入力部分!D$7:D$10))","v":9.4317607681713832E-3},null,null,76,{"$f":"1/入力部分!$I$36/(2*3.14)^0.5*EXP(-1/2*(((M82+入力部分!$I$45)-入力部分!$I$27)/入力部分!$I$36)^2)","v":2.9852308446522559E-3},0.22687754419357145,null,null,76,{"$f":"1/入力部分!$I$37/(2*3.14)^0.5*EXP(-1/2*(((R82+入力部分!$I$46)-入力部分!$I$28)/入力部分!$I$37)^2)","v":5.9048747466309533E-3},0.44877048074395243,null,null,76,{"$f":"1/入力部分!$I$38/(2*3.14)^0.5*EXP(-1/2*(((W82+入力部分!$I$47)-入力部分!$I$29)/入力部分!$I$38)^2)","v":1.3827425935293052E-2},1.050884371082272,null,null,76,{"$f":"1/入力部分!$I$39/(2*3.14)^0.5*EXP(-1/2*(((AB82+入力部分!$I$48)-入力部分!$I$30)/入力部分!$I$39)^2)","v":1.3549689595119921E-2},1.029776409229114]
[null,null,null,null,null,null,null,null,77,{"$f":"(入力部分!D$7*N83+入力部分!D$8*S83+入力部分!D$9*X83+入力部分!D$10*AC83)/(SUM(入力部分!D$7:D$10))","v":9.0933562372130933E-3},null,null,77,{"$f":"1/入力部分!$I$36/(2*3.14)^0.5*EXP(-1/2*(((M83+入力部分!$I$45)-入力部分!$I$27)/入力部分!$I$36)^2)","v":3.0085367657243906E-3},0.23165733096077806,null,null,77,{"$f":"1/入力部分!$I$37/(2*3.14)^0.5*EXP(-1/2*(((R83+入力部分!$I$46)-入力部分!$I$28)/入力部分!$I$37)^2)","v":5.9622109928250096E-3},0.45909024644752572,null,null,77,{"$f":"1/入力部分!$I$38/(2*3.14)^0.5*EXP(-1/2*(((W83+入力部分!$I$47)-入力部分!$I$29)/入力部分!$I$38)^2)","v":1.3849782857865107E-2},1.0664332800556133,null,null,77,{"$f":"1/入力部分!$I$39/(2*3.14)^0.5*EXP(-1/2*(((AB83+入力部分!$I$48)-入力部分!$I$30)/入力部分!$I$39)^2)","v":1.2076057218887559E-2},0.92985640585434204]
[null,null,null,null,null,null,null,null,78,{"$f":"(入力部分!D$7*N84+入力部分!D$8*S84+入力部分!D$9*X84+入力部分!D$10*AC84)/(SUM(入力部分!D$7:D$10))","v":8.7717412838308195E-3},null,null,78,{"$f":"1/入力部分!$I$36/(2*3.14)^0.5*EXP(-1/2*(((M84+入力部分!$I$45)-入力部分!$I$27)/入力部分!$I$36)^2)","v":3.0317152949495938E-3},0.2364737930060683,null,null,78,{"$f":"1/入力部分!$I$37/(2*3.14)^0.5*EXP(-1/2*(((R84+入力部分!$I$46)-入力部分!$I$28)/入力部分!$I$37)^2)","v":6.0182897379694456E-3},0.46942659956161675,null,null,78,{"$f":"1/入力部分!$I$38/(2*3.14)^0.5*EXP(-1/2*(((W84+入力部分!$I$47)-入力部分!$I$29)/入力部分!$I$38)^2)","v":1.385546125706648E-2},1.0807259780511855,null,null,78,{"$f":"1/入力部分!$I$39/(2*3.14)^0.5*EXP(-1/2*(((AB84+入力部分!$I$48)-入力部分!$I$30)/入力部分!$I$39)^2)","v":1.0688211623827834E-2},0.83368050665857107]
[null,null,null,null,null,null,null,null,79,{"$f":"(入力部分!D$7*N85+入力部分!D$8*S85+入力部分!D$9*X85+入力部分!D$10*AC85)/(SUM(入力部分!D$7:D$10))","v":8.4689543872552269E-3},null,null,79,{"$f":"1/入力部分!$I$36/(2*3.14)^0.5*EXP(-1/2*(((M85+入力部分!$I$45)-入力部分!$I$27)/入力部分!$I$36)^2)","v":3.0547607030616719E-3},0.24132609554187209,null,null,79,{"$f":"1/入力部分!$I$37/(2*3.14)^0.5*EXP(-1/2*(((R85+入力部分!$I$46)-入力部分!$I$28)/入力部分!$I$37)^2)","v":6.0730651953439093E-3},0.47977215043216886,null,null,79,{"$f":"1/入力部分!$I$38/(2*3.14)^0.5*EXP(-1/2*(((W85+入力部分!$I$47)-入力部分!$I$29)/入力部分!$I$38)^2)","v":1.38444406080344E-2},1.0937108080347175,null,null,79,{"$f":"1/入力部分!$I$39/(2*3.14)^0.5*EXP(-1/2*(((AB85+入力部分!$I$48)-入力部分!$I$30)/入力部分!$I$39)^2)","v":9.3943987964398082E-3},0.74215750491874488]
[null,null,null,null,null,null,null,null,80,{"$f":"(入力部分!D$7*N86+入力部分!D$8*S86+入力部分!D$9*X86+入力部分!D$10*AC86)/(SUM(入力部分!D$7:D$10))","v":8.1863481072691133E-3},null,null,80,{"$f":"1/入力部分!$I$36/(2*3.14)^0.5*EXP(-1/2*(((M86+入力部分!$I$45)-入力部分!$I$27)/入力部分!$I$36)^2)","v":3.0776672578508454E-3},0.24621338062806764,null,null,80,{"$f":"1/入力部分!$I$37/(2*3.14)^0.5*EXP(-1/2*(((R86+入力部分!$I$46)-入力部分!$I$28)/入力部分!$I$37)^2)","v":6.1264923382691469E-3},0.49011938706153174,null,null,80,{"$f":"1/入力部分!$I$38/(2*3.14)^0.5*EXP(-1/2*(((W86+入力部分!$I$47)-入力部分!$I$29)/入力部分!$I$38)^2)","v":1.3816760740345491E-2},1.1053408592276392,null,null,80,{"$f":"1/入力部分!$I$39/(2*3.14)^0.5*EXP(-1/2*(((AB86+入力部分!$I$48)-入力部分!$I$30)/入力部分!$I$39)^2)","v":8.2000595524018161E-3},0.65600476419214526]
[null,null,null,null,null,null,null,null,81,{"$f":"(入力部分!D$7*N87+入力部分!D$8*S87+入力部分!D$9*X87+入力部分!D$10*AC87)/(SUM(入力部分!D$7:D$10))","v":7.9246384867293507E-3},null,null,81,{"$f":"1/入力部分!$I$36/(2*3.14)^0.5*EXP(-1/2*(((M87+入力部分!$I$45)-入力部分!$I$27)/入力部分!$I$36)^2)","v":3.100429226489509E-3},0.25113476734565021,null,null,81,{"$f":"1/入力部分!$I$37/(2*3.14)^0.5*EXP(-1/2*(((R87+入力部分!$I$46)-入力部分!$I$28)/入力部分!$I$37)^2)","v":6.1785269615437718E-3},0.5004606838850455,null,null,81,{"$f":"1/入力部分!$I$38/(2*3.14)^0.5*EXP(-1/2*(((W87+入力部分!$I$47)-入力部分!$I$29)/入力部分!$I$38)^2)","v":1.3772521598199592E-2},1.1155742494541669,null,null,81,{"$f":"1/入力部分!$I$39/(2*3.14)^0.5*EXP(-1/2*(((AB87+入力部分!$I$48)-入力部分!$I$30)/入力部分!$I$39)^2)","v":7.1080272931573962E-3},0.57575021074574906]
[null,null,null,null,null,null,null,null,82,{"$f":"(入力部分!D$7*N88+入力部分!D$8*S88+入力部分!D$9*X88+入力部分!D$10*AC88)/(SUM(入力部分!D$7:D$10))","v":7.6839693129030426E-3},null,null,82,{"$f":"1/入力部分!$I$36/(2*3.14)^0.5*EXP(-1/2*(((M88+入力部分!$I$45)-入力部分!$I$27)/入力部分!$I$36)^2)","v":3.1230408778758737E-3},0.25608935198582167,null,null,82,{"$f":"1/入力部分!$I$37/(2*3.14)^0.5*EXP(-1/2*(((R88+入力部分!$I$46)-入力部分!$I$28)/入力部分!$I$37)^2)","v":6.2291257421875973E-3},0.51078831085938292,null,null,82,{"$f":"1/入力部分!$I$38/(2*3.14)^0.5*EXP(-1/2*(((W88+入力部分!$I$47)-入力部分!$I$29)/入力部分!$I$38)^2)","v":1.3711882639210781E-2},1.124374376415284,null,null,82,{"$f":"1/入力部分!$I$39/(2*3.14)^0.5*EXP(-1/2*(((AB88+入力部分!$I$48)-入力部分!$I$30)/入力部分!$I$39)^2)","v":6.1187855601820551E-3},0.50174041593492857]
[null,null,null,null,null,null,null,null,83,{"$f":"(入力部分!D$7*N89+入力部分!D$8*S89+入力部分!D$9*X89+入力部分!D$10*AC89)/(SUM(入力部分!D$7:D$10))","v":7.463986854154947E-3},null,null,83,{"$f":"1/入力部分!$I$36/(2*3.14)^0.5*EXP(-1/2*(((M89+入力部分!$I$45)-入力部分!$I$27)/入力部分!$I$36)^2)","v":3.1454964849941753E-3},0.26107620825451655,null,null,83,{"$f":"1/入力部分!$I$37/(2*3.14)^0.5*EXP(-1/2*(((R89+入力部分!$I$46)-入力部分!$I$28)/入力部分!$I$37)^2)","v":6.2782462993751492E-3},0.52109444284813733,null,null,83,{"$f":"1/入力部分!$I$38/(2*3.14)^0.5*EXP(-1/2*(((W89+入力部分!$I$47)-入力部分!$I$29)/入力部分!$I$38)^2)","v":1.3635061876866781E-2},1.1317101357799428,null,null,83,{"$f":"1/入力部分!$I$39/(2*3.14)^0.5*EXP(-1/2*(((AB89+入力部分!$I$48)-入力部分!$I$30)/入力部分!$I$39)^2)","v":5.2307678481931979E-3},0.43415373140003544]
[null,null,null,null,null,null,null,null,84,{"$f":"(入力部分!D$7*N90+入力部分!D$8*S90+入力部分!D$9*X90+入力部分!D$10*AC90)/(SUM(入力部分!D$7:D$10))","v":7.2639207824608878E-3},null,null,84,{"$f":"1/入力部分!$I$36/(2*3.14)^0.5*EXP(-1/2*(((M90+入力部分!$I$45)-入力部分!$I$27)/入力部分!$I$36)^2)","v":3.1677903272901223E-3},0.26609438749237024,null,null,84,{"$f":"1/入力部分!$I$37/(2*3.14)^0.5*EXP(-1/2*(((R90+入力部分!$I$46)-入力部分!$I$28)/入力部分!$I$37)^2)","v":6.3258472534436505E-3},0.53137116928926664,null,null,84,{"$f":"1/入力部分!$I$38/(2*3.14)^0.5*EXP(-1/2*(((W90+入力部分!$I$47)-入力部分!$I$29)/入力部分!$I$38)^2)","v":1.3542334574703475E-2},1.1375561042750919,null,null,84,{"$f":"1/入力部分!$I$39/(2*3.14)^0.5*EXP(-1/2*(((AB90+入力部分!$I$48)-入力部分!$I$30)/入力部分!$I$39)^2)","v":4.4406825113295417E-3},0.37301733095168149]
[null,null,null,null,null,null,null,null,85,{"$f":"(入力部分!D$7*N91+入力部分!D$8*S91+入力部分!D$9*X91+入力部分!D$10*AC91)/(SUM(入力部分!D$7:D$10))","v":7.0826672938460351E-3},null,null,85,{"$f":"1/入力部分!$I$36/(2*3.14)^0.5*EXP(-1/2*(((M91+入力部分!$I$45)-入力部分!$I$27)/入力部分!$I$36)^2)","v":3.1899166930602465E-3},0.27114291891012093,null,null,85,{"$f":"1/入力部分!$I$37/(2*3.14)^0.5*EXP(-1/2*(((R91+入力部分!$I$46)-入力部分!$I$28)/入力部分!$I$37)^2)","v":6.3718882838608021E-3},0.54161050412816814,null,null,85,{"$f":"1/入力部分!$I$38/(2*3.14)^0.5*EXP(-1/2*(((W91+入力部分!$I$47)-入力部分!$I$29)/入力部分!$I$38)^2)","v":1.3434031603140108E-2},1.1418926862669092,null,null,85,{"$f":"1/入力部分!$I$39/(2*3.14)^0.5*EXP(-1/2*(((AB91+入力部分!$I$48)-入力部分!$I$30)/入力部分!$I$39)^2)","v":3.743846799922707E-3},0.31822697799343008]
[null,null,null,null,null,null,null,null,86,{"$f":"(入力部分!D$7*N92+入力部分!D$8*S92+入力部分!D$9*X92+入力部分!D$10*AC92)/(SUM(入力部分!D$7:D$10))","v":6.9188709026907352E-3},null,null,86,{"$f":"1/入力部分!$I$36/(2*3.14)^0.5*EXP(-1/2*(((M92+入力部分!$I$45)-入力部分!$I$27)/入力部分!$I$36)^2)","v":3.2118698818537649E-3},0.27622080983942376,null,null,86,{"$f":"1/入力部分!$I$37/(2*3.14)^0.5*EXP(-1/2*(((R92+入力部分!$I$46)-入力部分!$I$28)/入力部分!$I$37)^2)","v":6.4163301860389391E-3},0.55180439599934872,null,null,86,{"$f":"1/入力部分!$I$38/(2*3.14)^0.5*EXP(-1/2*(((W92+入力部分!$I$47)-入力部分!$I$29)/入力部分!$I$38)^2)","v":1.3310537472701471E-2},1.1447062226523266,null,null,86,{"$f":"1/入力部分!$I$39/(2*3.14)^0.5*EXP(-1/2*(((AB92+入力部分!$I$48)-入力部分!$I$30)/入力部分!$I$39)^2)","v":3.1345159180761789E-3},0.26956836895455139]
[null,null,null,null,null,null,null,null,87,{"$f":"(入力部分!D$7*N93+入力部分!D$8*S93+入力部分!D$9*X93+入力部分!D$10*AC93)/(SUM(入力部分!D$7:D$10))","v":6.7710019623942143E-3},null,null,87,{"$f":"1/入力部分!$I$36/(2*3.14)^0.5*EXP(-1/2*(((M93+入力部分!$I$45)-入力部分!$I$27)/入力部分!$I$36)^2)","v":3.2336442068855941E-3},0.28132704599904668,null,null,87,{"$f":"1/入力部分!$I$37/(2*3.14)^0.5*EXP(-1/2*(((R93+入力部分!$I$46)-入力部分!$I$28)/入力部分!$I$37)^2)","v":6.4591349268837113E-3},0.56194473863888283,null,null,87,{"$f":"1/入力部分!$I$38/(2*3.14)^0.5*EXP(-1/2*(((W93+入力部分!$I$47)-入力部分!$I$29)/入力部分!$I$38)^2)","v":1.3172288059986922E-2},1.1459890612188623,null,null,87,{"$f":"1/入力部分!$I$39/(2*3.14)^0.5*EXP(-1/2*(((AB93+入力部分!$I$48)-入力部分!$I$30)/入力部分!$I$39)^2)","v":2.6061952958215694E-3},0.22673899073647655]
[null,null,null,null,null,null,null,null,88,{"$f":"(入力部分!D$7*N94+入力部分!D$8*S94+入力部分!D$9*X94+入力部分!D$10*AC94)/(SUM(入力部分!D$7:D$10))","v":6.6374276046074617E-3},null,null,88,{"$f":"1/入力部分!$I$36/(2*3.14)^0.5*EXP(-1/2*(((M94+入力部分!$I$45)-入力部分!$I$27)/入力部分!$I$36)^2)","v":3.2552339974590916E-3},0.28646059177640004,null,null,88,{"$f":"1/入力部分!$I$37/(2*3.14)^0.5*EXP(-1/2*(((R94+入力部分!$I$46)-入力部分!$I$28)/入力部分!$I$37)^2)","v":6.5002656989673144E-3},0.57202338150912369,null,null,88,{"$f":"1/入力部分!$I$38/(2*3.14)^0.5*EXP(-1/2*(((W94+入力部分!$I$47)-入力部分!$I$29)/入力部分!$I$38)^2)","v":1.3019768045204655E-2},1.1457395879780097,null,null,88,{"$f":"1/入力部分!$I$39/(2*3.14)^0.5*EXP(-1/2*(((AB94+入力部分!$I$48)-入力部分!$I$30)/入力部分!$I$39)^2)","v":2.1519268260446708E-3},0.18936956069193103]
[null,null,null,null,null,null,null,null,89,{"$f":"(入力部分!D$7*N95+入力部分!D$8*S95+入力部分!D$9*X95+入力部分!D$10*AC95)/(SUM(入力部分!D$7:D$10))","v":6.5164744460487417E-3},null,null,89,{"$f":"1/入力部分!$I$36/(2*3.14)^0.5*EXP(-1/2*(((M95+入力部分!$I$45)-入力部分!$I$27)/入力部分!$I$36)^2)","v":3.276633601397115E-3},0.29162039052434324,null,null,89,{"$f":"1/入力部分!$I$37/(2*3.14)^0.5*EXP(-1/2*(((R95+入力部分!$I$46)-入力部分!$I$28)/入力部分!$I$37)^2)","v":6.5396869732183664E-3},0.5820321406164346,null,null,89,{"$f":"1/入力部分!$I$38/(2*3.14)^0.5*EXP(-1/2*(((W95+入力部分!$I$47)-入力部分!$I$29)/入力部分!$I$38)^2)","v":1.2853508082348086E-2},1.1439622193289796,null,null,89,{"$f":"1/入力部分!$I$39/(2*3.14)^0.5*EXP(-1/2*(((AB95+入力部分!$I$48)-入力部分!$I$30)/入力部分!$I$39)^2)","v":1.7645424413207729E-3},0.1570442772775488]
[null,null,null,null,null,null,null,null,90,{"$f":"(入力部分!D$7*N96+入力部分!D$8*S96+入力部分!D$9*X96+入力部分!D$10*AC96)/(SUM(入力部分!D$7:D$10))","v":6.4064820458198711E-3},null,null,90,{"$f":"1/入力部分!$I$36/(2*3.14)^0.5*EXP(-1/2*(((M96+入力部分!$I$45)-入力部分!$I$27)/入力部分!$I$36)^2)","v":3.2978373874799523E-3},0.2968053648731957,null,null,90,{"$f":"1/入力部分!$I$37/(2*3.14)^0.5*EXP(-1/2*(((R96+入力部分!$I$46)-入力部分!$I$28)/入力部分!$I$37)^2)","v":6.577364550022992E-3},0.59196280950206925,null,null,90,{"$f":"1/入力部分!$I$38/(2*3.14)^0.5*EXP(-1/2*(((W96+入力部分!$I$47)-入力部分!$I$29)/入力部分!$I$38)^2)","v":1.267408172512699E-2},1.140667355261429,null,null,90,{"$f":"1/入力部分!$I$39/(2*3.14)^0.5*EXP(-1/2*(((AB96+入力部分!$I$48)-入力部分!$I$30)/入力部分!$I$39)^2)","v":1.4368809393780317E-3},0.12931928454402286]
[null,null,null,null,null,null,null,null,91,{"$f":"(入力部分!D$7*N97+入力部分!D$8*S97+入力部分!D$9*X97+入力部分!D$10*AC97)/(SUM(入力部分!D$7:D$10))","v":6.3058466750783877E-3},null,null,91,{"$f":"1/入力部分!$I$36/(2*3.14)^0.5*EXP(-1/2*(((M97+入力部分!$I$45)-入力部分!$I$27)/入力部分!$I$36)^2)","v":3.3188397478886838E-3},0.30201441705787024,null,null,91,{"$f":"1/入力部分!$I$37/(2*3.14)^0.5*EXP(-1/2*(((R97+入力部分!$I$46)-入力部分!$I$28)/入力部分!$I$37)^2)","v":6.6132656086343002E-3},0.60180717038572129,null,null,91,{"$f":"1/入力部分!$I$38/(2*3.14)^0.5*EXP(-1/2*(((W97+入力部分!$I$47)-入力部分!$I$29)/入力部分!$I$38)^2)","v":1.2482102133559176E-2},1.1358712941538851,null,null,91,{"$f":"1/入力部分!$I$39/(2*3.14)^0.5*EXP(-1/2*(((AB97+入力部分!$I$48)-入力部分!$I$30)/入力部分!$I$39)^2)","v":1.1619662798585848E-3},0.10573893146713122]
[null,null,null,null,null,null,null,null,92,{"$f":"(入力部分!D$7*N98+入力部分!D$8*S98+入力部分!D$9*X98+入力部分!D$10*AC98)/(SUM(入力部分!D$7:D$10))","v":6.2130554616387943E-3},null,null,92,{"$f":"1/入力部分!$I$36/(2*3.14)^0.5*EXP(-1/2*(((M98+入力部分!$I$45)-入力部分!$I$27)/入力部分!$I$36)^2)","v":3.3396351006525016E-3},0.30724642926003015,null,null,92,{"$f":"1/入力部分!$I$37/(2*3.14)^0.5*EXP(-1/2*(((R98+入力部分!$I$46)-入力部分!$I$28)/入力部分!$I$37)^2)","v":6.6473587547904193E-3},0.61155700544071856,null,null,92,{"$f":"1/入力部分!$I$38/(2*3.14)^0.5*EXP(-1/2*(((W98+入力部分!$I$47)-入力部分!$I$29)/入力部分!$I$38)^2)","v":1.2278218587662567E-2},1.1295961100649561,null,null,92,{"$f":"1/入力部分!$I$39/(2*3.14)^0.5*EXP(-1/2*(((AB98+入力部分!$I$48)-入力部分!$I$30)/入力部分!$I$39)^2)","v":9.3314757638073606E-4},8.5849577027027724E-2]
[null,null,null,null,null,null,null,null,93,{"$f":"(入力部分!D$7*N99+入力部分!D$8*S99+入力部分!D$9*X99+入力部分!D$10*AC99)/(SUM(入力部分!D$7:D$10))","v":6.1267113802378056E-3},null,null,93,{"$f":"1/入力部分!$I$36/(2*3.14)^0.5*EXP(-1/2*(((M99+入力部分!$I$45)-入力部分!$I$27)/入力部分!$I$36)^2)","v":3.3602178920985118E-3},0.31250026396516162,null,null,93,{"$f":"1/入力部分!$I$37/(2*3.14)^0.5*EXP(-1/2*(((R99+入力部分!$I$46)-入力部分!$I$28)/入力部分!$I$37)^2)","v":6.6796140664444189E-3},0.62120410817933092,null,null,93,{"$f":"1/入力部分!$I$38/(2*3.14)^0.5*EXP(-1/2*(((W99+入力部分!$I$47)-入力部分!$I$29)/入力部分!$I$38)^2)","v":1.2063112835949068E-2},1.1218694937432634,null,null,93,{"$f":"1/入力部分!$I$39/(2*3.14)^0.5*EXP(-1/2*(((AB99+入力部分!$I$48)-入力部分!$I$30)/入力部分!$I$39)^2)","v":7.4420263928627313E-4},6.9210845453623396E-2]
[null,null,null,null,null,null,null,null,94,{"$f":"(入力部分!D$7*N100+入力部分!D$8*S100+入力部分!D$9*X100+入力部分!D$10*AC100)/(SUM(入力部分!D$7:D$10))","v":6.0455498687931259E-3},null,null,94,{"$f":"1/入力部分!$I$36/(2*3.14)^0.5*EXP(-1/2*(((M100+入力部分!$I$45)-入力部分!$I$27)/入力部分!$I$36)^2)","v":3.3805825993025321E-3},0.31777476433443802,null,null,94,{"$f":"1/入力部分!$I$37/(2*3.14)^0.5*EXP(-1/2*(((R100+入力部分!$I$46)-入力部分!$I$28)/入力部分!$I$37)^2)","v":6.7100031375129368E-3},0.63074029492621608,null,null,94,{"$f":"1/入力部分!$I$38/(2*3.14)^0.5*EXP(-1/2*(((W100+入力部分!$I$47)-入力部分!$I$29)/入力部分!$I$38)^2)","v":1.1837495307400652E-2},1.1127245588956614,null,null,94,{"$f":"1/入力部分!$I$39/(2*3.14)^0.5*EXP(-1/2*(((AB100+入力部分!$I$48)-入力部分!$I$30)/入力部分!$I$39)^2)","v":5.894081618511818E-4},5.540436721401109E-2]
[null,null,null,null,null,null,null,null,95,{"$f":"(入力部分!D$7*N101+入力部分!D$8*S101+入力部分!D$9*X101+入力部分!D$10*AC101)/(SUM(入力部分!D$7:D$10))","v":5.9684480632250774E-3},null,null,95,{"$f":"1/入力部分!$I$36/(2*3.14)^0.5*EXP(-1/2*(((M101+入力部分!$I$45)-入力部分!$I$27)/入力部分!$I$36)^2)","v":3.4007237325393868E-3},0.32306875459124174,null,null,95,{"$f":"1/入力部分!$I$37/(2*3.14)^0.5*EXP(-1/2*(((R101+入力部分!$I$46)-入力部分!$I$28)/入力部分!$I$37)^2)","v":6.7384991195539737E-3},0.64015741635762746,null,null,95,{"$f":"1/入力部分!$I$38/(2*3.14)^0.5*EXP(-1/2*(((W101+入力部分!$I$47)-入力部分!$I$29)/入力部分!$I$38)^2)","v":1.1602101216298266E-2},1.1021996155483353,null,null,95,{"$f":"1/入力部分!$I$39/(2*3.14)^0.5*EXP(-1/2*(((AB101+入力部分!$I$48)-入力部分!$I$30)/入力部分!$I$39)^2)","v":4.6358049100138934E-4},4.4040146645131985E-2]
[null,null,null,null,null,null,null,null,96,{"$f":"(入力部分!D$7*N102+入力部分!D$8*S102+入力部分!D$9*X102+入力部分!D$10*AC102)/(SUM(入力部分!D$7:D$10))","v":5.8944277652944058E-3},null,null,96,{"$f":"1/入力部分!$I$36/(2*3.14)^0.5*EXP(-1/2*(((M102+入力部分!$I$45)-入力部分!$I$27)/入力部分!$I$36)^2)","v":3.42063583773119E-3},0.32838104042219424,null,null,96,{"$f":"1/入力部分!$I$37/(2*3.14)^0.5*EXP(-1/2*(((R102+入力部分!$I$46)-入力部分!$I$28)/入力部分!$I$37)^2)","v":6.7650767612883102E-3},0.64944736908367773,null,null,96,{"$f":"1/入力部分!$I$38/(2*3.14)^0.5*EXP(-1/2*(((W102+入力部分!$I$47)-入力部分!$I$29)/入力部分!$I$38)^2)","v":1.1357686589672648E-2},1.0903379126085742,null,null,96,{"$f":"1/入力部分!$I$39/(2*3.14)^0.5*EXP(-1/2*(((AB102+入力部分!$I$48)-入力部分!$I$30)/入力部分!$I$39)^2)","v":3.620914107069186E-4},3.4760775427864182E-2]
[null,null,null,null,null,null,null,null,97,{"$f":"(入力部分!D$7*N103+入力部分!D$8*S103+入力部分!D$9*X103+入力部分!D$10*AC103)/(SUM(入力部分!D$7:D$10))","v":5.8226533006319123E-3},null,null,97,{"$f":"1/入力部分!$I$36/(2*3.14)^0.5*EXP(-1/2*(((M103+入力部分!$I$45)-入力部分!$I$27)/入力部分!$I$36)^2)","v":3.4403134988920982E-3},0.33371040939253355,null,null,97,{"$f":"1/入力部分!$I$37/(2*3.14)^0.5*EXP(-1/2*(((R103+入力部分!$I$46)-入力部分!$I$28)/入力部分!$I$37)^2)","v":6.7897124458831054E-3},0.65860210725066126,null,null,97,{"$f":"1/入力部分!$I$38/(2*3.14)^0.5*EXP(-1/2*(((W103+入力部分!$I$47)-入力部分!$I$29)/入力部分!$I$38)^2)","v":1.1105024247253417E-2},1.0771873519835815,null,null,97,{"$f":"1/入力部分!$I$39/(2*3.14)^0.5*EXP(-1/2*(((AB103+入力部分!$I$48)-入力部分!$I$30)/入力部分!$I$39)^2)","v":2.8086353700352472E-4},2.7243763089341899E-2]
[null,null,null,null,null,null,null,null,98,{"$f":"(入力部分!D$7*N104+入力部分!D$8*S104+入力部分!D$9*X104+入力部分!D$10*AC104)/(SUM(入力部分!D$7:D$10))","v":5.7524254014954292E-3},null,null,98,{"$f":"1/入力部分!$I$36/(2*3.14)^0.5*EXP(-1/2*(((M104+入力部分!$I$45)-入力部分!$I$27)/入力部分!$I$36)^2)","v":3.4597513405680209E-3},0.33905563137566602,null,null,98,{"$f":"1/入力部分!$I$37/(2*3.14)^0.5*EXP(-1/2*(((R104+入力部分!$I$46)-入力部分!$I$28)/入力部分!$I$37)^2)","v":6.8123842259206306E-3},0.66761365414022178,null,null,98,{"$f":"1/入力部分!$I$38/(2*3.14)^0.5*EXP(-1/2*(((W104+入力部分!$I$47)-入力部分!$I$29)/入力部分!$I$38)^2)","v":1.0844899763613219E-2},1.0628001768340956,null,null,98,{"$f":"1/入力部分!$I$39/(2*3.14)^0.5*EXP(-1/2*(((AB104+入力部分!$I$48)-入力部分!$I$30)/入力部分!$I$39)^2)","v":2.1634983320354041E-4},2.1202283653946961E-2]
[null,null,null,null,null,null,null,null,99,{"$f":"(入力部分!D$7*N105+入力部分!D$8*S105+入力部分!D$9*X105+入力部分!D$10*AC105)/(SUM(入力部分!D$7:D$10))","v":5.6831721757301234E-3},null,null,99,{"$f":"1/入力部分!$I$36/(2*3.14)^0.5*EXP(-1/2*(((M105+入力部分!$I$45)-入力部分!$I$27)/入力部分!$I$36)^2)","v":3.4789440302697493E-3},0.34441545899670517,null,null,99,{"$f":"1/入力部分!$I$37/(2*3.14)^0.5*EXP(-1/2*(((R105+入力部分!$I$46)-入力部分!$I$28)/入力部分!$I$37)^2)","v":6.8330718559796808E-3},0.6764741137419884,null,null,99,{"$f":"1/入力部分!$I$38/(2*3.14)^0.5*EXP(-1/2*(((W105+入力部分!$I$47)-入力部分!$I$29)/入力部分!$I$38)^2)","v":1.057810744174454E-2},1.0472326367327094,null,null,99,{"$f":"1/入力部分!$I$39/(2*3.14)^0.5*EXP(-1/2*(((AB105+入力部分!$I$48)-入力部分!$I$30)/入力部分!$I$39)^2)","v":1.6550146207155894E-4},1.6384644745084335E-2]
[null,null,null,null,null,null,null,null,100,{"$f":"(入力部分!D$7*N106+入力部分!D$8*S106+入力部分!D$9*X106+入力部分!D$10*AC106)/(SUM(入力部分!D$7:D$10))","v":5.61443811477229E-3},null,null,100,{"$f":"1/入力部分!$I$36/(2*3.14)^0.5*EXP(-1/2*(((M106+入力部分!$I$45)-入力部分!$I$27)/入力部分!$I$36)^2)","v":3.4978862808979793E-3},0.34978862808979794,null,null,100,{"$f":"1/入力部分!$I$37/(2*3.14)^0.5*EXP(-1/2*(((R106+入力部分!$I$46)-入力部分!$I$28)/入力部分!$I$37)^2)","v":6.8517568227619346E-3},0.68517568227619341,null,null,100,{"$f":"1/入力部分!$I$38/(2*3.14)^0.5*EXP(-1/2*(((W106+入力部分!$I$47)-入力部分!$I$29)/入力部分!$I$38)^2)","v":1.0305446326578739E-2},1.030544632657874,null,null,100,{"$f":"1/入力部分!$I$39/(2*3.14)^0.5*EXP(-1/2*(((AB106+入力部分!$I$48)-入力部分!$I$30)/入力部分!$I$39)^2)","v":1.2572775791853448E-4},1.2572775791853447E-2]
[null,null,null,null,null,null,null,null,101,{"$f":"(入力部分!D$7*N107+入力部分!D$8*S107+入力部分!D$9*X107+入力部分!D$10*AC107)/(SUM(入力部分!D$7:D$10))","v":5.545871963096756E-3},null,null,101,{"$f":"1/入力部分!$I$36/(2*3.14)^0.5*EXP(-1/2*(((M107+入力部分!$I$45)-入力部分!$I$27)/入力部分!$I$36)^2)","v":3.5165728531586955E-3},0.35517385816902824,null,null,101,{"$f":"1/入力部分!$I$37/(2*3.14)^0.5*EXP(-1/2*(((R107+入力部分!$I$46)-入力部分!$I$28)/入力部分!$I$37)^2)","v":6.8684223727005431E-3},0.6937106596427548,null,null,101,{"$f":"1/入力部分!$I$38/(2*3.14)^0.5*EXP(-1/2*(((W107+入力部分!$I$47)-入力部分!$I$29)/入力部分!$I$38)^2)","v":1.0027716285973622E-2},1.0127993448833359,null,null,101,{"$f":"1/入力部分!$I$39/(2*3.14)^0.5*EXP(-1/2*(((AB107+入力部分!$I$48)-入力部分!$I$30)/入力部分!$I$39)^2)","v":9.4851580783238875E-5},9.580009659107127E-3]
[null,null,null,null,null,null,null,null,102,{"$f":"(入力部分!D$7*N108+入力部分!D$8*S108+入力部分!D$9*X108+入力部分!D$10*AC108)/(SUM(入力部分!D$7:D$10))","v":5.4772141312809594E-3},null,null,102,{"$f":"1/入力部分!$I$36/(2*3.14)^0.5*EXP(-1/2*(((M108+入力部分!$I$45)-入力部分!$I$27)/入力部分!$I$36)^2)","v":3.5349985579673734E-3},0.36056985291267207,null,null,102,{"$f":"1/入力部分!$I$37/(2*3.14)^0.5*EXP(-1/2*(((R108+入力部分!$I$46)-入力部分!$I$28)/入力部分!$I$37)^2)","v":6.8830535369932867E-3},0.70207146077331528,null,null,102,{"$f":"1/入力部分!$I$38/(2*3.14)^0.5*EXP(-1/2*(((W108+入力部分!$I$47)-入力部分!$I$29)/入力部分!$I$38)^2)","v":9.7457141854735696E-3},0.99406284691830415,null,null,102,{"$f":"1/入力部分!$I$39/(2*3.14)^0.5*EXP(-1/2*(((AB108+入力部分!$I$48)-入力部分!$I$30)/入力部分!$I$39)^2)","v":7.1062755176651307E-5},7.2484010280184329E-3]
[null,null,null,null,null,null,null,null,103,{"$f":"(入力部分!D$7*N109+入力部分!D$8*S109+入力部分!D$9*X109+入力部分!D$10*AC109)/(SUM(入力部分!D$7:D$10))","v":5.4082841947055149E-3},null,null,103,{"$f":"1/入力部分!$I$36/(2*3.14)^0.5*EXP(-1/2*(((M109+入力部分!$I$45)-入力部分!$I$27)/入力部分!$I$36)^2)","v":3.5531582588404671E-3},0.3659753006605681,null,null,103,{"$f":"1/入力部分!$I$37/(2*3.14)^0.5*EXP(-1/2*(((R109+入力部分!$I$46)-入力部分!$I$28)/入力部分!$I$37)^2)","v":6.8956371540079631E-3},0.71025062686282014,null,null,103,{"$f":"1/入力部分!$I$38/(2*3.14)^0.5*EXP(-1/2*(((W109+入力部分!$I$47)-入力部分!$I$29)/入力部分!$I$38)^2)","v":9.4602301817040494E-3},0.97440370871551707,null,null,103,{"$f":"1/入力部分!$I$39/(2*3.14)^0.5*EXP(-1/2*(((AB109+入力部分!$I$48)-入力部分!$I$30)/入力部分!$I$39)^2)","v":5.2871736685833107E-5},5.4457888786408103E-3]
[null,null,null,null,null,null,null,null,104,{"$f":"(入力部分!D$7*N110+入力部分!D$8*S110+入力部分!D$9*X110+入力部分!D$10*AC110)/(SUM(入力部分!D$7:D$10))","v":5.3389688873797334E-3},null,null,104,{"$f":"1/入力部分!$I$36/(2*3.14)^0.5*EXP(-1/2*(((M110+入力部分!$I$45)-入力部分!$I$27)/入力部分!$I$36)^2)","v":3.5710468742726508E-3},0.37138887492435568,null,null,104,{"$f":"1/入力部分!$I$37/(2*3.14)^0.5*EXP(-1/2*(((R110+入力部分!$I$46)-入力部分!$I$28)/入力部分!$I$37)^2)","v":6.9061618890130403E-3},0.71824083645735615,null,null,104,{"$f":"1/入力部分!$I$38/(2*3.14)^0.5*EXP(-1/2*(((W110+入力部分!$I$47)-入力部分!$I$29)/入力部分!$I$38)^2)","v":9.17204415762078E-3},0.95389259239256108,null,null,104,{"$f":"1/入力部分!$I$39/(2*3.14)^0.5*EXP(-1/2*(((AB110+入力部分!$I$48)-入力部分!$I$30)/入力部分!$I$39)^2)","v":3.9065121242268496E-5},4.0627726091959238E-3]
[null,null,null,null,null,null,null,null,105,{"$f":"(入力部分!D$7*N111+入力部分!D$8*S111+入力部分!D$9*X111+入力部分!D$10*AC111)/(SUM(入力部分!D$7:D$10))","v":5.2692108807562352E-3},null,null,105,{"$f":"1/入力部分!$I$36/(2*3.14)^0.5*EXP(-1/2*(((M111+入力部分!$I$45)-入力部分!$I$27)/入力部分!$I$36)^2)","v":3.5886593800982707E-3},0.37680923491031842,null,null,105,{"$f":"1/入力部分!$I$37/(2*3.14)^0.5*EXP(-1/2*(((R111+入力部分!$I$46)-入力部分!$I$28)/入力部分!$I$37)^2)","v":6.9146182511921842E-3},0.72603491637517936,null,null,105,{"$f":"1/入力部分!$I$38/(2*3.14)^0.5*EXP(-1/2*(((W111+入力部分!$I$47)-入力部分!$I$29)/入力部分!$I$38)^2)","v":8.8819223210160596E-3},0.93260184370668631,null,null,105,{"$f":"1/入力部分!$I$39/(2*3.14)^0.5*EXP(-1/2*(((AB111+入力部分!$I$48)-入力部分!$I$30)/入力部分!$I$39)^2)","v":2.8664135171468804E-5},3.0097341930042246E-3]
[null,null,null,null,null,null,null,null,106,{"$f":"(入力部分!D$7*N112+入力部分!D$8*S112+入力部分!D$9*X112+入力部分!D$10*AC112)/(SUM(入力部分!D$7:D$10))","v":5.1989985339013257E-3},null,null,106,{"$f":"1/入力部分!$I$36/(2*3.14)^0.5*EXP(-1/2*(((M112+入力部分!$I$45)-入力部分!$I$27)/入力部分!$I$36)^2)","v":3.6059908118354906E-3},0.382235026054562,null,null,106,{"$f":"1/入力部分!$I$37/(2*3.14)^0.5*EXP(-1/2*(((R112+入力部分!$I$46)-入力部分!$I$28)/入力部分!$I$37)^2)","v":6.9209986079069056E-3},0.73362585243813194,null,null,106,{"$f":"1/入力部分!$I$38/(2*3.14)^0.5*EXP(-1/2*(((W112+入力部分!$I$47)-入力部分!$I$29)/入力部分!$I$38)^2)","v":8.5906139857149146E-3},0.91060508248578098,null,null,106,{"$f":"1/入力部分!$I$39/(2*3.14)^0.5*EXP(-1/2*(((AB112+入力部分!$I$48)-入力部分!$I$30)/入力部分!$I$39)^2)","v":2.0886832112285498E-5},2.214004203902263E-3]
[null,null,null,null,null,null,null,null,107,{"$f":"(入力部分!D$7*N113+入力部分!D$8*S113+入力部分!D$9*X113+入力部分!D$10*AC113)/(SUM(入力部分!D$7:D$10))","v":5.1283567154716174E-3},null,null,107,{"$f":"1/入力部分!$I$36/(2*3.14)^0.5*EXP(-1/2*(((M113+入力部分!$I$45)-入力部分!$I$27)/入力部分!$I$36)^2)","v":3.6230362670115887E-3},0.38766488057024001,null,null,107,{"$f":"1/入力部分!$I$37/(2*3.14)^0.5*EXP(-1/2*(((R113+入力部分!$I$46)-入力部分!$I$28)/入力部分!$I$37)^2)","v":6.9252971961773135E-3},0.74100679999097252,null,null,107,{"$f":"1/入力部分!$I$38/(2*3.14)^0.5*EXP(-1/2*(((W113+入力部分!$I$47)-入力部分!$I$29)/入力部分!$I$38)^2)","v":8.2988485527970418E-3},0.88797679514928352,null,null,107,{"$f":"1/入力部分!$I$39/(2*3.14)^0.5*EXP(-1/2*(((AB113+入力部分!$I$48)-入力部分!$I$30)/入力部分!$I$39)^2)","v":1.5114381317661394E-5},1.6172388009897691E-3]
[null,null,null,null,null,null,null,null,108,{"$f":"(入力部分!D$7*N114+入力部分!D$8*S114+入力部分!D$9*X114+入力部分!D$10*AC114)/(SUM(入力部分!D$7:D$10))","v":5.0573387296511839E-3},null,null,108,{"$f":"1/入力部分!$I$36/(2*3.14)^0.5*EXP(-1/2*(((M114+入力部分!$I$45)-入力部分!$I$27)/入力部分!$I$36)^2)","v":3.6397909074679024E-3},0.39309741800653347,null,null,108,{"$f":"1/入力部分!$I$37/(2*3.14)^0.5*EXP(-1/2*(((R114+入力部分!$I$46)-入力部分!$I$28)/入力部分!$I$37)^2)","v":6.9275101313568148E-3},0.74817109418653605,null,null,108,{"$f":"1/入力部分!$I$38/(2*3.14)^0.5*EXP(-1/2*(((W114+入力部分!$I$47)-入力部分!$I$29)/入力部分!$I$38)^2)","v":8.0073327069834881E-3},0.8647919323542167,null,null,108,{"$f":"1/入力部分!$I$39/(2*3.14)^0.5*EXP(-1/2*(((AB114+入力部分!$I$48)-入力部分!$I$30)/入力部分!$I$39)^2)","v":1.0861560852077061E-5},1.1730485720243225E-3]
[null,null,null,null,null,null,null,null,109,{"$f":"(入力部分!D$7*N115+入力部分!D$8*S115+入力部分!D$9*X115+入力部分!D$10*AC115)/(SUM(入力部分!D$7:D$10))","v":4.9860193265122456E-3},null,null,109,{"$f":"1/入力部分!$I$36/(2*3.14)^0.5*EXP(-1/2*(((M115+入力部分!$I$45)-入力部分!$I$27)/入力部分!$I$36)^2)","v":3.6562499616428963E-3},0.39853124581907567,null,null,109,{"$f":"1/入力部分!$I$37/(2*3.14)^0.5*EXP(-1/2*(((R115+入力部分!$I$46)-入力部分!$I$28)/入力部分!$I$37)^2)","v":6.9276354129824648E-3},0.75511226001508869,null,null,109,{"$f":"1/入力部分!$I$38/(2*3.14)^0.5*EXP(-1/2*(((W115+入力部分!$I$47)-入力部分!$I$29)/入力部分!$I$38)^2)","v":7.7167478410557714E-3},0.84112551467507912,null,null,109,{"$f":"1/入力部分!$I$39/(2*3.14)^0.5*EXP(-1/2*(((AB115+入力部分!$I$48)-入力部分!$I$30)/入力部分!$I$39)^2)","v":7.7513646980657997E-6},8.4489875208917215E-4]
[null,null,null,null,null,null,null,null,110,{"$f":"(入力部分!D$7*N116+入力部分!D$8*S116+入力部分!D$9*X116+入力部分!D$10*AC116)/(SUM(入力部分!D$7:D$10))","v":4.9144887404499174E-3},null,null,110,{"$f":"1/入力部分!$I$36/(2*3.14)^0.5*EXP(-1/2*(((M116+入力部分!$I$45)-入力部分!$I$27)/入力部分!$I$36)^2)","v":3.6724087268318576E-3},0.40396495995150433,null,null,110,{"$f":"1/入力部分!$I$37/(2*3.14)^0.5*EXP(-1/2*(((R116+入力部分!$I$46)-入力部分!$I$28)/入力部分!$I$37)^2)","v":6.9256729277886574E-3},0.76182402205675237,null,null,110,{"$f":"1/入力部分!$I$38/(2*3.14)^0.5*EXP(-1/2*(((W116+入力部分!$I$47)-入力部分!$I$29)/入力部分!$I$38)^2)","v":7.4277477188566393E-3},0.81705224907423035,null,null,110,{"$f":"1/入力部分!$I$39/(2*3.14)^0.5*EXP(-1/2*(((AB116+入力部分!$I$48)-入力部分!$I$30)/入力部分!$I$39)^2)","v":5.4934878441167757E-6},6.0428366285284537E-4]
[null,null,null,null,null,null,null,null,111,{"$f":"(入力部分!D$7*N117+入力部分!D$8*S117+入力部分!D$9*X117+入力部分!D$10*AC117)/(SUM(入力部分!D$7:D$10))","v":4.842847676273237E-3},null,null,111,{"$f":"1/入力部分!$I$36/(2*3.14)^0.5*EXP(-1/2*(((M117+入力部分!$I$45)-入力部分!$I$27)/入力部分!$I$36)^2)","v":3.6882625714217171E-3},0.40939714542781058,null,null,111,{"$f":"1/入力部分!$I$37/(2*3.14)^0.5*EXP(-1/2*(((R117+入力部分!$I$46)-入力部分!$I$28)/入力部分!$I$37)^2)","v":6.9216244498777691E-3},0.76830031393643239,null,null,111,{"$f":"1/入力部分!$I$38/(2*3.14)^0.5*EXP(-1/2*(((W117+入力部分!$I$47)-入力部分!$I$29)/入力部分!$I$38)^2)","v":7.1409563850818791E-3},0.79264615874408861,null,null,111,{"$f":"1/入力部分!$I$39/(2*3.14)^0.5*EXP(-1/2*(((AB117+入力部分!$I$48)-入力部分!$I$30)/入力部分!$I$39)^2)","v":3.8663594835568636E-6},4.2916590267481187E-4]
[null,null,null,null,null,null,null,null,112,{"$f":"(入力部分!D$7*N118+入力部分!D$8*S118+入力部分!D$9*X118+入力部分!D$10*AC118)/(SUM(入力部分!D$7:D$10))","v":4.771203148916249E-3},null,null,112,{"$f":"1/入力部分!$I$36/(2*3.14)^0.5*EXP(-1/2*(((M118+入力部分!$I$45)-入力部分!$I$27)/入力部分!$I$36)^2)","v":3.7038069370995182E-3},0.41482637695514601,null,null,112,{"$f":"1/入力部分!$I$37/(2*3.14)^0.5*EXP(-1/2*(((R118+入力部分!$I$46)-入力部分!$I$28)/入力部分!$I$37)^2)","v":6.9154936380474308E-3},0.77453528746131228,null,null,112,{"$f":"1/入力部分!$I$38/(2*3.14)^0.5*EXP(-1/2*(((W118+入力部分!$I$47)-入力部分!$I$29)/入力部分!$I$38)^2)","v":6.856966327737378E-3},0.76798022870658633,null,null,112,{"$f":"1/入力部分!$I$39/(2*3.14)^0.5*EXP(-1/2*(((AB118+入力部分!$I$48)-入力部分!$I$30)/入力部分!$I$39)^2)","v":2.7023423067129577E-6},3.0266233835185124E-4]
[null,null,null,null,null,null,null,null,113,{"$f":"(入力部分!D$7*N119+入力部分!D$8*S119+入力部分!D$9*X119+入力部分!D$10*AC119)/(SUM(入力部分!D$7:D$10))","v":4.6996650773033586E-3},null,null,113,{"$f":"1/入力部分!$I$36/(2*3.14)^0.5*EXP(-1/2*(((M119+入力部分!$I$45)-入力部分!$I$27)/入力部分!$I$36)^2)","v":3.7190373410330613E-3},0.42025121953673594,null,null,113,{"$f":"1/入力部分!$I$37/(2*3.14)^0.5*EXP(-1/2*(((R119+入力部分!$I$46)-入力部分!$I$28)/入力部分!$I$37)^2)","v":6.9072860302800331E-3},0.78052332142164371,null,null,113,{"$f":"1/入力部分!$I$38/(2*3.14)^0.5*EXP(-1/2*(((W119+入力部分!$I$47)-入力部分!$I$29)/入力部分!$I$38)^2)","v":6.5763368968294947E-3},0.74312606934173286,null,null,113,{"$f":"1/入力部分!$I$39/(2*3.14)^0.5*EXP(-1/2*(((AB119+入力部分!$I$48)-入力部分!$I$30)/入力部分!$I$39)^2)","v":1.8756964473584902E-6},2.1195369855150938E-4]
[null,null,null,null,null,null,null,null,114,{"$f":"(入力部分!D$7*N120+入力部分!D$8*S120+入力部分!D$9*X120+入力部分!D$10*AC120)/(SUM(入力部分!D$7:D$10))","v":4.6283435335700432E-3},null,null,114,{"$f":"1/入力部分!$I$36/(2*3.14)^0.5*EXP(-1/2*(((M120+入力部分!$I$45)-入力部分!$I$27)/入力部分!$I$36)^2)","v":3.7339493780222596E-3},0.42567022909453761,null,null,114,{"$f":"1/入力部分!$I$37/(2*3.14)^0.5*EXP(-1/2*(((R120+入力部分!$I$46)-入力部分!$I$28)/入力部分!$I$37)^2)","v":6.8970090354061051E-3},0.78625903003629594,null,null,114,{"$f":"1/入力部分!$I$38/(2*3.14)^0.5*EXP(-1/2*(((W120+入力部分!$I$47)-入力部分!$I$29)/入力部分!$I$38)^2)","v":6.29959298060333E-3},0.71815359978877957,null,null,114,{"$f":"1/入力部分!$I$39/(2*3.14)^0.5*EXP(-1/2*(((AB120+入力部分!$I$48)-入力部分!$I$30)/入力部分!$I$39)^2)","v":1.2929115565550767E-6},1.4739191744727874E-4]
[null,null,null,null,null,null,null,null,115,{"$f":"(入力部分!D$7*N121+入力部分!D$8*S121+入力部分!D$9*X121+入力部分!D$10*AC121)/(SUM(入力部分!D$7:D$10))","v":4.5573465537655025E-3},null,null,115,{"$f":"1/入力部分!$I$36/(2*3.14)^0.5*EXP(-1/2*(((M121+入力部分!$I$45)-入力部分!$I$27)/入力部分!$I$36)^2)","v":3.7485387226197761E-3},0.43108195310127423,null,null,115,{"$f":"1/入力部分!$I$37/(2*3.14)^0.5*EXP(-1/2*(((R121+入力部分!$I$46)-入力部分!$I$28)/入力部分!$I$37)^2)","v":6.8846719219591256E-3},0.79173727102529945,null,null,115,{"$f":"1/入力部分!$I$38/(2*3.14)^0.5*EXP(-1/2*(((W121+入力部分!$I$47)-入力部分!$I$29)/入力部分!$I$38)^2)","v":6.0272239384644008E-3},0.69313075292340609,null,null,115,{"$f":"1/入力部分!$I$39/(2*3.14)^0.5*EXP(-1/2*(((AB121+入力部分!$I$48)-入力部分!$I$30)/入力部分!$I$39)^2)","v":8.8503234903193857E-7},1.0177872013867294E-4]
[null,null,null,null,null,null,null,null,116,{"$f":"(入力部分!D$7*N122+入力部分!D$8*S122+入力部分!D$9*X122+入力部分!D$10*AC122)/(SUM(入力部分!D$7:D$10))","v":4.4867784238074391E-3},null,null,116,{"$f":"1/入力部分!$I$36/(2*3.14)^0.5*EXP(-1/2*(((M122+入力部分!$I$45)-入力部分!$I$27)/入力部分!$I$36)^2)","v":3.7628011312195019E-3},0.4364849312214622,null,null,116,{"$f":"1/入力部分!$I$37/(2*3.14)^0.5*EXP(-1/2*(((R122+入力部分!$I$46)-入力部分!$I$28)/入力部分!$I$37)^2)","v":6.8702858042452341E-3},0.7969531532924472,null,null,116,{"$f":"1/入力部分!$I$38/(2*3.14)^0.5*EXP(-1/2*(((W122+入力部分!$I$47)-入力部分!$I$29)/入力部分!$I$38)^2)","v":5.7596827876351441E-3},0.66812320336567677,null,null,116,{"$f":"1/入力部分!$I$39/(2*3.14)^0.5*EXP(-1/2*(((AB122+入力部分!$I$48)-入力部分!$I$30)/入力部分!$I$39)^2)","v":6.0163561701389072E-7},6.978973157361132E-5]
[null,null,null,null,null,null,null,null,117,{"$f":"(入力部分!D$7*N123+入力部分!D$8*S123+入力部分!D$9*X123+入力部分!D$10*AC123)/(SUM(入力部分!D$7:D$10))","v":4.4167383635874127E-3},null,null,117,{"$f":"1/入力部分!$I$36/(2*3.14)^0.5*EXP(-1/2*(((M123+入力部分!$I$45)-入力部分!$I$27)/入力部分!$I$36)^2)","v":3.7767324441114708E-3},0.44187769596104209,null,null,117,{"$f":"1/入力部分!$I$37/(2*3.14)^0.5*EXP(-1/2*(((R123+入力部分!$I$46)-入力部分!$I$28)/入力部分!$I$37)^2)","v":6.8538636256571528E-3},0.80190204420188693,null,null,117,{"$f":"1/入力部分!$I$38/(2*3.14)^0.5*EXP(-1/2*(((W123+入力部分!$I$47)-入力部分!$I$29)/入力部分!$I$38)^2)","v":5.4973856386262773E-3},0.64319411971927443,null,null,117,{"$f":"1/入力部分!$I$39/(2*3.14)^0.5*EXP(-1/2*(((AB123+入力部分!$I$48)-入力部分!$I$30)/入力部分!$I$39)^2)","v":4.0615518191103536E-7},4.7520156283591136E-5]
[null,null,null,null,null,null,null,null,118,{"$f":"(入力部分!D$7*N124+入力部分!D$8*S124+入力部分!D$9*X124+入力部分!D$10*AC124)/(SUM(入力部分!D$7:D$10))","v":4.3473195417972985E-3},null,null,118,{"$f":"1/入力部分!$I$36/(2*3.14)^0.5*EXP(-1/2*(((M124+入力部分!$I$45)-入力部分!$I$27)/入力部分!$I$36)^2)","v":3.7903285875018223E-3},0.44725877332521502,null,null,118,{"$f":"1/入力部分!$I$37/(2*3.14)^0.5*EXP(-1/2*(((R124+入力部分!$I$46)-入力部分!$I$28)/入力部分!$I$37)^2)","v":6.8354201392673928E-3},0.80657957643355238,null,null,118,{"$f":"1/入力部分!$I$38/(2*3.14)^0.5*EXP(-1/2*(((W124+入力部分!$I$47)-入力部分!$I$29)/入力部分!$I$38)^2)","v":5.2407113727612831E-3},0.61840394198583137,null,null,118,{"$f":"1/入力部分!$I$39/(2*3.14)^0.5*EXP(-1/2*(((AB124+入力部分!$I$48)-入力部分!$I$30)/入力部分!$I$39)^2)","v":2.7229177591227983E-7},3.2130429557649019E-5]
[null,null,null,null,null,null,null,null,119,{"$f":"(入力部分!D$7*N125+入力部分!D$8*S125+入力部分!D$9*X125+入力部分!D$10*AC125)/(SUM(入力部分!D$7:D$10))","v":4.2786083635847297E-3},null,null,119,{"$f":"1/入力部分!$I$36/(2*3.14)^0.5*EXP(-1/2*(((M125+入力部分!$I$45)-入力部分!$I$27)/入力部分!$I$36)^2)","v":3.8035855754964369E-3},0.45262668348407598,null,null,119,{"$f":"1/入力部分!$I$37/(2*3.14)^0.5*EXP(-1/2*(((R125+入力部分!$I$46)-入力部分!$I$28)/入力部分!$I$37)^2)","v":6.8149718857414623E-3},0.810981654403234,null,null,119,{"$f":"1/入力部分!$I$38/(2*3.14)^0.5*EXP(-1/2*(((W125+入力部分!$I$47)-入力部分!$I$29)/入力部分!$I$38)^2)","v":4.990001553293431E-3},0.59381018484191828,null,null,119,{"$f":"1/入力部分!$I$39/(2*3.14)^0.5*EXP(-1/2*(((AB125+入力部分!$I$48)-入力部分!$I$30)/入力部分!$I$39)^2)","v":1.8128468507592623E-7},2.157287752403522E-5]
[null,null,null,null,null,null,null,null,120,{"$f":"(入力部分!D$7*N126+入力部分!D$8*S126+入力部分!D$9*X126+入力部分!D$10*AC126)/(SUM(入力部分!D$7:D$10))","v":4.2106839820927845E-3},null,null,120,{"$f":"1/入力部分!$I$36/(2*3.14)^0.5*EXP(-1/2*(((M126+入力部分!$I$45)-入力部分!$I$27)/入力部分!$I$36)^2)","v":3.8164995120468915E-3},0.45797994144562698,null,null,120,{"$f":"1/入力部分!$I$37/(2*3.14)^0.5*EXP(-1/2*(((R126+入力部分!$I$46)-入力部分!$I$28)/入力部分!$I$37)^2)","v":6.7925371686173869E-3},0.81510446023408645,null,null,120,{"$f":"1/入力部分!$I$38/(2*3.14)^0.5*EXP(-1/2*(((W126+入力部分!$I$47)-入力部分!$I$29)/入力部分!$I$38)^2)","v":4.7455605601112458E-3},0.5694672672133495,null,null,120,{"$f":"1/入力部分!$I$39/(2*3.14)^0.5*EXP(-1/2*(((AB126+入力部分!$I$48)-入力部分!$I$30)/入力部分!$I$39)^2)","v":1.1985931036742929E-7},1.4383117244091515E-5]
[null,null,null,null,null,null,null,null,121,{"$f":"(入力部分!D$7*N127+入力部分!D$8*S127+入力部分!D$9*X127+入力部分!D$10*AC127)/(SUM(入力部分!D$7:D$10))","v":4.1436179930225752E-3},null,null,121,{"$f":"1/入力部分!$I$36/(2*3.14)^0.5*EXP(-1/2*(((M127+入力部分!$I$45)-入力部分!$I$27)/入力部分!$I$36)^2)","v":3.8290665928574106E-3},0.46331705773574666,null,null,121,{"$f":"1/入力部分!$I$37/(2*3.14)^0.5*EXP(-1/2*(((R127+入力部分!$I$46)-入力部分!$I$28)/入力部分!$I$37)^2)","v":6.7681360270032288E-3},0.81894445926739068,null,null,121,{"$f":"1/入力部分!$I$38/(2*3.14)^0.5*EXP(-1/2*(((W127+入力部分!$I$47)-入力部分!$I$29)/入力部分!$I$38)^2)","v":4.5076559366487743E-3},0.54542636833450164,null,null,121,{"$f":"1/入力部分!$I$39/(2*3.14)^0.5*EXP(-1/2*(((AB127+入力部分!$I$48)-入力部分!$I$30)/入力部分!$I$39)^2)","v":7.8698507979800141E-8},9.5225194655558176E-6]
[null,null,null,null,null,null,null,null,122,{"$f":"(入力部分!D$7*N128+入力部分!D$8*S128+入力部分!D$9*X128+入力部分!D$10*AC128)/(SUM(入力部分!D$7:D$10))","v":4.0774742784431099E-3},null,null,122,{"$f":"1/入力部分!$I$36/(2*3.14)^0.5*EXP(-1/2*(((M128+入力部分!$I$45)-入力部分!$I$27)/入力部分!$I$36)^2)","v":3.8412831072515076E-3},0.46863653908468395,null,null,122,{"$f":"1/入力部分!$I$37/(2*3.14)^0.5*EXP(-1/2*(((R128+入力部分!$I$46)-入力部分!$I$28)/入力部分!$I$37)^2)","v":6.7417902057496466E-3},0.82249840510145689,null,null,122,{"$f":"1/入力部分!$I$38/(2*3.14)^0.5*EXP(-1/2*(((W128+入力部分!$I$47)-入力部分!$I$29)/入力部分!$I$38)^2)","v":4.2765189364092774E-3},0.52173531024193187,null,null,122,{"$f":"1/入力部分!$I$39/(2*3.14)^0.5*EXP(-1/2*(((AB128+入力部分!$I$48)-入力部分!$I$30)/入力部分!$I$39)^2)","v":5.1315112940939244E-8},6.2604437787945876E-6]
[null,null,null,null,null,null,null,null,123,{"$f":"(入力部分!D$7*N129+入力部分!D$8*S129+入力部分!D$9*X129+入力部分!D$10*AC129)/(SUM(入力部分!D$7:D$10))","v":4.0123089721296416E-3},null,null,123,{"$f":"1/入力部分!$I$36/(2*3.14)^0.5*EXP(-1/2*(((M129+入力部分!$I$45)-入力部分!$I$27)/入力部分!$I$36)^2)","v":3.8531454399970246E-3},0.473936889119634,null,null,123,{"$f":"1/入力部分!$I$37/(2*3.14)^0.5*EXP(-1/2*(((R129+入力部分!$I$46)-入力部分!$I$28)/入力部分!$I$37)^2)","v":6.71352312315961E-3},0.82576334414863206,null,null,123,{"$f":"1/入力部分!$I$38/(2*3.14)^0.5*EXP(-1/2*(((W129+入力部分!$I$47)-入力部分!$I$29)/入力部分!$I$38)^2)","v":4.0523452554789077E-3},0.49843846642390566,null,null,123,{"$f":"1/入力部分!$I$39/(2*3.14)^0.5*EXP(-1/2*(((AB129+入力部分!$I$48)-入力部分!$I$30)/入力部分!$I$39)^2)","v":3.322830173551133E-8},4.087081113467894E-6]
[null,null,null,null,null,null,null,null,124,{"$f":"(入力部分!D$7*N130+入力部分!D$8*S130+入力部分!D$9*X130+入力部分!D$10*AC130)/(SUM(入力部分!D$7:D$10))","v":3.9481705237795137E-3},null,null,124,{"$f":"1/入力部分!$I$36/(2*3.14)^0.5*EXP(-1/2*(((M130+入力部分!$I$45)-入力部分!$I$27)/入力部分!$I$36)^2)","v":3.8646500730883321E-3},0.47921660906295316,null,null,124,{"$f":"1/入力部分!$I$37/(2*3.14)^0.5*EXP(-1/2*(((R130+入力部分!$I$46)-入力部分!$I$28)/入力部分!$I$37)^2)","v":6.6833598363024152E-3},0.82873661970149948,null,null,124,{"$f":"1/入力部分!$I$38/(2*3.14)^0.5*EXP(-1/2*(((W130+入力部分!$I$47)-入力部分!$I$29)/入力部分!$I$38)^2)","v":3.8352959365535828E-3},0.47557669613264425,null,null,124,{"$f":"1/入力部分!$I$39/(2*3.14)^0.5*EXP(-1/2*(((AB130+入力部分!$I$48)-入力部分!$I$30)/入力部分!$I$39)^2)","v":2.1367566685087094E-8},2.6495782689507995E-6]
[null,null,null,null,null,null,null,null,125,{"$f":"(入力部分!D$7*N131+入力部分!D$8*S131+入力部分!D$9*X131+入力部分!D$10*AC131)/(SUM(入力部分!D$7:D$10))","v":3.88509984361718E-3},null,null,125,{"$f":"1/入力部分!$I$36/(2*3.14)^0.5*EXP(-1/2*(((M131+入力部分!$I$45)-入力部分!$I$27)/入力部分!$I$36)^2)","v":3.8757935874844441E-3},0.4844741984355555,null,null,125,{"$f":"1/入力部分!$I$37/(2*3.14)^0.5*EXP(-1/2*(((R131+入力部分!$I$46)-入力部分!$I$28)/入力部分!$I$37)^2)","v":6.6513270040038808E-3},0.83141587550048512,null,null,125,{"$f":"1/入力部分!$I$38/(2*3.14)^0.5*EXP(-1/2*(((W131+入力部分!$I$47)-入力部分!$I$29)/入力部分!$I$38)^2)","v":3.6254984293274152E-3},0.45318730366592691,null,null,125,{"$f":"1/入力部分!$I$39/(2*3.14)^0.5*EXP(-1/2*(((AB131+入力部分!$I$48)-入力部分!$I$30)/入力部分!$I$39)^2)","v":1.3645393261878536E-8},1.705674157734817E-6]
[null,null,null,null,null,null,null,null,126,{"$f":"(入力部分!D$7*N132+入力部分!D$8*S132+入力部分!D$9*X132+入力部分!D$10*AC132)/(SUM(入力部分!D$7:D$10))","v":3.8231305122658249E-3},null,null,126,{"$f":"1/入力部分!$I$36/(2*3.14)^0.5*EXP(-1/2*(((M132+入力部分!$I$45)-入力部分!$I$27)/入力部分!$I$36)^2)","v":3.8865726648018534E-3},0.48970815576503351,null,null,126,{"$f":"1/入力部分!$I$37/(2*3.14)^0.5*EXP(-1/2*(((R132+入力部分!$I$46)-入力部分!$I$28)/入力部分!$I$37)^2)","v":6.6174528475892655E-3},0.83379905879624749,null,null,126,{"$f":"1/入力部分!$I$38/(2*3.14)^0.5*EXP(-1/2*(((W132+入力部分!$I$47)-入力部分!$I$29)/入力部分!$I$38)^2)","v":3.4230477915929004E-3},0.43130402174070548,null,null,126,{"$f":"1/入力部分!$I$39/(2*3.14)^0.5*EXP(-1/2*(((AB132+入力部分!$I$48)-入力部分!$I$30)/入力部分!$I$39)^2)","v":8.6536855732387765E-9},1.0903643822280858E-6]
[null,null,null,null,null,null,null,null,127,{"$f":"(入力部分!D$7*N133+入力部分!D$8*S133+入力部分!D$9*X133+入力部分!D$10*AC133)/(SUM(入力部分!D$7:D$10))","v":3.7622890434486876E-3},null,null,127,{"$f":"1/入力部分!$I$36/(2*3.14)^0.5*EXP(-1/2*(((M133+入力部分!$I$45)-入力部分!$I$27)/入力部分!$I$36)^2)","v":3.8969840889609159E-3},0.4949169792980363,null,null,127,{"$f":"1/入力部分!$I$37/(2*3.14)^0.5*EXP(-1/2*(((R133+入力部分!$I$46)-入力部分!$I$28)/入力部分!$I$37)^2)","v":6.5817671094597933E-3},0.83588442290139375,null,null,127,{"$f":"1/入力部分!$I$38/(2*3.14)^0.5*EXP(-1/2*(((W133+入力部分!$I$47)-入力部分!$I$29)/入力部分!$I$38)^2)","v":3.2280080150777972E-3},0.40995701791488026,null,null,127,{"$f":"1/入力部分!$I$39/(2*3.14)^0.5*EXP(-1/2*(((AB133+入力部分!$I$48)-入力部分!$I$30)/入力部分!$I$39)^2)","v":5.4500468061264826E-9},6.9215594437806329E-7]
[null,null,null,null,null,null,null,null,128,{"$f":"(入力部分!D$7*N134+入力部分!D$8*S134+入力部分!D$9*X134+入力部分!D$10*AC134)/(SUM(入力部分!D$7:D$10))","v":3.7025951892043353E-3},null,null,128,{"$f":"1/入力部分!$I$36/(2*3.14)^0.5*EXP(-1/2*(((M134+入力部分!$I$45)-入力部分!$I$27)/入力部分!$I$36)^2)","v":3.9070247477846331E-3},0.50009916771643304,null,null,128,{"$f":"1/入力部分!$I$37/(2*3.14)^0.5*EXP(-1/2*(((R134+入力部分!$I$46)-入力部分!$I$28)/入力部分!$I$37)^2)","v":6.5443010095878763E-3},0.83767052922724816,null,null,128,{"$f":"1/入力部分!$I$38/(2*3.14)^0.5*EXP(-1/2*(((W134+入力部分!$I$47)-入力部分!$I$29)/入力部分!$I$38)^2)","v":3.040413459885294E-3},0.38917292286531763,null,null,128,{"$f":"1/入力部分!$I$39/(2*3.14)^0.5*EXP(-1/2*(((AB134+入力部分!$I$48)-入力部分!$I$30)/入力部分!$I$39)^2)","v":3.4086579179023762E-9},4.3630821349150415E-7]
[null,null,null,null,null,null,null,null,129,{"$f":"(入力部分!D$7*N135+入力部分!D$8*S135+入力部分!D$9*X135+入力部分!D$10*AC135)/(SUM(入力部分!D$7:D$10))","v":3.6440622789638542E-3},null,null,129,{"$f":"1/入力部分!$I$36/(2*3.14)^0.5*EXP(-1/2*(((M135+入力部分!$I$45)-入力部分!$I$27)/入力部分!$I$36)^2)","v":3.9166916345487321E-3},0.50525322085678648,null,null,129,{"$f":"1/入力部分!$I$37/(2*3.14)^0.5*EXP(-1/2*(((R135+入力部分!$I$46)-入力部分!$I$28)/入力部分!$I$37)^2)","v":6.5050872000200982E-3},0.83915624880259265,null,null,129,{"$f":"1/入力部分!$I$38/(2*3.14)^0.5*EXP(-1/2*(((W135+入力部分!$I$47)-入力部分!$I$29)/入力部分!$I$38)^2)","v":2.8602703814055697E-3},0.3689748792013185,null,null,129,{"$f":"1/入力部分!$I$39/(2*3.14)^0.5*EXP(-1/2*(((AB135+入力部分!$I$48)-入力部分!$I$30)/入力部分!$I$39)^2)","v":2.1171453353662647E-9},{"$f":"AB135*$AC135","v":2.7311174826224815E-7}]
[null,null,null,null,null,null,null,null,130,{"$f":"(入力部分!D$7*N136+入力部分!D$8*S136+入力部分!D$9*X136+入力部分!D$10*AC136)/(SUM(入力部分!D$7:D$10))","v":3.58669758513934E-3},null,null,130,{"$f":"1/入力部分!$I$36/(2*3.14)^0.5*EXP(-1/2*(((M136+入力部分!$I$45)-入力部分!$I$27)/入力部分!$I$36)^2)","v":3.9259818494819529E-3},{"$f":"M136*$N136","v":0.51037764043265388},null,null,130,{"$f":"1/入力部分!$I$37/(2*3.14)^0.5*EXP(-1/2*(((R136+入力部分!$I$46)-入力部分!$I$28)/入力部分!$I$37)^2)","v":6.4641597174807195E-3},{"$f":"R136*$S136","v":0.84034076327249352},null,null,130,{"$f":"1/入力部分!$I$38/(2*3.14)^0.5*EXP(-1/2*(((W136+入力部分!$I$47)-入力部分!$I$29)/入力部分!$I$38)^2)","v":2.6875585337191497E-3},{"$f":"W136*$X136","v":0.34938260938348947},null,null,130,{"$f":"1/入力部分!$I$39/(2*3.14)^0.5*EXP(-1/2*(((AB136+入力部分!$I$48)-入力部分!$I$30)/入力部分!$I$39)^2)","v":1.3058761527522994E-9},1.6976389985779894E-7]
[null,null,null,null,null,null,null,null,131,{"$f":"(入力部分!D$7*N137+入力部分!D$8*S137+入力部分!D$9*X137+入力部分!D$10*AC137)/(SUM(入力部分!D$7:D$10))","v":3.5305027088935745E-3},null,null,131,{"$f":"1/入力部分!$I$36/(2*3.14)^0.5*EXP(-1/2*(((M137+入力部分!$I$45)-入力部分!$I$27)/入力部分!$I$36)^2)","v":3.9348926012154929E-3},0.51547093075922956,null,null,131,{"$f":"1/入力部分!$I$37/(2*3.14)^0.5*EXP(-1/2*(((R137+入力部分!$I$46)-入力部分!$I$28)/入力部分!$I$37)^2)","v":6.4215539341719525E-3},0.84122356537652576,null,null,131,{"$f":"1/入力部分!$I$38/(2*3.14)^0.5*EXP(-1/2*(((W137+入力部分!$I$47)-入力部分!$I$29)/入力部分!$I$38)^2)","v":2.5222328338055321E-3},0.33041250122852472,null,null,131,{"$f":"1/入力部分!$I$39/(2*3.14)^0.5*EXP(-1/2*(((AB137+入力部分!$I$48)-入力部分!$I$30)/入力部分!$I$39)^2)","v":7.9990309334473584E-10},1.047873052281604E-7]
[null,null,null,null,null,null,null,null,132,{"$f":"(入力部分!D$7*N138+入力部分!D$8*S138+入力部分!D$9*X138+入力部分!D$10*AC138)/(SUM(入力部分!D$7:D$10))","v":3.4754739805680575E-3},null,null,132,{"$f":"1/入力部分!$I$36/(2*3.14)^0.5*EXP(-1/2*(((M138+入力部分!$I$45)-入力部分!$I$27)/入力部分!$I$36)^2)","v":3.9434212081806124E-3},0.52053159947984085,null,null,132,{"$f":"1/入力部分!$I$37/(2*3.14)^0.5*EXP(-1/2*(((R138+入力部分!$I$46)-入力部分!$I$28)/入力部分!$I$37)^2)","v":6.3773065068705075E-3},0.84180445890690703,null,null,132,{"$f":"1/入力部分!$I$38/(2*3.14)^0.5*EXP(-1/2*(((W138+入力部分!$I$47)-入力部分!$I$29)/入力部分!$I$38)^2)","v":2.3642250712932801E-3},0.31207770941071294,null,null,132,{"$f":"1/入力部分!$I$39/(2*3.14)^0.5*EXP(-1/2*(((AB138+入力部分!$I$48)-入力部分!$I$30)/入力部分!$I$39)^2)","v":4.865828833328785E-10},6.4228940599939956E-8]
[null,null,null,null,null,null,null,null,133,{"$f":"(入力部分!D$7*N139+入力部分!D$8*S139+入力部分!D$9*X139+入力部分!D$10*AC139)/(SUM(入力部分!D$7:D$10))","v":3.421602869895006E-3},null,null,133,{"$f":"1/入力部分!$I$36/(2*3.14)^0.5*EXP(-1/2*(((M139+入力部分!$I$45)-入力部分!$I$27)/入力部分!$I$36)^2)","v":3.9515650999533969E-3},0.52555815829380181,null,null,133,{"$f":"1/入力部分!$I$37/(2*3.14)^0.5*EXP(-1/2*(((R139+入力部分!$I$46)-入力部分!$I$28)/入力部分!$I$37)^2)","v":6.3314553244228433E-3},0.84208355814823821,null,null,133,{"$f":"1/入力部分!$I$38/(2*3.14)^0.5*EXP(-1/2*(((W139+入力部分!$I$47)-入力部分!$I$29)/入力部分!$I$38)^2)","v":2.2134456490279426E-3},0.29438827132071638,null,null,133,{"$f":"1/入力部分!$I$39/(2*3.14)^0.5*EXP(-1/2*(((AB139+入力部分!$I$48)-入力部分!$I$30)/入力部分!$I$39)^2)","v":2.9394112021392974E-10},3.9094168988452655E-8]
[null,null,null,null,null,null,null,null,134,{"$f":"(入力部分!D$7*N140+入力部分!D$8*S140+入力部分!D$9*X140+入力部分!D$10*AC140)/(SUM(入力部分!D$7:D$10))","v":3.3688764016518648E-3},null,null,134,{"$f":"1/入力部分!$I$36/(2*3.14)^0.5*EXP(-1/2*(((M140+入力部分!$I$45)-入力部分!$I$27)/入力部分!$I$36)^2)","v":3.9593218185457486E-3},0.5305491236851303,null,null,134,{"$f":"1/入力部分!$I$37/(2*3.14)^0.5*EXP(-1/2*(((R140+入力部分!$I$46)-入力部分!$I$28)/入力部分!$I$37)^2)","v":6.2840394537442982E-3},0.84206128680173598,null,null,134,{"$f":"1/入力部分!$I$38/(2*3.14)^0.5*EXP(-1/2*(((W140+入力部分!$I$47)-入力部分!$I$29)/入力部分!$I$38)^2)","v":2.0697853403793169E-3},0.27735123561082847,null,null,134,{"$f":"1/入力部分!$I$39/(2*3.14)^0.5*EXP(-1/2*(((AB140+入力部分!$I$48)-入力部分!$I$30)/入力部分!$I$39)^2)","v":1.7633881923473422E-10},2.3629401777454383E-8]
[null,null,null,null,null,null,null,null,135,{"$f":"(入力部分!D$7*N141+入力部分!D$8*S141+入力部分!D$9*X141+入力部分!D$10*AC141)/(SUM(入力部分!D$7:D$10))","v":3.3172775728668364E-3},null,null,135,{"$f":"1/入力部分!$I$36/(2*3.14)^0.5*EXP(-1/2*(((M141+入力部分!$I$45)-入力部分!$I$27)/入力部分!$I$36)^2)","v":3.9666890196417013E-3},0.53550301765162966,null,null,135,{"$f":"1/入力部分!$I$37/(2*3.14)^0.5*EXP(-1/2*(((R141+入力部分!$I$46)-入力部分!$I$28)/入力部分!$I$37)^2)","v":6.2350990844296855E-3},0.84173837639800753,null,null,135,{"$f":"1/入力部分!$I$38/(2*3.14)^0.5*EXP(-1/2*(((W141+入力部分!$I$47)-入力部分!$I$29)/入力部分!$I$38)^2)","v":1.9331170499462763E-3},0.26097080174274728,null,null,135,{"$f":"1/入力部分!$I$39/(2*3.14)^0.5*EXP(-1/2*(((AB141+入力部分!$I$48)-入力部分!$I$30)/入力部分!$I$39)^2)","v":1.0505568963272284E-10},1.4182518100417583E-8]
[null,null,null,null,null,null,null,null,136,{"$f":"(入力部分!D$7*N142+入力部分!D$8*S142+入力部分!D$9*X142+入力部分!D$10*AC142)/(SUM(入力部分!D$7:D$10))","v":3.2667857680760367E-3},null,null,136,{"$f":"1/入力部分!$I$36/(2*3.14)^0.5*EXP(-1/2*(((M142+入力部分!$I$45)-入力部分!$I$27)/入力部分!$I$36)^2)","v":3.9736644737781704E-3},0.54041836843383118,null,null,136,{"$f":"1/入力部分!$I$37/(2*3.14)^0.5*EXP(-1/2*(((R142+入力部分!$I$46)-入力部分!$I$28)/入力部分!$I$37)^2)","v":6.1846754720851303E-3},0.84111586420357776,null,null,136,{"$f":"1/入力部分!$I$38/(2*3.14)^0.5*EXP(-1/2*(((W142+入力部分!$I$47)-入力部分!$I$29)/入力部分!$I$38)^2)","v":1.8032975651324785E-3},0.24524846885801707,null,null,136,{"$f":"1/入力部分!$I$39/(2*3.14)^0.5*EXP(-1/2*(((AB142+入力部分!$I$48)-入力部分!$I$30)/入力部分!$I$39)^2)","v":6.2154888783474345E-11},8.4530648745525102E-9]
[null,null,null,null,null,null,null,null,137,{"$f":"(入力部分!D$7*N143+入力部分!D$8*S143+入力部分!D$9*X143+入力部分!D$10*AC143)/(SUM(入力部分!D$7:D$10))","v":3.2173771694846472E-3},null,null,137,{"$f":"1/入力部分!$I$36/(2*3.14)^0.5*EXP(-1/2*(((M143+入力部分!$I$45)-入力部分!$I$27)/入力部分!$I$36)^2)","v":3.9802460674693277E-3},0.54529371124329784,null,null,137,{"$f":"1/入力部分!$I$37/(2*3.14)^0.5*EXP(-1/2*(((R143+入力部分!$I$46)-入力部分!$I$28)/入力部分!$I$37)^2)","v":6.1328108804927584E-3},0.84019509062750786,null,null,137,{"$f":"1/入力部分!$I$38/(2*3.14)^0.5*EXP(-1/2*(((W143+入力部分!$I$47)-入力部分!$I$29)/入力部分!$I$38)^2)","v":1.6801692869461075E-3},0.23018319231161674,null,null,137,{"$f":"1/入力部分!$I$39/(2*3.14)^0.5*EXP(-1/2*(((AB143+入力部分!$I$48)-入力部分!$I$30)/入力部分!$I$39)^2)","v":3.6518680359698941E-11},5.0030592092787546E-9]
[null,null,null,null,null,null,null,null,138,{"$f":"(入力部分!D$7*N144+入力部分!D$8*S144+入力部分!D$9*X144+入力部分!D$10*AC144)/(SUM(入力部分!D$7:D$10))","v":3.1690251592087514E-3},null,null,138,{"$f":"1/入力部分!$I$36/(2*3.14)^0.5*EXP(-1/2*(((M144+入力部分!$I$45)-入力部分!$I$27)/入力部分!$I$36)^2)","v":3.9864318042737911E-3},0.5501275889897832,null,null,138,{"$f":"1/入力部分!$I$37/(2*3.14)^0.5*EXP(-1/2*(((R144+入力部分!$I$46)-入力部分!$I$28)/入力部分!$I$37)^2)","v":6.0795485227215021E-3},0.83897769613556727,null,null,138,{"$f":"1/入力部分!$I$38/(2*3.14)^0.5*EXP(-1/2*(((W144+入力部分!$I$47)-入力部分!$I$29)/入力部分!$I$38)^2)","v":1.5635619293080437E-3},0.21577154624451003,null,null,138,{"$f":"1/入力部分!$I$39/(2*3.14)^0.5*EXP(-1/2*(((AB144+入力部分!$I$48)-入力部分!$I$30)/入力部分!$I$39)^2)","v":2.1307815287932085E-11},2.9404785097346276E-9]
[null,null,null,null,null,null,null,null,139,{"$f":"(入力部分!D$7*N145+入力部分!D$8*S145+入力部分!D$9*X145+入力部分!D$10*AC145)/(SUM(入力部分!D$7:D$10))","v":3.1217007110796902E-3},null,null,139,{"$f":"1/入力部分!$I$36/(2*3.14)^0.5*EXP(-1/2*(((M145+入力部分!$I$45)-入力部分!$I$27)/入力部分!$I$36)^2)","v":3.9922198058038837E-3},0.55491855300673987,null,null,139,{"$f":"1/入力部分!$I$37/(2*3.14)^0.5*EXP(-1/2*(((R145+入力部分!$I$46)-入力部分!$I$28)/入力部分!$I$37)^2)","v":6.0249325012985662E-3},0.83746561768050065,null,null,139,{"$f":"1/入力部分!$I$38/(2*3.14)^0.5*EXP(-1/2*(((W145+入力部分!$I$47)-入力部分!$I$29)/入力部分!$I$38)^2)","v":1.4532941771223848E-3},0.20200789062001148,null,null,139,{"$f":"1/入力部分!$I$39/(2*3.14)^0.5*EXP(-1/2*(((AB145+入力部分!$I$48)-入力部分!$I$30)/入力部分!$I$39)^2)","v":1.2346584620754279E-11},1.7161752622848448E-9]
[null,null,null,null,null,null,null,null,140,{"$f":"(入力部分!D$7*N146+入力部分!D$8*S146+入力部分!D$9*X146+入力部分!D$10*AC146)/(SUM(入力部分!D$7:D$10))","v":3.0753727697842041E-3},null,null,140,{"$f":"1/入力部分!$I$36/(2*3.14)^0.5*EXP(-1/2*(((M146+入力部分!$I$45)-入力部分!$I$27)/入力部分!$I$36)^2)","v":3.9976083126762405E-3},0.55966516377467368,null,null,140,{"$f":"1/入力部分!$I$37/(2*3.14)^0.5*EXP(-1/2*(((R146+入力部分!$I$46)-入力部分!$I$28)/入力部分!$I$37)^2)","v":5.9690077475571353E-3},0.83566108465799893,null,null,140,{"$f":"1/入力部分!$I$38/(2*3.14)^0.5*EXP(-1/2*(((W146+入力部分!$I$47)-入力部分!$I$29)/入力部分!$I$38)^2)","v":1.3491752943584089E-3},0.18888454121017725,null,null,140,{"$f":"1/入力部分!$I$39/(2*3.14)^0.5*EXP(-1/2*(((AB146+入力部分!$I$48)-入力部分!$I$30)/入力部分!$I$39)^2)","v":7.1045866819338356E-12},9.94642135470737E-10]
[null,null,null,null,null,null,null,null,141,{"$f":"(入力部分!D$7*N147+入力部分!D$8*S147+入力部分!D$9*X147+入力部分!D$10*AC147)/(SUM(入力部分!D$7:D$10))","v":3.0300086153945121E-3},null,null,141,{"$f":"1/入力部分!$I$36/(2*3.14)^0.5*EXP(-1/2*(((M147+入力部分!$I$45)-入力部分!$I$27)/入力部分!$I$36)^2)","v":4.0025956854031E-3},0.56436599164183709,null,null,141,{"$f":"1/入力部分!$I$37/(2*3.14)^0.5*EXP(-1/2*(((R147+入力部分!$I$46)-入力部分!$I$28)/入力部分!$I$37)^2)","v":5.9118199602766529E-3},0.83356661439900803,null,null,141,{"$f":"1/入力部分!$I$38/(2*3.14)^0.5*EXP(-1/2*(((W147+入力部分!$I$47)-入力部分!$I$29)/入力部分!$I$38)^2)","v":1.2510066744016262E-3},0.17639194109062928,null,null,141,{"$f":"1/入力部分!$I$39/(2*3.14)^0.5*EXP(-1/2*(((AB147+入力部分!$I$48)-入力部分!$I$30)/入力部分!$I$39)^2)","v":4.0598955784053075E-12},5.7244527655514832E-10]
[null,null,null,null,null,null,null,null,142,{"$f":"(入力部分!D$7*N148+入力部分!D$8*S148+入力部分!D$9*X148+入力部分!D$10*AC148)/(SUM(入力部分!D$7:D$10))","v":2.9855742116141623E-3},null,null,142,{"$f":"1/入力部分!$I$36/(2*3.14)^0.5*EXP(-1/2*(((M148+入力部分!$I$45)-入力部分!$I$27)/入力部分!$I$36)^2)","v":4.007180405223635E-3},0.56901961754175612,null,null,142,{"$f":"1/入力部分!$I$37/(2*3.14)^0.5*EXP(-1/2*(((R148+入力部分!$I$46)-入力部分!$I$28)/入力部分!$I$37)^2)","v":5.8534155437324573E-3},0.83118500721000899,null,null,142,{"$f":"1/入力部分!$I$38/(2*3.14)^0.5*EXP(-1/2*(((W148+入力部分!$I$47)-入力部分!$I$29)/入力部分!$I$38)^2)","v":1.1585833259421861E-3},0.16451883228379044,null,null,142,{"$f":"1/入力部分!$I$39/(2*3.14)^0.5*EXP(-1/2*(((AB148+入力部分!$I$48)-入力部分!$I$30)/入力部分!$I$39)^2)","v":2.3039602173294984E-12},3.2716235086078876E-10]
[null,null,null,null,null,null,null,null,143,{"$f":"(入力部分!D$7*N149+入力部分!D$8*S149+入力部分!D$9*X149+入力部分!D$10*AC149)/(SUM(入力部分!D$7:D$10))","v":2.9420345363285337E-3},null,null,143,{"$f":"1/入力部分!$I$36/(2*3.14)^0.5*EXP(-1/2*(((M149+入力部分!$I$45)-入力部分!$I$27)/入力部分!$I$36)^2)","v":4.0113610748747476E-3},0.57362463370708894,null,null,143,{"$f":"1/入力部分!$I$37/(2*3.14)^0.5*EXP(-1/2*(((R149+入力部分!$I$46)-入力部分!$I$28)/入力部分!$I$37)^2)","v":5.7938415452717341E-3},0.82851934097385793,null,null,143,{"$f":"1/入力部分!$I$38/(2*3.14)^0.5*EXP(-1/2*(((W149+入力部分!$I$47)-入力部分!$I$29)/入力部分!$I$38)^2)","v":1.0716952886707276E-3},0.15325242627991406,null,null,143,{"$f":"1/入力部分!$I$39/(2*3.14)^0.5*EXP(-1/2*(((AB149+入力部分!$I$48)-入力部分!$I$30)/入力部分!$I$39)^2)","v":1.2984318325619224E-12},1.8567575205635491E-10]
[null,null,null,null,null,null,null,null,144,{"$f":"(入力部分!D$7*N150+入力部分!D$8*S150+入力部分!D$9*X150+入力部分!D$10*AC150)/(SUM(入力部分!D$7:D$10))","v":2.8993538933027867E-3},null,null,144,{"$f":"1/入力部分!$I$36/(2*3.14)^0.5*EXP(-1/2*(((M150+入力部分!$I$45)-入力部分!$I$27)/入力部分!$I$36)^2)","v":4.0151364193007633E-3},0.57817964437930991,null,null,144,{"$f":"1/入力部分!$I$37/(2*3.14)^0.5*EXP(-1/2*(((R150+入力部分!$I$46)-入力部分!$I$28)/入力部分!$I$37)^2)","v":5.73314559253263E-3},0.8255729653246987,null,null,144,{"$f":"1/入力部分!$I$38/(2*3.14)^0.5*EXP(-1/2*(((W150+入力部分!$I$47)-入力部分!$I$29)/入力部分!$I$38)^2)","v":9.9012897403513559E-4},0.14257857226105952,null,null,144,{"$f":"1/入力部分!$I$39/(2*3.14)^0.5*EXP(-1/2*(((AB150+入力部分!$I$48)-入力部分!$I$30)/入力部分!$I$39)^2)","v":7.2668701280337667E-13},1.0464292984368624E-10]
[null,null,null,null,null,null,null,null,145,{"$f":"(入力部分!D$7*N151+入力部分!D$8*S151+入力部分!D$9*X151+入力部分!D$10*AC151)/(SUM(入力部分!D$7:D$10))","v":2.8574962041141572E-3},null,null,145,{"$f":"1/入力部分!$I$36/(2*3.14)^0.5*EXP(-1/2*(((M151+入力部分!$I$45)-入力部分!$I$27)/入力部分!$I$36)^2)","v":4.0185052863015384E-3},0.58268326651372304,null,null,145,{"$f":"1/入力部分!$I$37/(2*3.14)^0.5*EXP(-1/2*(((R151+入力部分!$I$46)-入力部分!$I$28)/入力部分!$I$37)^2)","v":5.6713758304229988E-3},0.82234949541133484,null,null,145,{"$f":"1/入力部分!$I$38/(2*3.14)^0.5*EXP(-1/2*(((W151+入力部分!$I$47)-入力部分!$I$29)/入力部分!$I$38)^2)","v":9.1366842726747365E-4},0.13248192195378367,null,null,145,{"$f":"1/入力部分!$I$39/(2*3.14)^0.5*EXP(-1/2*(((AB151+入力部分!$I$48)-入力部分!$I$30)/入力部分!$I$39)^2)","v":4.0388684612552772E-13},5.8563592688201521E-11]
[null,null,null,null,null,null,null,null,146,{"$f":"(入力部分!D$7*N152+入力部分!D$8*S152+入力部分!D$9*X152+入力部分!D$10*AC152)/(SUM(入力部分!D$7:D$10))","v":2.8164252796387093E-3},null,null,146,{"$f":"1/入力部分!$I$36/(2*3.14)^0.5*EXP(-1/2*(((M152+入力部分!$I$45)-入力部分!$I$27)/入力部分!$I$36)^2)","v":4.0214666471185068E-3},0.58713413047930196,null,null,146,{"$f":"1/入力部分!$I$37/(2*3.14)^0.5*EXP(-1/2*(((R152+入力部分!$I$46)-入力部分!$I$28)/入力部分!$I$37)^2)","v":5.6085808579745683E-3},0.81885280526428694,null,null,146,{"$f":"1/入力部分!$I$38/(2*3.14)^0.5*EXP(-1/2*(((W152+入力部分!$I$47)-入力部分!$I$29)/入力部分!$I$38)^2)","v":8.4209650781080921E-4},0.12294609014037815,null,null,146,{"$f":"1/入力部分!$I$39/(2*3.14)^0.5*EXP(-1/2*(((AB152+入力部分!$I$48)-入力部分!$I$30)/入力部分!$I$39)^2)","v":2.2292361949799646E-13},3.2546848446707487E-11]
[null,null,null,null,null,null,null,null,147,{"$f":"(入力部分!D$7*N153+入力部分!D$8*S153+入力部分!D$9*X153+入力部分!D$10*AC153)/(SUM(入力部分!D$7:D$10))","v":2.7761050706340234E-3},null,null,147,{"$f":"1/入力部分!$I$36/(2*3.14)^0.5*EXP(-1/2*(((M153+入力部分!$I$45)-入力部分!$I$27)/入力部分!$I$36)^2)","v":4.0240195969582461E-3},0.5915308807528622,null,null,147,{"$f":"1/入力部分!$I$37/(2*3.14)^0.5*EXP(-1/2*(((R153+入力部分!$I$46)-入力部分!$I$28)/入力部分!$I$37)^2)","v":5.5448096651874055E-3},0.81508702078254858,null,null,147,{"$f":"1/入力部分!$I$38/(2*3.14)^0.5*EXP(-1/2*(((W153+入力部分!$I$47)-入力部分!$I$29)/入力部分!$I$38)^2)","v":7.7519598615367424E-4},0.11395380996459012,null,null,147,{"$f":"1/入力部分!$I$39/(2*3.14)^0.5*EXP(-1/2*(((AB153+入力部分!$I$48)-入力部分!$I$30)/入力部分!$I$39)^2)","v":1.2219024303598735E-13},1.7961965726290142E-11]
[null,null,null,null,null,null,null,null,148,{"$f":"(入力部分!D$7*N154+入力部分!D$8*S154+入力部分!D$9*X154+入力部分!D$10*AC154)/(SUM(入力部分!D$7:D$10))","v":2.7364998971675515E-3},null,null,148,{"$f":"1/入力部分!$I$36/(2*3.14)^0.5*EXP(-1/2*(((M154+入力部分!$I$45)-入力部分!$I$27)/入力部分!$I$36)^2)","v":4.0261633554532087E-3},0.59587217660707492,null,null,148,{"$f":"1/入力部分!$I$37/(2*3.14)^0.5*EXP(-1/2*(((R154+入力部分!$I$46)-入力部分!$I$28)/入力部分!$I$37)^2)","v":5.4801115699783269E-3},0.81105651235679233,null,null,148,{"$f":"1/入力部分!$I$38/(2*3.14)^0.5*EXP(-1/2*(((W154+入力部分!$I$47)-入力部分!$I$29)/入力部分!$I$38)^2)","v":7.1275055590960216E-4},0.10548708227462111,null,null,148,{"$f":"1/入力部分!$I$39/(2*3.14)^0.5*EXP(-1/2*(((AB154+入力部分!$I$48)-入力部分!$I$30)/入力部分!$I$39)^2)","v":6.6512157791417403E-14},9.8437993531297761E-12]
[null,null,null,null,null,null,null,null,149,{"$f":"(入力部分!D$7*N155+入力部分!D$8*S155+入力部分!D$9*X155+入力部分!D$10*AC155)/(SUM(入力部分!D$7:D$10))","v":2.6975746568348577E-3},null,null,149,{"$f":"1/入力部分!$I$36/(2*3.14)^0.5*EXP(-1/2*(((M155+入力部分!$I$45)-入力部分!$I$27)/入力部分!$I$36)^2)","v":4.0278972670592652E-3},0.60015669279183048,null,null,149,{"$f":"1/入力部分!$I$37/(2*3.14)^0.5*EXP(-1/2*(((R155+入力部分!$I$46)-入力部分!$I$28)/入力部分!$I$37)^2)","v":5.4145361553454788E-3},0.80676588714647635,null,null,149,{"$f":"1/入力部分!$I$38/(2*3.14)^0.5*EXP(-1/2*(((W155+入力部分!$I$47)-入力部分!$I$29)/入力部分!$I$38)^2)","v":6.5454576075562731E-4},9.7527318352588474E-2,null,null,149,{"$f":"1/入力部分!$I$39/(2*3.14)^0.5*EXP(-1/2*(((AB155+入力部分!$I$48)-入力部分!$I$30)/入力部分!$I$39)^2)","v":3.5954198551822279E-14},5.3571755842215196E-12]
[null,null,null,null,null,null,null,null,150,{"$f":"(入力部分!D$7*N156+入力部分!D$8*S156+入力部分!D$9*X156+入力部分!D$10*AC156)/(SUM(入力部分!D$7:D$10))","v":2.6592950118916039E-3},null,null,150,{"$f":"1/入力部分!$I$36/(2*3.14)^0.5*EXP(-1/2*(((M156+入力部分!$I$45)-入力部分!$I$27)/入力部分!$I$36)^2)","v":4.0292208013897948E-3},0.60438312020846918,null,null,150,{"$f":"1/入力部分!$I$37/(2*3.14)^0.5*EXP(-1/2*(((R156+入力部分!$I$46)-入力部分!$I$28)/入力部分!$I$37)^2)","v":5.3481332068595691E-3},0.80221998102893533,null,null,150,{"$f":"1/入力部分!$I$38/(2*3.14)^0.5*EXP(-1/2*(((W156+入力部分!$I$47)-入力部分!$I$29)/入力部分!$I$38)^2)","v":6.0036983656286391E-4},9.005547548442959E-2,null,null,150,{"$f":"1/入力部分!$I$39/(2*3.14)^0.5*EXP(-1/2*(((AB156+入力部分!$I$48)-入力部分!$I$30)/入力部分!$I$39)^2)","v":1.9301108561102679E-14},2.8951662841654019E-12]
[null,null,null,null,null,null,null,null,151,{"$f":"(入力部分!D$7*N157+入力部分!D$8*S157+入力部分!D$9*X157+入力部分!D$10*AC157)/(SUM(入力部分!D$7:D$10))","v":2.6216275555875235E-3},null,null,151,{"$f":"1/入力部分!$I$36/(2*3.14)^0.5*EXP(-1/2*(((M157+入力部分!$I$45)-入力部分!$I$27)/入力部分!$I$36)^2)","v":4.0301335534860773E-3},0.60855016657639771,null,null,151,{"$f":"1/入力部分!$I$37/(2*3.14)^0.5*EXP(-1/2*(((R157+入力部分!$I$46)-入力部分!$I$28)/入力部分!$I$37)^2)","v":5.2809526505902867E-3},0.79742385023913331,null,null,151,{"$f":"1/入力部分!$I$38/(2*3.14)^0.5*EXP(-1/2*(((W157+入力部分!$I$47)-入力部分!$I$29)/入力部分!$I$38)^2)","v":5.5001446971133584E-4},8.3052184926411712E-2,null,null,151,{"$f":"1/入力部分!$I$39/(2*3.14)^0.5*EXP(-1/2*(((AB157+入力部分!$I$48)-入力部分!$I$30)/入力部分!$I$39)^2)","v":1.0289611097176768E-14},1.553731275673692E-12]
[null,null,null,null,null,null,null,null,152,{"$f":"(入力部分!D$7*N158+入力部分!D$8*S158+入力部分!D$9*X158+入力部分!D$10*AC158)/(SUM(入力部分!D$7:D$10))","v":2.5845399581392015E-3},null,null,152,{"$f":"1/入力部分!$I$36/(2*3.14)^0.5*EXP(-1/2*(((M158+入力部分!$I$45)-入力部分!$I$27)/入力部分!$I$36)^2)","v":4.0306352440237911E-3},0.61265655709161626,null,null,152,{"$f":"1/入力部分!$I$37/(2*3.14)^0.5*EXP(-1/2*(((R158+入力部分!$I$46)-入力部分!$I$28)/入力部分!$I$37)^2)","v":5.2130444915742553E-3},0.79238276271928676,null,null,152,{"$f":"1/入力部分!$I$38/(2*3.14)^0.5*EXP(-1/2*(((W158+入力部分!$I$47)-入力部分!$I$29)/入力部分!$I$38)^2)","v":5.0327547317808284E-4},7.6497871923068589E-2,null,null,152,{"$f":"1/入力部分!$I$39/(2*3.14)^0.5*EXP(-1/2*(((AB158+入力部分!$I$48)-入力部分!$I$30)/入力部分!$I$39)^2)","v":5.4475312950174458E-15},8.2802475684265174E-13]
[null,null,null,null,null,null,null,null,153,{"$f":"(入力部分!D$7*N159+入力部分!D$8*S159+入力部分!D$9*X159+入力部分!D$10*AC159)/(SUM(入力部分!D$7:D$10))","v":2.5480010929110693E-3},null,null,153,{"$f":"1/入力部分!$I$36/(2*3.14)^0.5*EXP(-1/2*(((M159+入力部分!$I$45)-入力部分!$I$27)/入力部分!$I$36)^2)","v":4.0307257194554767E-3},0.61670103507668794,null,null,153,{"$f":"1/入力部分!$I$37/(2*3.14)^0.5*EXP(-1/2*(((R159+入力部分!$I$46)-入力部分!$I$28)/入力部分!$I$37)^2)","v":5.144458752928429E-3},0.78710218919804964,null,null,153,{"$f":"1/入力部分!$I$38/(2*3.14)^0.5*EXP(-1/2*(((W159+入力部分!$I$47)-入力部分!$I$29)/入力部分!$I$38)^2)","v":4.5995338252103062E-4},7.0372867525717683E-2,null,null,153,{"$f":"1/入力部分!$I$39/(2*3.14)^0.5*EXP(-1/2*(((AB159+入力部分!$I$48)-入力部分!$I$30)/入力部分!$I$39)^2)","v":2.864076231802823E-15},4.382036634658319E-13]
[null,null,null,null,null,null,null,null,154,{"$f":"(入力部分!D$7*N160+入力部分!D$8*S160+入力部分!D$9*X160+入力部分!D$10*AC160)/(SUM(入力部分!D$7:D$10))","v":2.5119811434905414E-3},null,null,154,{"$f":"1/入力部分!$I$36/(2*3.14)^0.5*EXP(-1/2*(((M160+入力部分!$I$45)-入力部分!$I$27)/入力部分!$I$36)^2)","v":4.0304049520888561E-3},0.62068236262168386,null,null,154,{"$f":"1/入力部分!$I$37/(2*3.14)^0.5*EXP(-1/2*(((R160+入力部分!$I$46)-入力部分!$I$28)/入力部分!$I$37)^2)","v":5.075245415710224E-3},0.7815877940193745,null,null,154,{"$f":"1/入力部分!$I$38/(2*3.14)^0.5*EXP(-1/2*(((W160+入力部分!$I$47)-入力部分!$I$29)/入力部分!$I$38)^2)","v":4.1985397435090533E-4},6.4657512050039417E-2,null,null,154,{"$f":"1/入力部分!$I$39/(2*3.14)^0.5*EXP(-1/2*(((AB160+入力部分!$I$48)-入力部分!$I$30)/入力部分!$I$39)^2)","v":1.4953865792922928E-15},2.302895332110131E-13]
[null,null,null,null,null,null,null,null,155,{"$f":"(入力部分!D$7*N161+入力部分!D$8*S161+入力部分!D$9*X161+入力部分!D$10*AC161)/(SUM(入力部分!D$7:D$10))","v":2.4764516924438481E-3},null,null,155,{"$f":"1/入力部分!$I$36/(2*3.14)^0.5*EXP(-1/2*(((M161+入力部分!$I$45)-入力部分!$I$27)/入力部分!$I$36)^2)","v":4.0296730401009635E-3},0.62459932121564932,null,null,155,{"$f":"1/入力部分!$I$37/(2*3.14)^0.5*EXP(-1/2*(((R161+入力部分!$I$46)-入力部分!$I$28)/入力部分!$I$37)^2)","v":5.0054543596227807E-3},0.77584542574153104,null,null,155,{"$f":"1/入力部分!$I$38/(2*3.14)^0.5*EXP(-1/2*(((W161+入力部分!$I$47)-入力部分!$I$29)/入力部分!$I$38)^2)","v":3.8278871028996509E-4},5.933225009494459E-2,null,null,155,{"$f":"1/入力部分!$I$39/(2*3.14)^0.5*EXP(-1/2*(((AB161+入力部分!$I$48)-入力部分!$I$30)/入力部分!$I$39)^2)","v":7.7536545908168706E-16},1.2018164615766151E-13]
[null,null,null,null,null,null,null,null,156,{"$f":"(入力部分!D$7*N162+入力部分!D$8*S162+入力部分!D$9*X162+入力部分!D$10*AC162)/(SUM(入力部分!D$7:D$10))","v":2.4413857926240631E-3},null,null,156,{"$f":"1/入力部分!$I$36/(2*3.14)^0.5*EXP(-1/2*(((M162+入力部分!$I$45)-入力部分!$I$27)/入力部分!$I$36)^2)","v":4.0285302074880621E-3},0.62845071236813765,null,null,156,{"$f":"1/入力部分!$I$37/(2*3.14)^0.5*EXP(-1/2*(((R162+入力部分!$I$46)-入力部分!$I$28)/入力部分!$I$37)^2)","v":4.9351353046607552E-3},0.76988110752707783,null,null,156,{"$f":"1/入力部分!$I$38/(2*3.14)^0.5*EXP(-1/2*(((W162+入力部分!$I$47)-入力部分!$I$29)/入力部分!$I$38)^2)","v":3.4857510976069072E-4},5.437771712266775E-2,null,null,156,{"$f":"1/入力部分!$I$39/(2*3.14)^0.5*EXP(-1/2*(((AB162+入力部分!$I$48)-入力部分!$I$30)/入力部分!$I$39)^2)","v":3.9924867896941438E-16},6.2282793919228648E-14]
[null,null,null,null,null,null,null,null,157,{"$f":"(入力部分!D$7*N163+入力部分!D$8*S163+入力部分!D$9*X163+入力部分!D$10*AC163)/(SUM(入力部分!D$7:D$10))","v":2.40675802197264E-3},null,null,157,{"$f":"1/入力部分!$I$36/(2*3.14)^0.5*EXP(-1/2*(((M163+入力部分!$I$45)-入力部分!$I$27)/入力部分!$I$36)^2)","v":4.0269768039513923E-3},0.63223535822036858,null,null,157,{"$f":"1/入力部分!$I$37/(2*3.14)^0.5*EXP(-1/2*(((R163+入力部分!$I$46)-入力部分!$I$28)/入力部分!$I$37)^2)","v":4.8643377537887613E-3},0.76370102734483547,null,null,157,{"$f":"1/入力部分!$I$38/(2*3.14)^0.5*EXP(-1/2*(((W163+入力部分!$I$47)-入力部分!$I$29)/入力部分!$I$38)^2)","v":3.1703705523151803E-4},4.977481767134833E-2,null,null,157,{"$f":"1/入力部分!$I$39/(2*3.14)^0.5*EXP(-1/2*(((AB163+入力部分!$I$48)-入力部分!$I$30)/入力部分!$I$39)^2)","v":2.0415714866180998E-16},3.2052672339904164E-14]
[null,null,null,null,null,null,null,null,158,{"$f":"(入力部分!D$7*N164+入力部分!D$8*S164+入力部分!D$9*X164+入力部分!D$10*AC164)/(SUM(入力部分!D$7:D$10))","v":2.3725445228109598E-3},null,null,158,{"$f":"1/入力部分!$I$36/(2*3.14)^0.5*EXP(-1/2*(((M164+入力部分!$I$45)-入力部分!$I$27)/入力部分!$I$36)^2)","v":4.025013304718837E-3},0.63595210214557629,null,null,158,{"$f":"1/入力部分!$I$37/(2*3.14)^0.5*EXP(-1/2*(((R164+入力部分!$I$46)-入力部分!$I$28)/入力部分!$I$37)^2)","v":4.79311093674118E-3},0.75731152800510648,null,null,158,{"$f":"1/入力部分!$I$38/(2*3.14)^0.5*EXP(-1/2*(((W164+入力部分!$I$47)-入力部分!$I$29)/入力部分!$I$38)^2)","v":2.880050337725461E-4},4.5504795336062283E-2,null,null,158,{"$f":"1/入力部分!$I$39/(2*3.14)^0.5*EXP(-1/2*(((AB164+入力部分!$I$48)-入力部分!$I$30)/入力部分!$I$39)^2)","v":1.0367397764963507E-16},1.6380488468642343E-14]
[null,null,null,null,null,null,null,null,159,{"$f":"(入力部分!D$7*N165+入力部分!D$8*S165+入力部分!D$9*X165+入力部分!D$10*AC165)/(SUM(入力部分!D$7:D$10))","v":2.3387230266596741E-3},null,null,159,{"$f":"1/入力部分!$I$36/(2*3.14)^0.5*EXP(-1/2*(((M165+入力部分!$I$45)-入力部分!$I$27)/入力部分!$I$36)^2)","v":4.0226403103026187E-3},0.63959980933811633,null,null,159,{"$f":"1/入力部分!$I$37/(2*3.14)^0.5*EXP(-1/2*(((R165+入力部分!$I$46)-入力部分!$I$28)/入力部分!$I$37)^2)","v":4.7215037550284748E-3},0.75071909704952744,null,null,159,{"$f":"1/入力部分!$I$38/(2*3.14)^0.5*EXP(-1/2*(((W165+入力部分!$I$47)-入力部分!$I$29)/入力部分!$I$38)^2)","v":2.6131631894462249E-4},4.1549294712194977E-2,null,null,159,{"$f":"1/入力部分!$I$39/(2*3.14)^0.5*EXP(-1/2*(((AB165+入力部分!$I$48)-入力部分!$I$30)/入力部分!$I$39)^2)","v":5.2282819164516059E-17},8.312968247158053E-15]
[null,null,null,null,null,null,null,null,160,{"$f":"(入力部分!D$7*N166+入力部分!D$8*S166+入力部分!D$9*X166+入力部分!D$10*AC166)/(SUM(入力部分!D$7:D$10))","v":2.3052728656518078E-3},null,null,160,{"$f":"1/入力部分!$I$36/(2*3.14)^0.5*EXP(-1/2*(((M166+入力部分!$I$45)-入力部分!$I$27)/入力部分!$I$36)^2)","v":4.0198585461932142E-3},0.64317736739091425,null,null,160,{"$f":"1/入力部分!$I$37/(2*3.14)^0.5*EXP(-1/2*(((R166+入力部分!$I$46)-入力部分!$I$28)/入力部分!$I$37)^2)","v":4.6495647282314085E-3},0.74393035651702533,null,null,160,{"$f":"1/入力部分!$I$38/(2*3.14)^0.5*EXP(-1/2*(((W166+入力部分!$I$47)-入力部分!$I$29)/入力部分!$I$38)^2)","v":2.3681509716348586E-4},3.7890415546157741E-2,null,null,160,{"$f":"1/入力部分!$I$39/(2*3.14)^0.5*EXP(-1/2*(((AB166+入力部分!$I$48)-入力部分!$I$30)/入力部分!$I$39)^2)","v":2.6183777349646669E-17},4.1894043759434672E-15]
[null,null,null,null,null,null,null,null,161,{"$f":"(入力部分!D$7*N167+入力部分!D$8*S167+入力部分!D$9*X167+入力部分!D$10*AC167)/(SUM(入力部分!D$7:D$10))","v":2.2721749716215203E-3},null,null,161,{"$f":"1/入力部分!$I$36/(2*3.14)^0.5*EXP(-1/2*(((M167+入力部分!$I$45)-入力部分!$I$27)/入力部分!$I$36)^2)","v":4.0166688624896918E-3},0.64668368686084032,null,null,161,{"$f":"1/入力部分!$I$37/(2*3.14)^0.5*EXP(-1/2*(((R167+入力部分!$I$46)-入力部分!$I$28)/入力部分!$I$37)^2)","v":4.5773419416606995E-3},0.73695205260737262,null,null,161,{"$f":"1/入力部分!$I$38/(2*3.14)^0.5*EXP(-1/2*(((W167+入力部分!$I$47)-入力部分!$I$29)/入力部分!$I$38)^2)","v":2.1435254275017362E-4},3.451075938277795E-2,null,null,161,{"$f":"1/入力部分!$I$39/(2*3.14)^0.5*EXP(-1/2*(((AB167+入力部分!$I$48)-入力部分!$I$30)/入力部分!$I$39)^2)","v":1.3022359110404251E-17},2.0965998167750844E-15]
[null,null,null,null,null,null,null,null,162,{"$f":"(入力部分!D$7*N168+入力部分!D$8*S168+入力部分!D$9*X168+入力部分!D$10*AC168)/(SUM(入力部分!D$7:D$10))","v":2.2394118639550509E-3},null,null,162,{"$f":"1/入力部分!$I$36/(2*3.14)^0.5*EXP(-1/2*(((M168+入力部分!$I$45)-入力部分!$I$27)/入力部分!$I$36)^2)","v":4.0130722334667506E-3},0.65011770182161355,null,null,162,{"$f":"1/入力部分!$I$37/(2*3.14)^0.5*EXP(-1/2*(((R168+入力部分!$I$46)-入力部分!$I$28)/入力部分!$I$37)^2)","v":4.5048829954556146E-3},0.72979104526380956,null,null,162,{"$f":"1/入力部分!$I$38/(2*3.14)^0.5*EXP(-1/2*(((W168+入力部分!$I$47)-入力部分!$I$29)/入力部分!$I$38)^2)","v":1.9378684590340114E-4},3.1393469036350985E-2,null,null,162,{"$f":"1/入力部分!$I$39/(2*3.14)^0.5*EXP(-1/2*(((AB168+入力部分!$I$48)-入力部分!$I$30)/入力部分!$I$39)^2)","v":6.4317788272569132E-18},1.0419481700156199E-15]
[null,null,null,null,null,null,null,null,163,{"$f":"(入力部分!D$7*N169+入力部分!D$8*S169+入力部分!D$9*X169+入力部分!D$10*AC169)/(SUM(入力部分!D$7:D$10))","v":2.2069676272846901E-3},null,null,163,{"$f":"1/入力部分!$I$36/(2*3.14)^0.5*EXP(-1/2*(((M169+入力部分!$I$45)-入力部分!$I$27)/入力部分!$I$36)^2)","v":4.0090697570787561E-3},0.65347837040383727,null,null,163,{"$f":"1/入力部分!$I$37/(2*3.14)^0.5*EXP(-1/2*(((R169+入力部分!$I$46)-入力部分!$I$28)/入力部分!$I$37)^2)","v":4.4322349551909187E-3},0.7224542976961198,null,null,163,{"$f":"1/入力部分!$I$38/(2*3.14)^0.5*EXP(-1/2*(((W169+入力部分!$I$47)-入力部分!$I$29)/入力部分!$I$38)^2)","v":1.7498319781300193E-4},2.8522261243519316E-2,null,null,163,{"$f":"1/入力部分!$I$39/(2*3.14)^0.5*EXP(-1/2*(((AB169+入力部分!$I$48)-入力部分!$I$30)/入力部分!$I$39)^2)","v":3.1546893672778582E-18},5.1421436686629091E-16]
[null,null,null,null,null,null,null,null,164,{"$f":"(入力部分!D$7*N170+入力部分!D$8*S170+入力部分!D$9*X170+入力部分!D$10*AC170)/(SUM(入力部分!D$7:D$10))","v":2.1748278800915832E-3},null,null,164,{"$f":"1/入力部分!$I$36/(2*3.14)^0.5*EXP(-1/2*(((M170+入力部分!$I$45)-入力部分!$I$27)/入力部分!$I$36)^2)","v":4.004662654401134E-3},0.65676467532178595,null,null,164,{"$f":"1/入力部分!$I$37/(2*3.14)^0.5*EXP(-1/2*(((R170+入力部分!$I$46)-入力部分!$I$28)/入力部分!$I$37)^2)","v":4.3594443040573484E-3},0.71494886586540518,null,null,164,{"$f":"1/入力部分!$I$38/(2*3.14)^0.5*EXP(-1/2*(((W170+入力部分!$I$47)-入力部分!$I$29)/入力部分!$I$38)^2)","v":1.5781373707974289E-4},2.5881452881077835E-2,null,null,164,{"$f":"1/入力部分!$I$39/(2*3.14)^0.5*EXP(-1/2*(((AB170+入力部分!$I$48)-入力部分!$I$30)/入力部分!$I$39)^2)","v":1.5366188923946557E-18},2.5200549835272353E-16]
[null,null,null,null,null,null,null,null,165,{"$f":"(入力部分!D$7*N171+入力部分!D$8*S171+入力部分!D$9*X171+入力部分!D$10*AC171)/(SUM(入力部分!D$7:D$10))","v":2.142979735259861E-3},null,null,165,{"$f":"1/入力部分!$I$36/(2*3.14)^0.5*EXP(-1/2*(((M171+入力部分!$I$45)-入力部分!$I$27)/入力部分!$I$36)^2)","v":3.9998522690095212E-3},0.65997562438657098,null,null,165,{"$f":"1/入力部分!$I$37/(2*3.14)^0.5*EXP(-1/2*(((R171+入力部分!$I$46)-入力部分!$I$28)/入力部分!$I$37)^2)","v":4.286556896676454E-3},0.70728188795161495,null,null,165,{"$f":"1/入力部分!$I$38/(2*3.14)^0.5*EXP(-1/2*(((W171+入力部分!$I$47)-入力部分!$I$29)/入力部分!$I$38)^2)","v":1.4215746152000148E-4},2.3455981150800245E-2,null,null,165,{"$f":"1/入力部分!$I$39/(2*3.14)^0.5*EXP(-1/2*(((AB171+入力部分!$I$48)-入力部分!$I$30)/入力部分!$I$39)^2)","v":7.4329258603579212E-19},1.2264327669590571E-16]
[null,null,null,null,null,null,null,null,166,{"$f":"(入力部分!D$7*N172+入力部分!D$8*S172+入力部分!D$9*X172+入力部分!D$10*AC172)/(SUM(入力部分!D$7:D$10))","v":2.1114117535939829E-3},null,null,166,{"$f":"1/入力部分!$I$36/(2*3.14)^0.5*EXP(-1/2*(((M172+入力部分!$I$45)-入力部分!$I$27)/入力部分!$I$36)^2)","v":3.9946400662971048E-3},0.6631102510053194,null,null,166,{"$f":"1/入力部分!$I$37/(2*3.14)^0.5*EXP(-1/2*(((R172+入力部分!$I$46)-入力部分!$I$28)/入力部分!$I$37)^2)","v":4.2136179146063119E-3},0.69946057382464777,null,null,166,{"$f":"1/入力部分!$I$38/(2*3.14)^0.5*EXP(-1/2*(((W172+入力部分!$I$47)-入力部分!$I$29)/入力部分!$I$38)^2)","v":1.279001093179126E-4},2.1231418146773491E-2,null,null,166,{"$f":"1/入力部分!$I$39/(2*3.14)^0.5*EXP(-1/2*(((AB172+入力部分!$I$48)-入力部分!$I$30)/入力部分!$I$39)^2)","v":3.5705695713410408E-19},5.9271454884261283E-17]
[null,null,null,null,null,null,null,null,167,{"$f":"(入力部分!D$7*N173+入力部分!D$8*S173+入力部分!D$9*X173+入力部分!D$10*AC173)/(SUM(入力部分!D$7:D$10))","v":2.0801138912742842E-3},null,null,167,{"$f":"1/入力部分!$I$36/(2*3.14)^0.5*EXP(-1/2*(((M173+入力部分!$I$45)-入力部分!$I$27)/入力部分!$I$36)^2)","v":3.9890276327306474E-3},0.66616761466601815,null,null,167,{"$f":"1/入力部分!$I$37/(2*3.14)^0.5*EXP(-1/2*(((R173+入力部分!$I$46)-入力部分!$I$28)/入力部分!$I$37)^2)","v":4.1406718235900844E-3},0.69149219453954414,null,null,167,{"$f":"1/入力部分!$I$38/(2*3.14)^0.5*EXP(-1/2*(((W173+入力部分!$I$47)-入力部分!$I$29)/入力部分!$I$38)^2)","v":1.1493401334668707E-4},1.9193980228896741E-2,null,null,167,{"$f":"1/入力部分!$I$39/(2*3.14)^0.5*EXP(-1/2*(((AB173+入力部分!$I$48)-入力部分!$I$30)/入力部分!$I$39)^2)","v":1.7033318385268391E-19},2.8445641703398213E-17]
[null,null,null,null,null,null,null,null,168,{"$f":"(入力部分!D$7*N174+入力部分!D$8*S174+入力部分!D$9*X174+入力部分!D$10*AC174)/(SUM(入力部分!D$7:D$10))","v":2.0490774421835106E-3},null,null,168,{"$f":"1/入力部分!$I$36/(2*3.14)^0.5*EXP(-1/2*(((M174+入力部分!$I$45)-入力部分!$I$27)/入力部分!$I$36)^2)","v":3.9830166750457249E-3},0.66914680140768179,null,null,168,{"$f":"1/入力部分!$I$37/(2*3.14)^0.5*EXP(-1/2*(((R174+入力部分!$I$46)-入力部分!$I$28)/入力部分!$I$37)^2)","v":4.0677623325949559E-3},0.68338407187595263,null,null,168,{"$f":"1/入力部分!$I$38/(2*3.14)^0.5*EXP(-1/2*(((W174+入力部分!$I$47)-入力部分!$I$29)/入力部分!$I$38)^2)","v":1.0315793231874735E-4},1.7330532629549554E-2,null,null,168,{"$f":"1/入力部分!$I$39/(2*3.14)^0.5*EXP(-1/2*(((AB174+入力部分!$I$48)-入力部分!$I$30)/入力部分!$I$39)^2)","v":8.0694715561672627E-20},1.3556712214361001E-17]
[null,null,null,null,null,null,null,null,169,{"$f":"(入力部分!D$7*N175+入力部分!D$8*S175+入力部分!D$9*X175+入力部分!D$10*AC175)/(SUM(入力部分!D$7:D$10))","v":2.0182949759905817E-3},null,null,169,{"$f":"1/入力部分!$I$36/(2*3.14)^0.5*EXP(-1/2*(((M175+入力部分!$I$45)-入力部分!$I$27)/入力部分!$I$36)^2)","v":3.9766090193817391E-3},0.67204692427551393,null,null,169,{"$f":"1/入力部分!$I$37/(2*3.14)^0.5*EXP(-1/2*(((R175+入力部分!$I$46)-入力部分!$I$28)/入力部分!$I$37)^2)","v":3.9949323546843909E-3},0.67514356794166208,null,null,169,{"$f":"1/入力部分!$I$38/(2*3.14)^0.5*EXP(-1/2*(((W175+入力部分!$I$47)-入力部分!$I$29)/入力部分!$I$38)^2)","v":9.2476862244872304E-5},1.5628589719383419E-2,null,null,169,{"$f":"1/入力部分!$I$39/(2*3.14)^0.5*EXP(-1/2*(((AB175+入力部分!$I$48)-入力部分!$I$30)/入力部分!$I$39)^2)","v":3.796426463196995E-20},6.4159607228029216E-18]
[null,null,null,null,null,null,null,null,170,{"$f":"(入力部分!D$7*N176+入力部分!D$8*S176+入力部分!D$9*X176+入力部分!D$10*AC176)/(SUM(入力部分!D$7:D$10))","v":1.9877602728277819E-3},null,null,170,{"$f":"1/入力部分!$I$36/(2*3.14)^0.5*EXP(-1/2*(((M176+入力部分!$I$45)-入力部分!$I$27)/入力部分!$I$36)^2)","v":3.9698066103573291E-3},0.67486712376074598,null,null,170,{"$f":"1/入力部分!$I$37/(2*3.14)^0.5*EXP(-1/2*(((R176+入力部分!$I$46)-入力部分!$I$28)/入力部分!$I$37)^2)","v":3.9222239697621229E-3},0.66677807485956087,null,null,170,{"$f":"1/入力部分!$I$38/(2*3.14)^0.5*EXP(-1/2*(((W176+入力部分!$I$47)-入力部分!$I$29)/入力部分!$I$38)^2)","v":8.2801831489278982E-5},1.4076311353177428E-2,null,null,170,{"$f":"1/入力部分!$I$39/(2*3.14)^0.5*EXP(-1/2*(((AB176+入力部分!$I$48)-入力部分!$I$30)/入力部分!$I$39)^2)","v":1.7737358954417804E-20},3.0153510222510265E-18]
[null,null,null,null,null,null,null,null,171,{"$f":"(入力部分!D$7*N177+入力部分!D$8*S177+入力部分!D$9*X177+入力部分!D$10*AC177)/(SUM(入力部分!D$7:D$10))","v":1.9574682553449366E-3},null,null,171,{"$f":"1/入力部分!$I$36/(2*3.14)^0.5*EXP(-1/2*(((M177+入力部分!$I$45)-入力部分!$I$27)/入力部分!$I$36)^2)","v":3.9626115100868369E-3},0.6776065682248491,null,null,171,{"$f":"1/入力部分!$I$37/(2*3.14)^0.5*EXP(-1/2*(((R177+入力部分!$I$46)-入力部分!$I$28)/入力部分!$I$37)^2)","v":3.8496783892216506E-3},0.65829500455690226,null,null,171,{"$f":"1/入力部分!$I$38/(2*3.14)^0.5*EXP(-1/2*(((W177+入力部分!$I$47)-入力部分!$I$29)/入力部分!$I$38)^2)","v":7.4049682503854399E-5},1.2662495708159102E-2,null,null,171,{"$f":"1/入力部分!$I$39/(2*3.14)^0.5*EXP(-1/2*(((AB177+入力部分!$I$48)-入力部分!$I$30)/入力部分!$I$39)^2)","v":8.2297564718872367E-21},1.4072883566927175E-18]
[null,null,null,null,null,null,null,null,172,{"$f":"(入力部分!D$7*N178+入力部分!D$8*S178+入力部分!D$9*X178+入力部分!D$10*AC178)/(SUM(入力部分!D$7:D$10))","v":1.9274149188696918E-3},null,null,172,{"$f":"1/入力部分!$I$36/(2*3.14)^0.5*EXP(-1/2*(((M178+入力部分!$I$45)-入力部分!$I$27)/入力部分!$I$36)^2)","v":3.955025897138512E-3},0.68026445430782401,null,null,172,{"$f":"1/入力部分!$I$37/(2*3.14)^0.5*EXP(-1/2*(((R178+入力部分!$I$46)-入力部分!$I$28)/入力部分!$I$37)^2)","v":3.7773359225304975E-3},0.64970177867524559,null,null,172,{"$f":"1/入力部分!$I$38/(2*3.14)^0.5*EXP(-1/2*(((W178+入力部分!$I$47)-入力部分!$I$29)/入力部分!$I$38)^2)","v":6.6142843113765318E-5},1.1376569015567635E-2,null,null,172,{"$f":"1/入力部分!$I$39/(2*3.14)^0.5*EXP(-1/2*(((AB178+入力部分!$I$48)-入力部分!$I$30)/入力部分!$I$39)^2)","v":3.7920065543036617E-21},6.5222512734022978E-19]
[null,null,null,null,null,null,null,null,173,{"$f":"(入力部分!D$7*N179+入力部分!D$8*S179+入力部分!D$9*X179+入力部分!D$10*AC179)/(SUM(入力部分!D$7:D$10))","v":1.8975972603474263E-3},null,null,173,{"$f":"1/入力部分!$I$36/(2*3.14)^0.5*EXP(-1/2*(((M179+入力部分!$I$45)-入力部分!$I$27)/入力部分!$I$36)^2)","v":3.947052065435208E-3},0.68284000732029093,null,null,173,{"$f":"1/入力部分!$I$37/(2*3.14)^0.5*EXP(-1/2*(((R179+入力部分!$I$46)-入力部分!$I$28)/入力部分!$I$37)^2)","v":3.7052359457738614E-3},0.64100581861887806,null,null,173,{"$f":"1/入力部分!$I$38/(2*3.14)^0.5*EXP(-1/2*(((W179+入力部分!$I$47)-入力部分!$I$29)/入力部分!$I$38)^2)","v":5.9009090011309635E-5},1.0208572571956566E-2,null,null,173,{"$f":"1/入力部分!$I$39/(2*3.14)^0.5*EXP(-1/2*(((AB179+入力部分!$I$48)-入力部分!$I$30)/入力部分!$I$39)^2)","v":1.7351428725357871E-21},3.0017971694869119E-19]
[null,null,null,null,null,null,null,null,174,{"$f":"(入力部分!D$7*N180+入力部分!D$8*S180+入力部分!D$9*X180+入力部分!D$10*AC180)/(SUM(入力部分!D$7:D$10))","v":1.8680132066784094E-3},null,null,174,{"$f":"1/入力部分!$I$36/(2*3.14)^0.5*EXP(-1/2*(((M180+入力部分!$I$45)-入力部分!$I$27)/入力部分!$I$36)^2)","v":3.9386924230983313E-3},0.68533248161910965,null,null,174,{"$f":"1/入力部分!$I$37/(2*3.14)^0.5*EXP(-1/2*(((R180+入力部分!$I$46)-入力部分!$I$28)/入力部分!$I$37)^2)","v":3.633416872177777E-3},0.63221453575893316,null,null,174,{"$f":"1/入力部分!$I$38/(2*3.14)^0.5*EXP(-1/2*(((W180+入力部分!$I$47)-入力部分!$I$29)/入力部分!$I$38)^2)","v":5.2581306897806739E-5},9.1491474002183722E-3,null,null,174,{"$f":"1/入力部分!$I$39/(2*3.14)^0.5*EXP(-1/2*(((AB180+入力部分!$I$48)-入力部分!$I$30)/入力部分!$I$39)^2)","v":7.8847053420337003E-22},1.3719387295138638E-19]
[null,null,null,null,null,null,null,null,175,{"$f":"(入力部分!D$7*N181+入力部分!D$8*S181+入力部分!D$9*X181+入力部分!D$10*AC181)/(SUM(入力部分!D$7:D$10))","v":1.8386615430139878E-3},null,null,175,{"$f":"1/入力部分!$I$36/(2*3.14)^0.5*EXP(-1/2*(((M181+入力部分!$I$45)-入力部分!$I$27)/入力部分!$I$36)^2)","v":3.9299494912358743E-3},0.68774116096627802,null,null,175,{"$f":"1/入力部分!$I$37/(2*3.14)^0.5*EXP(-1/2*(((R181+入力部分!$I$46)-入力部分!$I$28)/入力部分!$I$37)^2)","v":3.5619161246273714E-3},0.62333532180979001,null,null,175,{"$f":"1/入力部分!$I$38/(2*3.14)^0.5*EXP(-1/2*(((W181+入力部分!$I$47)-入力部分!$I$29)/入力部分!$I$38)^2)","v":4.6797239496956636E-5},8.1895169119674104E-3,null,null,175,{"$f":"1/入力部分!$I$39/(2*3.14)^0.5*EXP(-1/2*(((AB181+入力部分!$I$48)-入力部分!$I$30)/入力部分!$I$39)^2)","v":3.5581132052540513E-22},6.2266981091945896E-20]
[null,null,null,null,null,null,null,null,176,{"$f":"(入力部分!D$7*N182+入力部分!D$8*S182+入力部分!D$9*X182+入力部分!D$10*AC182)/(SUM(入力部分!D$7:D$10))","v":1.8095418415185701E-3},null,null,176,{"$f":"1/入力部分!$I$36/(2*3.14)^0.5*EXP(-1/2*(((M182+入力部分!$I$45)-入力部分!$I$27)/入力部分!$I$36)^2)","v":3.9208259026753704E-3},0.69006535887086518,null,null,176,{"$f":"1/入力部分!$I$37/(2*3.14)^0.5*EXP(-1/2*(((R182+入力部分!$I$46)-入力部分!$I$28)/入力部分!$I$37)^2)","v":3.4907701101913524E-3},0.61437553939367806,null,null,176,{"$f":"1/入力部分!$I$38/(2*3.14)^0.5*EXP(-1/2*(((W182+入力部分!$I$47)-入力部分!$I$29)/入力部分!$I$38)^2)","v":4.1599249449567955E-5},7.3214679031239601E-3,null,null,176,{"$f":"1/入力部分!$I$39/(2*3.14)^0.5*EXP(-1/2*(((AB182+入力部分!$I$48)-入力部分!$I$30)/入力部分!$I$39)^2)","v":1.594549923753904E-22},2.8064078658068711E-20]
[null,null,null,null,null,null,null,null,177,{"$f":"(入力部分!D$7*N183+入力部分!D$8*S183+入力部分!D$9*X183+入力部分!D$10*AC183)/(SUM(入力部分!D$7:D$10))","v":1.7806543910503213E-3},null,null,177,{"$f":"1/入力部分!$I$36/(2*3.14)^0.5*EXP(-1/2*(((M183+入力部分!$I$45)-入力部分!$I$27)/入力部分!$I$36)^2)","v":3.911324400642676E-3},0.69230441891375361,null,null,177,{"$f":"1/入力部分!$I$37/(2*3.14)^0.5*EXP(-1/2*(((R183+入力部分!$I$46)-入力部分!$I$28)/入力部分!$I$37)^2)","v":3.4200141966594638E-3},0.60534251280872509,null,null,177,{"$f":"1/入力部分!$I$38/(2*3.14)^0.5*EXP(-1/2*(((W183+入力部分!$I$47)-入力部分!$I$29)/入力部分!$I$38)^2)","v":3.693406889075162E-5},6.537330193663037E-3,null,null,177,{"$f":"1/入力部分!$I$39/(2*3.14)^0.5*EXP(-1/2*(((AB183+入力部分!$I$48)-入力部分!$I$30)/入力部分!$I$39)^2)","v":7.0964401899252319E-23},1.2560699136167661E-20]
[null,null,null,null,null,null,null,null,178,{"$f":"(入力部分!D$7*N184+入力部分!D$8*S184+入力部分!D$9*X184+入力部分!D$10*AC184)/(SUM(入力部分!D$7:D$10))","v":1.7520001281612235E-3},null,null,178,{"$f":"1/入力部分!$I$36/(2*3.14)^0.5*EXP(-1/2*(((M184+入力部分!$I$45)-入力部分!$I$27)/入力部分!$I$36)^2)","v":3.9014478373874998E-3},0.694457715054975,null,null,178,{"$f":"1/入力部分!$I$37/(2*3.14)^0.5*EXP(-1/2*(((R184+入力部分!$I$46)-入力部分!$I$28)/入力部分!$I$37)^2)","v":3.3496826910952844E-3},0.59624351901496064,null,null,178,{"$f":"1/入力部分!$I$38/(2*3.14)^0.5*EXP(-1/2*(((W184+入力部分!$I$47)-入力部分!$I$29)/入力部分!$I$38)^2)","v":3.2752557308218292E-5},5.8299552008628562E-3,null,null,178,{"$f":"1/入力部分!$I$39/(2*3.14)^0.5*EXP(-1/2*(((AB184+入力部分!$I$48)-入力部分!$I$30)/入力部分!$I$39)^2)","v":3.1363681765544868E-23},5.5827353542669867E-21]
[null,null,null,null,null,null,null,null,179,{"$f":"(入力部分!D$7*N185+入力部分!D$8*S185+入力部分!D$9*X185+入力部分!D$10*AC185)/(SUM(入力部分!D$7:D$10))","v":1.7235805697669187E-3},null,null,179,{"$f":"1/入力部分!$I$36/(2*3.14)^0.5*EXP(-1/2*(((M185+入力部分!$I$45)-入力部分!$I$27)/入力部分!$I$36)^2)","v":3.8911991727566412E-3},0.69652465192343882,null,null,179,{"$f":"1/入力部分!$I$37/(2*3.14)^0.5*EXP(-1/2*(((R185+入力部分!$I$46)-入力部分!$I$28)/入力部分!$I$37)^2)","v":3.2798088204025145E-3},0.58708577885205016,null,null,179,{"$f":"1/入力部分!$I$38/(2*3.14)^0.5*EXP(-1/2*(((W185+入力部分!$I$47)-入力部分!$I$29)/入力部分!$I$38)^2)","v":2.900946208558285E-5},5.1926937133193306E-3,null,null,179,{"$f":"1/入力部分!$I$39/(2*3.14)^0.5*EXP(-1/2*(((AB185+入力部分!$I$48)-入力部分!$I$30)/入力部分!$I$39)^2)","v":1.3765677681564904E-23},2.4640563050001178E-21]
[null,null,null,null,null,null,null,null,180,{"$f":"(入力部分!D$7*N186+入力部分!D$8*S186+入力部分!D$9*X186+入力部分!D$10*AC186)/(SUM(入力部分!D$7:D$10))","v":1.6953977477886897E-3},null,null,180,{"$f":"1/入力部分!$I$36/(2*3.14)^0.5*EXP(-1/2*(((M186+入力部分!$I$45)-入力部分!$I$27)/入力部分!$I$36)^2)","v":3.8805814727159494E-3},0.69850466508887088,null,null,180,{"$f":"1/入力部分!$I$37/(2*3.14)^0.5*EXP(-1/2*(((R186+入力部分!$I$46)-入力部分!$I$28)/入力部分!$I$37)^2)","v":3.210424713898717E-3},0.577876448501769,null,null,180,{"$f":"1/入力部分!$I$38/(2*3.14)^0.5*EXP(-1/2*(((W186+入力部分!$I$47)-入力部分!$I$29)/入力部分!$I$38)^2)","v":2.5663183948708159E-5},4.6193731107674685E-3,null,null,180,{"$f":"1/入力部分!$I$39/(2*3.14)^0.5*EXP(-1/2*(((AB186+入力部分!$I$48)-入力部分!$I$30)/入力部分!$I$39)^2)","v":6.0000134022875075E-24},1.0800024124117514E-21]
[null,null,null,null,null,null,null,null,181,{"$f":"(入力部分!D$7*N187+入力部分!D$8*S187+入力部分!D$9*X187+入力部分!D$10*AC187)/(SUM(入力部分!D$7:D$10))","v":1.6674541460244177E-3},null,null,181,{"$f":"1/入力部分!$I$36/(2*3.14)^0.5*EXP(-1/2*(((M187+入力部分!$I$45)-入力部分!$I$27)/入力部分!$I$36)^2)","v":3.8695979078220196E-3},0.70039722131578552,null,null,181,{"$f":"1/入力部分!$I$37/(2*3.14)^0.5*EXP(-1/2*(((R187+入力部分!$I$46)-入力部分!$I$28)/入力部分!$I$37)^2)","v":3.1415613878864315E-3},0.56862261120744406,null,null,181,{"$f":"1/入力部分!$I$38/(2*3.14)^0.5*EXP(-1/2*(((W187+入力部分!$I$47)-入力部分!$I$29)/入力部分!$I$38)^2)","v":2.2675548357015017E-5},4.1042742526197183E-3,null,null,181,{"$f":"1/入力部分!$I$39/(2*3.14)^0.5*EXP(-1/2*(((AB187+入力部分!$I$48)-入力部分!$I$30)/入力部分!$I$39)^2)","v":2.59711338528356E-24},4.7007752273632434E-22]
[null,null,null,null,null,null,null,null,182,{"$f":"(入力部分!D$7*N188+入力部分!D$8*S188+入力部分!D$9*X188+入力部分!D$10*AC188)/(SUM(入力部分!D$7:D$10))","v":1.6397526394624417E-3},null,null,182,{"$f":"1/入力部分!$I$36/(2*3.14)^0.5*EXP(-1/2*(((M188+入力部分!$I$45)-入力部分!$I$27)/入力部分!$I$36)^2)","v":3.8582517516447044E-3},0.70220181879933619,null,null,182,{"$f":"1/入力部分!$I$37/(2*3.14)^0.5*EXP(-1/2*(((R188+入力部分!$I$46)-入力部分!$I$28)/入力部分!$I$37)^2)","v":3.073248732207573E-3},0.55933126926177823,null,null,182,{"$f":"1/入力部分!$I$38/(2*3.14)^0.5*EXP(-1/2*(((W188+入力部分!$I$47)-入力部分!$I$29)/入力部分!$I$38)^2)","v":2.0011583716056026E-5},3.6421082363221969E-3,null,null,182,{"$f":"1/入力部分!$I$39/(2*3.14)^0.5*EXP(-1/2*(((AB188+入力部分!$I$48)-入力部分!$I$30)/入力部分!$I$39)^2)","v":1.1163841624080671E-24},2.031819175582682E-22]
[null,null,null,null,null,null,null,null,183,{"$f":"(入力部分!D$7*N189+入力部分!D$8*S189+入力部分!D$9*X189+入力部分!D$10*AC189)/(SUM(入力部分!D$7:D$10))","v":1.6122964362121552E-3},null,null,183,{"$f":"1/入力部分!$I$36/(2*3.14)^0.5*EXP(-1/2*(((M189+入力部分!$I$45)-入力部分!$I$27)/入力部分!$I$36)^2)","v":3.8465463791415369E-3},0.70391798738290123,null,null,183,{"$f":"1/入力部分!$I$37/(2*3.14)^0.5*EXP(-1/2*(((R189+入力部分!$I$46)-入力部分!$I$28)/入力部分!$I$37)^2)","v":3.0055154987632463E-3},0.5500093362736741,null,null,183,{"$f":"1/入力部分!$I$38/(2*3.14)^0.5*EXP(-1/2*(((W189+入力部分!$I$47)-入力部分!$I$29)/入力部分!$I$38)^2)","v":1.7639307132983558E-5},3.227993205335991E-3,null,null,183,{"$f":"1/入力部分!$I$39/(2*3.14)^0.5*EXP(-1/2*(((AB189+入力部分!$I$48)-入力部分!$I$30)/入力部分!$I$39)^2)","v":4.7656318435367046E-25},8.7211062736721696E-23]
[null,null,null,null,null,null,null,null,184,{"$f":"(入力部分!D$7*N190+入力部分!D$8*S190+入力部分!D$9*X190+入力部分!D$10*AC190)/(SUM(入力部分!D$7:D$10))","v":1.585089022187941E-3},null,null,184,{"$f":"1/入力部分!$I$36/(2*3.14)^0.5*EXP(-1/2*(((M190+入力部分!$I$45)-入力部分!$I$27)/入力部分!$I$36)^2)","v":3.8344852649851886E-3},0.70554528875727474,null,null,184,{"$f":"1/入力部分!$I$37/(2*3.14)^0.5*EXP(-1/2*(((R190+入力部分!$I$46)-入力部分!$I$28)/入力部分!$I$37)^2)","v":2.9383892919773347E-3},0.54066362972382953,null,null,184,{"$f":"1/入力部分!$I$38/(2*3.14)^0.5*EXP(-1/2*(((W190+入力部分!$I$47)-入力部分!$I$29)/入力部分!$I$38)^2)","v":1.5529518293168302E-5},2.8574313659429675E-3,null,null,184,{"$f":"1/入力部分!$I$39/(2*3.14)^0.5*EXP(-1/2*(((AB190+入力部分!$I$48)-入力部分!$I$30)/入力部分!$I$39)^2)","v":2.0202791295718065E-25},3.7173135984121238E-23]
[null,null,null,null,null,null,null,null,185,{"$f":"(入力部分!D$7*N191+入力部分!D$8*S191+入力部分!D$9*X191+入力部分!D$10*AC191)/(SUM(入力部分!D$7:D$10))","v":1.5581341086487136E-3},null,null,185,{"$f":"1/入力部分!$I$36/(2*3.14)^0.5*EXP(-1/2*(((M191+入力部分!$I$45)-入力部分!$I$27)/入力部分!$I$36)^2)","v":3.8220719818451332E-3},0.7070833166413496,null,null,185,{"$f":"1/入力部分!$I$37/(2*3.14)^0.5*EXP(-1/2*(((R191+入力部分!$I$46)-入力部分!$I$28)/入力部分!$I$37)^2)","v":2.8718965611786666E-3},0.5313008638180533,null,null,185,{"$f":"1/入力部分!$I$38/(2*3.14)^0.5*EXP(-1/2*(((W191+入力部分!$I$47)-入力部分!$I$29)/入力部分!$I$38)^2)","v":1.3655601904287526E-5},2.5262863522931924E-3,null,null,185,{"$f":"1/入力部分!$I$39/(2*3.14)^0.5*EXP(-1/2*(((AB191+入力部分!$I$48)-入力部分!$I$30)/入力部分!$I$39)^2)","v":8.5052352777531846E-26},1.573468526384339E-23]
[null,null,null,null,null,null,null,null,186,{"$f":"(入力部分!D$7*N192+入力部分!D$8*S192+入力部分!D$9*X192+入力部分!D$10*AC192)/(SUM(入力部分!D$7:D$10))","v":1.531435582663926E-3},null,null,186,{"$f":"1/入力部分!$I$36/(2*3.14)^0.5*EXP(-1/2*(((M192+入力部分!$I$45)-入力部分!$I$27)/入力部分!$I$36)^2)","v":3.809310198624692E-3},0.70853169694419271,null,null,186,{"$f":"1/入力部分!$I$37/(2*3.14)^0.5*EXP(-1/2*(((R192+入力部分!$I$46)-入力部分!$I$28)/入力部分!$I$37)^2)","v":2.8060625948730937E-3},0.52192764264639546,null,null,186,{"$f":"1/入力部分!$I$38/(2*3.14)^0.5*EXP(-1/2*(((W192+入力部分!$I$47)-入力部分!$I$29)/入力部分!$I$38)^2)","v":1.1993339033717355E-5},2.230761060271428E-3,null,null,186,{"$f":"1/入力部分!$I$39/(2*3.14)^0.5*EXP(-1/2*(((AB192+入力部分!$I$48)-入力部分!$I$30)/入力部分!$I$39)^2)","v":3.5558657206615115E-26},6.6139102404304112E-24]
[null,null,null,null,null,null,null,null,187,{"$f":"(入力部分!D$7*N193+入力部分!D$8*S193+入力部分!D$9*X193+入力部分!D$10*AC193)/(SUM(入力部分!D$7:D$10))","v":1.5049974605483832E-3},null,null,187,{"$f":"1/入力部分!$I$36/(2*3.14)^0.5*EXP(-1/2*(((M193+入力部分!$I$45)-入力部分!$I$27)/入力部分!$I$36)^2)","v":3.7962036786546947E-3},0.70989008790842789,null,null,187,{"$f":"1/入力部分!$I$37/(2*3.14)^0.5*EXP(-1/2*(((R193+入力部分!$I$46)-入力部分!$I$28)/入力部分!$I$37)^2)","v":2.7409115168735235E-3},0.5125504536553489,null,null,187,{"$f":"1/入力部分!$I$38/(2*3.14)^0.5*EXP(-1/2*(((W193+入力部分!$I$47)-入力部分!$I$29)/入力部分!$I$38)^2)","v":1.052072755590045E-5},1.9673760529533841E-3,null,null,187,{"$f":"1/入力部分!$I$39/(2*3.14)^0.5*EXP(-1/2*(((AB193+入力部分!$I$48)-入力部分!$I$30)/入力部分!$I$39)^2)","v":1.476346976996085E-26},2.7607688469826788E-24]
[null,null,null,null,null,null,null,null,188,{"$f":"(入力部分!D$7*N194+入力部分!D$8*S194+入力部分!D$9*X194+入力部分!D$10*AC194)/(SUM(入力部分!D$7:D$10))","v":1.4788238442824853E-3},null,null,188,{"$f":"1/入力部分!$I$36/(2*3.14)^0.5*EXP(-1/2*(((M194+入力部分!$I$45)-入力部分!$I$27)/入力部分!$I$36)^2)","v":3.7827562778449801E-3},0.71115818023485622,null,null,188,{"$f":"1/入力部分!$I$37/(2*3.14)^0.5*EXP(-1/2*(((R194+入力部分!$I$46)-入力部分!$I$28)/入力部分!$I$37)^2)","v":2.6764662842527764E-3},0.50317566143952197,null,null,188,{"$f":"1/入力部分!$I$38/(2*3.14)^0.5*EXP(-1/2*(((W194+入力部分!$I$47)-入力部分!$I$29)/入力部分!$I$38)^2)","v":9.2178118282865853E-6},1.7329486237178781E-3,null,null,188,{"$f":"1/入力部分!$I$39/(2*3.14)^0.5*EXP(-1/2*(((AB194+入力部分!$I$48)-入力部分!$I$30)/入力部分!$I$39)^2)","v":6.0871722589200672E-27},1.1443883846769727E-24]
[null,null,null,null,null,null,null,null,189,{"$f":"(入力部分!D$7*N195+入力部分!D$8*S195+入力部分!D$9*X195+入力部分!D$10*AC195)/(SUM(入力部分!D$7:D$10))","v":1.4529188809115929E-3},null,null,189,{"$f":"1/入力部分!$I$36/(2*3.14)^0.5*EXP(-1/2*(((M195+入力部分!$I$45)-入力部分!$I$27)/入力部分!$I$36)^2)","v":3.7689719427950272E-3},0.71233569718826018,null,null,189,{"$f":"1/入力部分!$I$37/(2*3.14)^0.5*EXP(-1/2*(((R195+入力部分!$I$46)-入力部分!$I$28)/入力部分!$I$37)^2)","v":2.6127486870811561E-3},0.4938095018583385,null,null,189,{"$f":"1/入力部分!$I$38/(2*3.14)^0.5*EXP(-1/2*(((W195+入力部分!$I$47)-入力部分!$I$29)/入力部分!$I$38)^2)","v":8.0665216271240247E-6},1.5245725875264406E-3,null,null,189,{"$f":"1/入力部分!$I$39/(2*3.14)^0.5*EXP(-1/2*(((AB195+入力部分!$I$48)-入力部分!$I$30)/入力部分!$I$39)^2)","v":2.4924520424394198E-27},4.7107343602105034E-25]
[null,null,null,null,null,null,null,null,190,{"$f":"(入力部分!D$7*N196+入力部分!D$8*S196+入力部分!D$9*X196+入力部分!D$10*AC196)/(SUM(入力部分!D$7:D$10))","v":1.4272867248978844E-3},null,null,190,{"$f":"1/入力部分!$I$36/(2*3.14)^0.5*EXP(-1/2*(((M196+入力部分!$I$45)-入力部分!$I$27)/入力部分!$I$36)^2)","v":3.7548547088649973E-3},0.71342239468434943,null,null,190,{"$f":"1/入力部分!$I$37/(2*3.14)^0.5*EXP(-1/2*(((R196+入力部分!$I$46)-入力部分!$I$28)/入力部分!$I$37)^2)","v":2.5497793499077615E-3},0.48445807648247469,null,null,190,{"$f":"1/入力部分!$I$38/(2*3.14)^0.5*EXP(-1/2*(((W196+入力部分!$I$47)-入力部分!$I$29)/入力部分!$I$38)^2)","v":7.050520297396906E-6},1.3395988565054122E-3,null,null,190,{"$f":"1/入力部分!$I$39/(2*3.14)^0.5*EXP(-1/2*(((AB196+入力部分!$I$48)-入力部分!$I$30)/入力部分!$I$39)^2)","v":1.0134961323912935E-27},1.9256426515434576E-25]
[null,null,null,null,null,null,null,null,191,{"$f":"(入力部分!D$7*N197+入力部分!D$8*S197+入力部分!D$9*X197+入力部分!D$10*AC197)/(SUM(入力部分!D$7:D$10))","v":1.4019315033803022E-3},null,null,191,{"$f":"1/入力部分!$I$36/(2*3.14)^0.5*EXP(-1/2*(((M197+入力部分!$I$45)-入力部分!$I$27)/入力部分!$I$36)^2)","v":3.7404086982085125E-3},0.71441806135782593,null,null,191,{"$f":"1/入力部分!$I$37/(2*3.14)^0.5*EXP(-1/2*(((R197+入力部分!$I$46)-入力部分!$I$28)/入力部分!$I$37)^2)","v":2.4875777349419145E-3},0.47512734737390566,null,null,191,{"$f":"1/入力部分!$I$38/(2*3.14)^0.5*EXP(-1/2*(((W197+入力部分!$I$47)-入力部分!$I$29)/入力部分!$I$38)^2)","v":6.1550620040815519E-6},1.1756168427795764E-3,null,null,191,{"$f":"1/入力部分!$I$39/(2*3.14)^0.5*EXP(-1/2*(((AB197+入力部分!$I$48)-入力部分!$I$30)/入力部分!$I$39)^2)","v":4.0926202311758766E-28},7.8169046415459244E-26]
[null,null,null,null,null,null,null,null,192,{"$f":"(入力部分!D$7*N198+入力部分!D$8*S198+入力部分!D$9*X198+入力部分!D$10*AC198)/(SUM(入力部分!D$7:D$10))","v":1.376857284282787E-3},null,null,192,{"$f":"1/入力部分!$I$36/(2*3.14)^0.5*EXP(-1/2*(((M198+入力部分!$I$45)-入力部分!$I$27)/入力部分!$I$36)^2)","v":3.7256381177685097E-3},0.71532251861155383,null,null,192,{"$f":"1/入力部分!$I$37/(2*3.14)^0.5*EXP(-1/2*(((R198+入力部分!$I$46)-入力部分!$I$28)/入力部分!$I$37)^2)","v":2.426162146888533E-3},0.4658231322025983,null,null,192,{"$f":"1/入力部分!$I$38/(2*3.14)^0.5*EXP(-1/2*(((W198+入力部分!$I$47)-入力部分!$I$29)/入力部分!$I$38)^2)","v":5.3668579140939265E-6},1.0304367195060338E-3,null,null,192,{"$f":"1/入力部分!$I$39/(2*3.14)^0.5*EXP(-1/2*(((AB198+入力部分!$I$48)-入力部分!$I$30)/入力部分!$I$39)^2)","v":1.6412126810495635E-28},3.1511283476151621E-26]
[null,null,null,null,null,null,null,null,193,{"$f":"(入力部分!D$7*N199+入力部分!D$8*S199+入力部分!D$9*X199+入力部分!D$10*AC199)/(SUM(入力部分!D$7:D$10))","v":1.3520680471978709E-3},null,null,193,{"$f":"1/入力部分!$I$36/(2*3.14)^0.5*EXP(-1/2*(((M199+入力部分!$I$45)-入力部分!$I$27)/入力部分!$I$36)^2)","v":3.7105472572375332E-3},0.71613562064684388,null,null,193,{"$f":"1/入力部分!$I$37/(2*3.14)^0.5*EXP(-1/2*(((R199+入力部分!$I$46)-入力部分!$I$28)/入力部分!$I$37)^2)","v":2.3655497393889769E-3},0.45655109970207253,null,null,193,{"$f":"1/入力部分!$I$38/(2*3.14)^0.5*EXP(-1/2*(((W199+入力部分!$I$47)-入力部分!$I$29)/入力部分!$I$38)^2)","v":4.6739510892531921E-6},9.020725602258661E-4,null,null,193,{"$f":"1/入力部分!$I$39/(2*3.14)^0.5*EXP(-1/2*(((AB199+入力部分!$I$48)-入力部分!$I$30)/入力部分!$I$39)^2)","v":6.5360045702443927E-29},{"$f":"AB199*$AC199","v":1.2614488820571678E-26}]
[null,null,null,null,null,null,null,null,194,{"$f":"(入力部分!D$7*N200+入力部分!D$8*S200+入力部分!D$9*X200+入力部分!D$10*AC200)/(SUM(入力部分!D$7:D$10))","v":1.3275676569616634E-3},null,null,194,{"$f":"1/入力部分!$I$36/(2*3.14)^0.5*EXP(-1/2*(((M200+入力部分!$I$45)-入力部分!$I$27)/入力部分!$I$36)^2)","v":3.695140486983853E-3},{"$f":"M200*$N200","v":0.71685725447486748},null,null,194,{"$f":"1/入力部分!$I$37/(2*3.14)^0.5*EXP(-1/2*(((R200+入力部分!$I$46)-入力部分!$I$28)/入力部分!$I$37)^2)","v":2.3057565230166911E-3},{"$f":"R200*$S200","v":0.44731676546523808},null,null,194,{"$f":"1/入力部分!$I$38/(2*3.14)^0.5*EXP(-1/2*(((W200+入力部分!$I$47)-入力部分!$I$29)/入力部分!$I$38)^2)","v":4.0655998296906755E-6},{"$f":"W200*$X200","v":7.8872636695999105E-4},null,null,194,{"$f":"1/入力部分!$I$39/(2*3.14)^0.5*EXP(-1/2*(((AB200+入力部分!$I$48)-入力部分!$I$30)/入力部分!$I$39)^2)","v":2.5849008928706066E-29},5.0147077321689766E-27]
[null,null,null,null,null,null,null,null,195,{"$f":"(入力部分!D$7*N201+入力部分!D$8*S201+入力部分!D$9*X201+入力部分!D$10*AC201)/(SUM(入力部分!D$7:D$10))","v":1.3033598398271703E-3},null,null,195,{"$f":"1/入力部分!$I$36/(2*3.14)^0.5*EXP(-1/2*(((M201+入力部分!$I$45)-入力部分!$I$27)/入力部分!$I$36)^2)","v":3.6794222559448034E-3},0.71748733990923663,null,null,195,{"$f":"1/入力部分!$I$37/(2*3.14)^0.5*EXP(-1/2*(((R201+入力部分!$I$46)-入力部分!$I$28)/入力部分!$I$37)^2)","v":2.2467973747750032E-3},0.43812548808112561,null,null,195,{"$f":"1/入力部分!$I$38/(2*3.14)^0.5*EXP(-1/2*(((W201+入力部分!$I$47)-入力部分!$I$29)/入力部分!$I$38)^2)","v":3.5321691737737723E-6},6.8877298888588565E-4,null,null,195,{"$f":"1/入力部分!$I$39/(2*3.14)^0.5*EXP(-1/2*(((AB201+入力部分!$I$48)-入力部分!$I$30)/入力部分!$I$39)^2)","v":1.0152184739239023E-29},1.9796760241516095E-27]
[null,null,null,null,null,null,null,null,196,{"$f":"(入力部分!D$7*N202+入力部分!D$8*S202+入力部分!D$9*X202+入力部分!D$10*AC202)/(SUM(入力部分!D$7:D$10))","v":1.2794481621356062E-3},null,null,196,{"$f":"1/入力部分!$I$36/(2*3.14)^0.5*EXP(-1/2*(((M202+入力部分!$I$45)-入力部分!$I$27)/入力部分!$I$36)^2)","v":3.6633970894887641E-3},0.71802582953979777,null,null,196,{"$f":"1/入力部分!$I$37/(2*3.14)^0.5*EXP(-1/2*(((R202+入力部分!$I$46)-入力部分!$I$28)/入力部分!$I$37)^2)","v":2.1886860490425825E-3},0.42898246561234615,null,null,196,{"$f":"1/入力部分!$I$38/(2*3.14)^0.5*EXP(-1/2*(((W202+入力部分!$I$47)-入力部分!$I$29)/入力部分!$I$38)^2)","v":3.0650302341690526E-6},6.0074592589713432E-4,null,null,196,{"$f":"1/入力部分!$I$39/(2*3.14)^0.5*EXP(-1/2*(((AB202+入力部分!$I$48)-入力部分!$I$30)/入力部分!$I$39)^2)","v":3.9596718267254844E-30},7.7609567803819493E-28]
[null,null,null,null,null,null,null,null,197,{"$f":"(入力部分!D$7*N203+入力部分!D$8*S203+入力部分!D$9*X203+入力部分!D$10*AC203)/(SUM(入力部分!D$7:D$10))","v":1.2558360113797012E-3},null,null,197,{"$f":"1/入力部分!$I$36/(2*3.14)^0.5*EXP(-1/2*(((M203+入力部分!$I$45)-入力部分!$I$27)/入力部分!$I$36)^2)","v":3.6470695872472267E-3},0.71847270868770363,null,null,197,{"$f":"1/入力部分!$I$37/(2*3.14)^0.5*EXP(-1/2*(((R203+入力部分!$I$46)-入力部分!$I$28)/入力部分!$I$37)^2)","v":2.1314351899104507E-3},0.4198927324123588,null,null,197,{"$f":"1/入力部分!$I$38/(2*3.14)^0.5*EXP(-1/2*(((W203+入力部分!$I$47)-入力部分!$I$29)/入力部分!$I$38)^2)","v":2.6564670295156466E-6},5.2332400481458236E-4,null,null,197,{"$f":"1/入力部分!$I$39/(2*3.14)^0.5*EXP(-1/2*(((AB203+入力部分!$I$48)-入力部分!$I$30)/入力部分!$I$39)^2)","v":1.5337089121978382E-30},3.0214065570297415E-28]
[null,null,null,null,null,null,null,null,198,{"$f":"(入力部分!D$7*N204+入力部分!D$8*S204+入力部分!D$9*X204+入力部分!D$10*AC204)/(SUM(入力部分!D$7:D$10))","v":1.2325265795488289E-3},null,null,198,{"$f":"1/入力部分!$I$36/(2*3.14)^0.5*EXP(-1/2*(((M204+入力部分!$I$45)-入力部分!$I$27)/入力部分!$I$36)^2)","v":3.630444420918387E-3},0.71882799534184061,null,null,198,{"$f":"1/入力部分!$I$37/(2*3.14)^0.5*EXP(-1/2*(((R204+入力部分!$I$46)-入力部分!$I$28)/入力部分!$I$37)^2)","v":2.0750563448529427E-3},0.41086115628088266,null,null,198,{"$f":"1/入力部分!$I$38/(2*3.14)^0.5*EXP(-1/2*(((W204+入力部分!$I$47)-入力部分!$I$29)/入力部分!$I$38)^2)","v":2.2995904567093533E-6},4.5531891042845194E-4,null,null,198,{"$f":"1/入力部分!$I$39/(2*3.14)^0.5*EXP(-1/2*(((AB204+入力部分!$I$48)-入力部分!$I$30)/入力部分!$I$39)^2)","v":5.8994395442433109E-31},1.1680890297601756E-28]
[null,null,null,null,null,null,null,null,199,{"$f":"(入力部分!D$7*N205+入力部分!D$8*S205+入力部分!D$9*X205+入力部分!D$10*AC205)/(SUM(入力部分!D$7:D$10))","v":1.2095228486429669E-3},null,null,199,{"$f":"1/入力部分!$I$36/(2*3.14)^0.5*EXP(-1/2*(((M205+入力部分!$I$45)-入力部分!$I$27)/入力部分!$I$36)^2)","v":3.613526332043736E-3},0.71909174007670351,null,null,199,{"$f":"1/入力部分!$I$37/(2*3.14)^0.5*EXP(-1/2*(((R205+入力部分!$I$46)-入力部分!$I$28)/入力部分!$I$37)^2)","v":2.0195599796737247E-3},0.40189243595507124,null,null,199,{"$f":"1/入力部分!$I$38/(2*3.14)^0.5*EXP(-1/2*(((W205+入力部分!$I$47)-入力部分!$I$29)/入力部分!$I$38)^2)","v":1.9882590394127209E-6},3.9566354884313146E-4,null,null,199,{"$f":"1/入力部分!$I$39/(2*3.14)^0.5*EXP(-1/2*(((AB205+入力部分!$I$48)-入力部分!$I$30)/入力部分!$I$39)^2)","v":2.2535263202196933E-31},4.4845173772371896E-29]
[null,null,null,null,null,null,null,null,200,{"$f":"(入力部分!D$7*N206+入力部分!D$8*S206+入力部分!D$9*X206+入力部分!D$10*AC206)/(SUM(入力部分!D$7:D$10))","v":1.1868275782408503E-3},null,null,200,{"$f":"1/入力部分!$I$36/(2*3.14)^0.5*EXP(-1/2*(((M206+入力部分!$I$45)-入力部分!$I$27)/入力部分!$I$36)^2)","v":3.5963201297591267E-3},0.71926402595182537,null,null,200,{"$f":"1/入力部分!$I$37/(2*3.14)^0.5*EXP(-1/2*(((R206+入力部分!$I$46)-入力部分!$I$28)/入力部分!$I$37)^2)","v":1.96495549466687E-3},0.39299109893337397,null,null,200,{"$f":"1/入力部分!$I$38/(2*3.14)^0.5*EXP(-1/2*(((W206+入力部分!$I$47)-入力部分!$I$29)/入力部分!$I$38)^2)","v":1.7170060835330916E-6},3.4340121670661832E-4,null,null,200,{"$f":"1/入力部分!$I$39/(2*3.14)^0.5*EXP(-1/2*(((AB206+入力部分!$I$48)-入力部分!$I$30)/入力部分!$I$39)^2)","v":8.5486705550886468E-32},1.7097341110177293E-29]
[null,null,null,null,null,null,null,null,201,{"$f":"(入力部分!D$7*N207+入力部分!D$8*S207+入力部分!D$9*X207+入力部分!D$10*AC207)/(SUM(入力部分!D$7:D$10))","v":1.1644432950071025E-3},null,null,201,{"$f":"1/入力部分!$I$36/(2*3.14)^0.5*EXP(-1/2*(((M207+入力部分!$I$45)-入力部分!$I$27)/入力部分!$I$36)^2)","v":3.578830688521805E-3},0.71934496839288276,null,null,201,{"$f":"1/入力部分!$I$37/(2*3.14)^0.5*EXP(-1/2*(((R207+入力部分!$I$46)-入力部分!$I$28)/入力部分!$I$37)^2)","v":1.911251241932006E-3},0.38416149962833318,null,null,201,{"$f":"1/入力部分!$I$38/(2*3.14)^0.5*EXP(-1/2*(((W207+入力部分!$I$47)-入力部分!$I$29)/入力部分!$I$38)^2)","v":1.4809728694992112E-6},2.9767554676934146E-4,null,null,201,{"$f":"1/入力部分!$I$39/(2*3.14)^0.5*EXP(-1/2*(((AB207+入力部分!$I$48)-入力部分!$I$30)/入力部分!$I$39)^2)","v":3.2204650681378051E-32},6.4731347869569878E-30]
[null,null,null,null,null,null,null,null,202,{"$f":"(入力部分!D$7*N208+入力部分!D$8*S208+入力部分!D$9*X208+入力部分!D$10*AC208)/(SUM(入力部分!D$7:D$10))","v":1.1423722840234684E-3},null,null,202,{"$f":"1/入力部分!$I$36/(2*3.14)^0.5*EXP(-1/2*(((M208+入力部分!$I$45)-入力部分!$I$27)/入力部分!$I$36)^2)","v":3.5610629458149049E-3},0.71933471505461077,null,null,202,{"$f":"1/入力部分!$I$37/(2*3.14)^0.5*EXP(-1/2*(((R208+入力部分!$I$46)-入力部分!$I$28)/入力部分!$I$37)^2)","v":1.8584545437818159E-3},0.37540781784392679,null,null,202,{"$f":"1/入力部分!$I$38/(2*3.14)^0.5*EXP(-1/2*(((W208+入力部分!$I$47)-入力部分!$I$29)/入力部分!$I$38)^2)","v":1.2758475136972974E-6},2.5772119776685409E-4,null,null,202,{"$f":"1/入力部分!$I$39/(2*3.14)^0.5*EXP(-1/2*(((AB208+入力部分!$I$48)-入力部分!$I$30)/入力部分!$I$39)^2)","v":1.2048213946884744E-32},2.4337392172707183E-30]
[null,null,null,null,null,null,null,null,203,{"$f":"(入力部分!D$7*N209+入力部分!D$8*S209+入力部分!D$9*X209+入力部分!D$10*AC209)/(SUM(入力部分!D$7:D$10))","v":1.1206165818304096E-3},null,null,203,{"$f":"1/入力部分!$I$36/(2*3.14)^0.5*EXP(-1/2*(((M209+入力部分!$I$45)-入力部分!$I$27)/入力部分!$I$36)^2)","v":3.5430218998309193E-3},0.7192334456656766,null,null,203,{"$f":"1/入力部分!$I$37/(2*3.14)^0.5*EXP(-1/2*(((R209+入力部分!$I$46)-入力部分!$I$28)/入力部分!$I$37)^2)","v":1.8065717121795129E-3},0.36673405757244115,null,null,203,{"$f":"1/入力部分!$I$38/(2*3.14)^0.5*EXP(-1/2*(((W209+入力部分!$I$47)-入力部分!$I$29)/入力部分!$I$38)^2)","v":1.0978091369100833E-6},2.2285525479274693E-4,null,null,203,{"$f":"1/入力部分!$I$39/(2*3.14)^0.5*EXP(-1/2*(((AB209+入力部分!$I$48)-入力部分!$I$30)/入力部分!$I$39)^2)","v":4.4762137315822376E-33},9.0867138751119431E-31]
[null,null,null,null,null,null,null,null,204,{"$f":"(入力部分!D$7*N210+入力部分!D$8*S210+入力部分!D$9*X210+入力部分!D$10*AC210)/(SUM(入力部分!D$7:D$10))","v":1.0991779710671664E-3},null,null,204,{"$f":"1/入力部分!$I$36/(2*3.14)^0.5*EXP(-1/2*(((M210+入力部分!$I$45)-入力部分!$I$27)/入力部分!$I$36)^2)","v":3.5247126071356618E-3},0.71904137185567496,null,null,204,{"$f":"1/入力部分!$I$37/(2*3.14)^0.5*EXP(-1/2*(((R210+入力部分!$I$46)-入力部分!$I$28)/入力部分!$I$37)^2)","v":1.7556080691435022E-3},0.35814404610527445,null,null,204,{"$f":"1/入力部分!$I$38/(2*3.14)^0.5*EXP(-1/2*(((W210+入力部分!$I$47)-入力部分!$I$29)/入力部分!$I$38)^2)","v":9.434769855809907E-7},1.9246930505852211E-4,null,null,204,{"$f":"1/入力部分!$I$39/(2*3.14)^0.5*EXP(-1/2*(((AB210+入力部分!$I$48)-入力部分!$I$30)/入力部分!$I$39)^2)","v":1.6515169126100902E-33},3.369094501724584E-31]
[null,null,null,null,null,null,null,null,205,{"$f":"(入力部分!D$7*N211+入力部分!D$8*S211+入力部分!D$9*X211+入力部分!D$10*AC211)/(SUM(入力部分!D$7:D$10))","v":1.0780579766007739E-3},null,null,205,{"$f":"1/入力部分!$I$36/(2*3.14)^0.5*EXP(-1/2*(((M211+入力部分!$I$45)-入力部分!$I$27)/入力部分!$I$36)^2)","v":3.5061401803142384E-3},0.71875873696441883,null,null,205,{"$f":"1/入力部分!$I$37/(2*3.14)^0.5*EXP(-1/2*(((R211+入力部分!$I$46)-入力部分!$I$28)/入力部分!$I$37)^2)","v":1.7055679680561318E-3},0.34964143345150706,null,null,205,{"$f":"1/入力部分!$I$38/(2*3.14)^0.5*EXP(-1/2*(((W211+入力部分!$I$47)-入力部分!$I$29)/入力部分!$I$38)^2)","v":8.0986416177876938E-7},1.6602215316464773E-4,null,null,205,{"$f":"1/入力部分!$I$39/(2*3.14)^0.5*EXP(-1/2*(((AB211+入力部分!$I$48)-入力部分!$I$30)/入力部分!$I$39)^2)","v":6.0511692738240022E-34},1.2404897011339205E-31]
[null,null,null,null,null,null,null,null,206,{"$f":"(入力部分!D$7*N212+入力部分!D$8*S212+入力部分!D$9*X212+入力部分!D$10*AC212)/(SUM(入力部分!D$7:D$10))","v":1.0572578630374319E-3},null,null,206,{"$f":"1/入力部分!$I$36/(2*3.14)^0.5*EXP(-1/2*(((M212+入力部分!$I$45)-入力部分!$I$27)/入力部分!$I$36)^2)","v":3.4873097856005677E-3},0.71838581583371697,null,null,206,{"$f":"1/入力部分!$I$37/(2*3.14)^0.5*EXP(-1/2*(((R212+入力部分!$I$46)-入力部分!$I$28)/入力部分!$I$37)^2)","v":1.6564548158133111E-3},0.34122969205754211,null,null,206,{"$f":"1/入力部分!$I$38/(2*3.14)^0.5*EXP(-1/2*(((W212+入力部分!$I$47)-入力部分!$I$29)/入力部分!$I$38)^2)","v":6.9433562947774017E-7},1.4303313967241449E-4,null,null,206,{"$f":"1/入力部分!$I$39/(2*3.14)^0.5*EXP(-1/2*(((AB212+入力部分!$I$48)-入力部分!$I$30)/入力部分!$I$39)^2)","v":2.2018090095486765E-34},4.5357265596702735E-32]
[null,null,null,null,null,null,null,null,207,{"$f":"(入力部分!D$7*N213+入力部分!D$8*S213+入力部分!D$9*X213+入力部分!D$10*AC213)/(SUM(入力部分!D$7:D$10))","v":1.0367786335128855E-3},null,null,207,{"$f":"1/入力部分!$I$36/(2*3.14)^0.5*EXP(-1/2*(((M213+入力部分!$I$45)-入力部分!$I$27)/入力部分!$I$36)^2)","v":3.4682266404919703E-3},0.71792291458183788,null,null,207,{"$f":"1/入力部分!$I$37/(2*3.14)^0.5*EXP(-1/2*(((R213+入力部分!$I$46)-入力部分!$I$28)/入力部分!$I$37)^2)","v":1.6082710957518091E-3},0.33291211682062449,null,null,207,{"$f":"1/入力部分!$I$38/(2*3.14)^0.5*EXP(-1/2*(((W213+入力部分!$I$47)-入力部分!$I$29)/入力部分!$I$38)^2)","v":5.9457017784374743E-7},1.2307602681365572E-4,null,null,207,{"$f":"1/入力部分!$I$39/(2*3.14)^0.5*EXP(-1/2*(((AB213+入力部分!$I$48)-入力部分!$I$30)/入力部分!$I$39)^2)","v":7.9561699808242674E-35},1.6469271860306232E-32]
[null,null,null,null,null,null,null,null,208,{"$f":"(入力部分!D$7*N214+入力部分!D$8*S214+入力部分!D$9*X214+入力部分!D$10*AC214)/(SUM(入力部分!D$7:D$10))","v":1.0166210296620763E-3},null,null,208,{"$f":"1/入力部分!$I$36/(2*3.14)^0.5*EXP(-1/2*(((M214+入力部分!$I$45)-入力部分!$I$27)/入力部分!$I$36)^2)","v":3.4488960113503728E-3},0.71737037036087759,null,null,208,{"$f":"1/入力部分!$I$37/(2*3.14)^0.5*EXP(-1/2*(((R214+入力部分!$I$46)-入力部分!$I$28)/入力部分!$I$37)^2)","v":1.5610183912912084E-3},0.32469182538857133,null,null,208,{"$f":"1/入力部分!$I$38/(2*3.14)^0.5*EXP(-1/2*(((W214+入力部分!$I$47)-入力部分!$I$29)/入力部分!$I$38)^2)","v":5.0852603630687832E-7},1.0577341555183069E-4,null,null,208,{"$f":"1/入力部分!$I$39/(2*3.14)^0.5*EXP(-1/2*(((AB214+入力部分!$I$48)-入力部分!$I$30)/入力部分!$I$39)^2)","v":2.8550421733880645E-35},5.9384877206471744E-33]
[null,null,null,null,null,null,null,null,209,{"$f":"(入力部分!D$7*N215+入力部分!D$8*S215+入力部分!D$9*X215+入力部分!D$10*AC215)/(SUM(入力部分!D$7:D$10))","v":9.9678553267214753E-4},null,null,209,{"$f":"1/入力部分!$I$36/(2*3.14)^0.5*EXP(-1/2*(((M215+入力部分!$I$45)-入力部分!$I$27)/入力部分!$I$36)^2)","v":3.429323210991654E-3},0.71672855109725564,null,null,209,{"$f":"1/入力部分!$I$37/(2*3.14)^0.5*EXP(-1/2*(((R215+入力部分!$I$46)-入力部分!$I$28)/入力部分!$I$37)^2)","v":1.5146974102278258E-3},0.31657175873761562,null,null,209,{"$f":"1/入力部分!$I$38/(2*3.14)^0.5*EXP(-1/2*(((W215+入力部分!$I$47)-入力部分!$I$29)/入力部分!$I$38)^2)","v":4.3440985102475319E-7},9.0791658864173416E-5,null,null,209,{"$f":"1/入力部分!$I$39/(2*3.14)^0.5*EXP(-1/2*(((AB215+入力部分!$I$48)-入力部分!$I$30)/入力部分!$I$39)^2)","v":1.0174312405620305E-35},2.1264312927746438E-33]
[null,null,null,null,null,null,null,null,210,{"$f":"(入力部分!D$7*N216+入力部分!D$8*S216+入力部分!D$9*X216+入力部分!D$10*AC216)/(SUM(入力部分!D$7:D$10))","v":9.772723653268733E-4},null,null,210,{"$f":"1/入力部分!$I$36/(2*3.14)^0.5*EXP(-1/2*(((M216+入力部分!$I$45)-入力部分!$I$27)/入力部分!$I$36)^2)","v":3.4095135962646734E-3},0.71599785521558146,null,null,210,{"$f":"1/入力部分!$I$37/(2*3.14)^0.5*EXP(-1/2*(((R216+入力部分!$I$46)-入力部分!$I$28)/入力部分!$I$37)^2)","v":1.4693080096183436E-3},0.30855468201985214,null,null,210,{"$f":"1/入力部分!$I$38/(2*3.14)^0.5*EXP(-1/2*(((W216+入力部分!$I$47)-入力部分!$I$29)/入力部分!$I$38)^2)","v":3.7064874764165801E-7},7.7836237004748189E-5,null,null,210,{"$f":"1/入力部分!$I$39/(2*3.14)^0.5*EXP(-1/2*(((AB216+入力部分!$I$48)-入力部分!$I$30)/入力部分!$I$39)^2)","v":3.6006563640918222E-36},7.5613783645928267E-34]
[null,null,null,null,null,null,null,null,211,{"$f":"(入力部分!D$7*N217+入力部分!D$8*S217+入力部分!D$9*X217+入力部分!D$10*AC217)/(SUM(入力部分!D$7:D$10))","v":9.5808149495471247E-4},null,null,211,{"$f":"1/入力部分!$I$36/(2*3.14)^0.5*EXP(-1/2*(((M217+入力部分!$I$45)-入力部分!$I$27)/入力部分!$I$36)^2)","v":3.3894725656215233E-3},0.71517871134614142,null,null,211,{"$f":"1/入力部分!$I$37/(2*3.14)^0.5*EXP(-1/2*(((R217+入力部分!$I$46)-入力部分!$I$28)/入力部分!$I$37)^2)","v":1.4248492211915208E-3},0.30064318567141091,null,null,211,{"$f":"1/入力部分!$I$38/(2*3.14)^0.5*EXP(-1/2*(((W217+入力部分!$I$47)-入力部分!$I$29)/入力部分!$I$38)^2)","v":3.1586522080700969E-7},6.6647561590279042E-5,null,null,211,{"$f":"1/入力部分!$I$39/(2*3.14)^0.5*EXP(-1/2*(((AB217+入力部分!$I$48)-入力部分!$I$30)/入力部分!$I$39)^2)","v":1.2654423030631609E-36},2.6700832594632695E-34]
[null,null,null,null,null,null,null,null,212,{"$f":"(入力部分!D$7*N218+入力部分!D$8*S218+入力部分!D$9*X218+入力部分!D$10*AC218)/(SUM(入力部分!D$7:D$10))","v":9.3921263719684415E-4},null,null,212,{"$f":"1/入力部分!$I$36/(2*3.14)^0.5*EXP(-1/2*(((M218+入力部分!$I$45)-入力部分!$I$27)/入力部分!$I$36)^2)","v":3.3692055566805195E-3},0.71427157801627017,null,null,212,{"$f":"1/入力部分!$I$37/(2*3.14)^0.5*EXP(-1/2*(((R218+入力部分!$I$46)-入力部分!$I$28)/入力部分!$I$37)^2)","v":1.3813192772270523E-3},0.29283968677213507,null,null,212,{"$f":"1/入力部分!$I$38/(2*3.14)^0.5*EXP(-1/2*(((W218+入力部分!$I$47)-入力部分!$I$29)/入力部分!$I$38)^2)","v":2.6885460653863175E-7},5.6997176586189928E-5,null,null,212,{"$f":"1/入力部分!$I$39/(2*3.14)^0.5*EXP(-1/2*(((AB218+入力部分!$I$48)-入力部分!$I$30)/入力部分!$I$39)^2)","v":4.4165900297671164E-37},9.3631708631062872E-35]
[null,null,null,null,null,null,null,null,213,{"$f":"(入力部分!D$7*N219+入力部分!D$8*S219+入力部分!D$9*X219+入力部分!D$10*AC219)/(SUM(入力部分!D$7:D$10))","v":9.2066526051575663E-4},null,null,213,{"$f":"1/入力部分!$I$36/(2*3.14)^0.5*EXP(-1/2*(((M219+入力部分!$I$45)-入力部分!$I$27)/入力部分!$I$36)^2)","v":3.3487180437834865E-3},0.71327694332588265,null,null,213,{"$f":"1/入力部分!$I$37/(2*3.14)^0.5*EXP(-1/2*(((R219+入力部分!$I$46)-入力部分!$I$28)/入力部分!$I$37)^2)","v":1.3387156368414982E-3},0.2851464306472391,null,null,213,{"$f":"1/入力部分!$I$38/(2*3.14)^0.5*EXP(-1/2*(((W219+入力部分!$I$47)-入力部分!$I$29)/入力部分!$I$38)^2)","v":2.2856490903617243E-7},4.8684325624704728E-5,null,null,213,{"$f":"1/入力部分!$I$39/(2*3.14)^0.5*EXP(-1/2*(((AB219+入力部分!$I$48)-入力部分!$I$30)/入力部分!$I$39)^2)","v":1.5307909743685612E-37},3.2605847754050353E-35]
[null,null,null,null,null,null,null,null,214,{"$f":"(入力部分!D$7*N220+入力部分!D$8*S220+入力部分!D$9*X220+入力部分!D$10*AC220)/(SUM(入力部分!D$7:D$10))","v":9.0243859136912889E-4},null,null,214,{"$f":"1/入力部分!$I$36/(2*3.14)^0.5*EXP(-1/2*(((M220+入力部分!$I$45)-入力部分!$I$27)/入力部分!$I$36)^2)","v":3.3280155355488355E-3},0.71219532460745083,null,null,214,{"$f":"1/入力部分!$I$37/(2*3.14)^0.5*EXP(-1/2*(((R220+入力部分!$I$46)-入力部分!$I$28)/入力部分!$I$37)^2)","v":1.2970350126221804E-3},0.27756549270114661,null,null,214,{"$f":"1/入力部分!$I$38/(2*3.14)^0.5*EXP(-1/2*(((W220+入力部分!$I$47)-入力部分!$I$29)/入力部分!$I$38)^2)","v":1.9407876882715343E-7},4.1532856529010832E-5,null,null,214,{"$f":"1/入力部分!$I$39/(2*3.14)^0.5*EXP(-1/2*(((AB220+入力部分!$I$48)-入力部分!$I$30)/入力部分!$I$39)^2)","v":5.2690068629745452E-38},1.1275674686765527E-35]
[null,null,null,null,null,null,null,null,215,{"$f":"(入力部分!D$7*N221+入力部分!D$8*S221+入力部分!D$9*X221+入力部分!D$10*AC221)/(SUM(入力部分!D$7:D$10))","v":8.8453161997787745E-4},null,null,215,{"$f":"1/入力部分!$I$36/(2*3.14)^0.5*EXP(-1/2*(((M221+入力部分!$I$45)-入力部分!$I$27)/入力部分!$I$36)^2)","v":3.3071035724219692E-3},0.71102726807072336,null,null,215,{"$f":"1/入力部分!$I$37/(2*3.14)^0.5*EXP(-1/2*(((R221+入力部分!$I$46)-入力部分!$I$28)/入力部分!$I$37)^2)","v":1.2562733975509863E-3},0.27009878047346203,null,null,215,{"$f":"1/入力部分!$I$38/(2*3.14)^0.5*EXP(-1/2*(((W221+入力部分!$I$47)-入力部分!$I$29)/入力部分!$I$38)^2)","v":1.6459737404546363E-7},3.5388435419774679E-5,null,null,215,{"$f":"1/入力部分!$I$39/(2*3.14)^0.5*EXP(-1/2*(((AB221+入力部分!$I$48)-入力部分!$I$30)/入力部分!$I$39)^2)","v":1.8010497178849196E-38},3.8722568934525773E-36]
[null,null,null,null,null,null,null,null,216,{"$f":"(入力部分!D$7*N222+入力部分!D$8*S222+入力部分!D$9*X222+入力部分!D$10*AC222)/(SUM(入力部分!D$7:D$10))","v":8.6694310662130663E-4},null,null,216,{"$f":"1/入力部分!$I$36/(2*3.14)^0.5*EXP(-1/2*(((M222+入力部分!$I$45)-入力部分!$I$27)/入力部分!$I$36)^2)","v":3.2859877242245243E-3},0.70977334843249729,null,null,216,{"$f":"1/入力部分!$I$37/(2*3.14)^0.5*EXP(-1/2*(((R222+入力部分!$I$46)-入力部分!$I$28)/入力部分!$I$37)^2)","v":1.2164260921612411E-3},0.2627480359068281,null,null,216,{"$f":"1/入力部分!$I$38/(2*3.14)^0.5*EXP(-1/2*(((W222+入力部分!$I$47)-入力部分!$I$29)/入力部分!$I$38)^2)","v":1.3942613110349193E-7},3.0116044318354258E-5,null,null,216,{"$f":"1/入力部分!$I$39/(2*3.14)^0.5*EXP(-1/2*(((AB222+入力部分!$I$48)-入力部分!$I$30)/入力部分!$I$39)^2)","v":6.1137363356580586E-39},1.3205670485021407E-36]
[null,null,null,null,null,null,null,null,217,{"$f":"(入力部分!D$7*N223+入力部分!D$8*S223+入力部分!D$9*X223+入力部分!D$10*AC223)/(SUM(入力部分!D$7:D$10))","v":8.4967158839624718E-4},null,null,217,{"$f":"1/入力部分!$I$36/(2*3.14)^0.5*EXP(-1/2*(((M223+入力部分!$I$45)-入力部分!$I$27)/入力部分!$I$36)^2)","v":3.2646735877039407E-3},0.70843416853175512,null,null,217,{"$f":"1/入力部分!$I$37/(2*3.14)^0.5*EXP(-1/2*(((R223+入力部分!$I$46)-入力部分!$I$28)/入力部分!$I$37)^2)","v":1.177487731872047E-3},0.25551483781623419,null,null,217,{"$f":"1/入力部分!$I$38/(2*3.14)^0.5*EXP(-1/2*(((W223+入力部分!$I$47)-入力部分!$I$29)/入力部分!$I$38)^2)","v":1.1796192494816194E-7},2.5597737713751143E-5,null,null,217,{"$f":"1/入力部分!$I$39/(2*3.14)^0.5*EXP(-1/2*(((AB223+入力部分!$I$48)-入力部分!$I$30)/入力部分!$I$39)^2)","v":2.0609704966486546E-39},4.4723059777275807E-37]
[null,null,null,null,null,null,null,null,218,{"$f":"(入力部分!D$7*N224+入力部分!D$8*S224+入力部分!D$9*X224+入力部分!D$10*AC224)/(SUM(入力部分!D$7:D$10))","v":8.3271538638092545E-4},null,null,218,{"$f":"1/入力部分!$I$36/(2*3.14)^0.5*EXP(-1/2*(((M224+入力部分!$I$45)-入力部分!$I$27)/入力部分!$I$36)^2)","v":3.2431667840848717E-3},0.70701035893050201,null,null,218,{"$f":"1/入力部分!$I$37/(2*3.14)^0.5*EXP(-1/2*(((R224+入力部分!$I$46)-入力部分!$I$28)/入力部分!$I$37)^2)","v":1.1394523144458919E-3},0.24840060454920443,null,null,218,{"$f":"1/入力部分!$I$38/(2*3.14)^0.5*EXP(-1/2*(((W224+入力部分!$I$47)-入力部分!$I$29)/入力部分!$I$38)^2)","v":9.9681812428449036E-8},2.1730635109401888E-5,null,null,218,{"$f":"1/入力部分!$I$39/(2*3.14)^0.5*EXP(-1/2*(((AB224+入力部分!$I$48)-入力部分!$I$30)/入力部分!$I$39)^2)","v":6.8995522912929983E-40},1.5041023995018736E-37]
[null,null,null,null,null,null,null,null,219,{"$f":"(入力部分!D$7*N225+入力部分!D$8*S225+入力部分!D$9*X225+入力部分!D$10*AC225)/(SUM(入力部分!D$7:D$10))","v":8.1607261314802372E-4},null,null,219,{"$f":"1/入力部分!$I$36/(2*3.14)^0.5*EXP(-1/2*(((M225+入力部分!$I$45)-入力部分!$I$27)/入力部分!$I$36)^2)","v":3.221472956623899E-3},0.70550257750063383,null,null,219,{"$f":"1/入力部分!$I$37/(2*3.14)^0.5*EXP(-1/2*(((R225+入力部分!$I$46)-入力部分!$I$28)/入力部分!$I$37)^2)","v":1.102313227516761E-3},0.24140659682617066,null,null,219,{"$f":"1/入力部分!$I$38/(2*3.14)^0.5*EXP(-1/2*(((W225+入力部分!$I$47)-入力部分!$I$29)/入力部分!$I$38)^2)","v":8.413300500395855E-8},1.8425128095866922E-5,null,null,219,{"$f":"1/入力部分!$I$39/(2*3.14)^0.5*EXP(-1/2*(((AB225+入力部分!$I$48)-入力部分!$I$30)/入力部分!$I$39)^2)","v":2.2937924149433369E-40},5.0234053887259081E-38]
[null,null,null,null,null,null,null,null,220,{"$f":"(入力部分!D$7*N226+入力部分!D$8*S226+入力部分!D$9*X226+入力部分!D$10*AC226)/(SUM(入力部分!D$7:D$10))","v":7.9974118057496749E-4},null,null,220,{"$f":"1/入力部分!$I$36/(2*3.14)^0.5*EXP(-1/2*(((M226+入力部分!$I$45)-入力部分!$I$27)/入力部分!$I$36)^2)","v":3.1995977681690312E-3},0.70391150899718691,null,null,220,{"$f":"1/入力部分!$I$37/(2*3.14)^0.5*EXP(-1/2*(((R226+入力部分!$I$46)-入力部分!$I$28)/入力部分!$I$37)^2)","v":1.0660632761375292E-3},0.23453392075025642,null,null,220,{"$f":"1/入力部分!$I$38/(2*3.14)^0.5*EXP(-1/2*(((W226+入力部分!$I$47)-入力部分!$I$29)/入力部分!$I$38)^2)","v":7.092400906071376E-8},1.5603281993357026E-5,null,null,220,{"$f":"1/入力部分!$I$39/(2*3.14)^0.5*EXP(-1/2*(((AB226+入力部分!$I$48)-入力部分!$I$30)/入力部分!$I$39)^2)","v":7.5730596951356728E-41},1.6660731329298479E-38]
[null,null,null,null,null,null,null,null,221,{"$f":"(入力部分!D$7*N227+入力部分!D$8*S227+入力部分!D$9*X227+入力部分!D$10*AC227)/(SUM(入力部分!D$7:D$10))","v":7.837188079029277E-4},null,null,221,{"$f":"1/入力部分!$I$36/(2*3.14)^0.5*EXP(-1/2*(((M227+入力部分!$I$45)-入力部分!$I$27)/入力部分!$I$36)^2)","v":3.177546898725445E-3},0.70223786461832338,null,null,221,{"$f":"1/入力部分!$I$37/(2*3.14)^0.5*EXP(-1/2*(((R227+入力部分!$I$46)-入力部分!$I$28)/入力部分!$I$37)^2)","v":1.0306947102970236E-3},0.22778353097564222,null,null,221,{"$f":"1/入力部分!$I$38/(2*3.14)^0.5*EXP(-1/2*(((W227+入力部分!$I$47)-入力部分!$I$29)/入力部分!$I$38)^2)","v":5.9716803453384792E-8},1.319741356319804E-5,null,null,221,{"$f":"1/入力部分!$I$39/(2*3.14)^0.5*EXP(-1/2*(((AB227+入力部分!$I$48)-入力部分!$I$30)/入力部分!$I$39)^2)","v":2.4829771001735161E-41},5.4873793913834707E-39]
[null,null,null,null,null,null,null,null,222,{"$f":"(入力部分!D$7*N228+入力部分!D$8*S228+入力部分!D$9*X228+入力部分!D$10*AC228)/(SUM(入力部分!D$7:D$10))","v":7.6800302999930313E-4},null,null,222,{"$f":"1/入力部分!$I$36/(2*3.14)^0.5*EXP(-1/2*(((M228+入力部分!$I$45)-入力部分!$I$27)/入力部分!$I$36)^2)","v":3.1553260430289042E-3},0.70048238155241671,null,null,222,{"$f":"1/入力部分!$I$37/(2*3.14)^0.5*EXP(-1/2*(((R228+入力部分!$I$46)-入力部分!$I$28)/入力部分!$I$37)^2)","v":9.9619925235880369E-4},0.22115623402365442,null,null,222,{"$f":"1/入力部分!$I$38/(2*3.14)^0.5*EXP(-1/2*(((W228+入力部分!$I$47)-入力部分!$I$29)/入力部分!$I$38)^2)","v":5.0219944555065208E-8},1.1148827691224477E-5,null,null,222,{"$f":"1/入力部分!$I$39/(2*3.14)^0.5*EXP(-1/2*(((AB228+入力部分!$I$48)-入力部分!$I$30)/入力部分!$I$39)^2)","v":8.0845921258431227E-42},1.7947794519371733E-39]
[null,null,null,null,null,null,null,null,223,{"$f":"(入力部分!D$7*N229+入力部分!D$8*S229+入力部分!D$9*X229+入力部分!D$10*AC229)/(SUM(入力部分!D$7:D$10))","v":7.5259120578160317E-4},null,null,223,{"$f":"1/入力部分!$I$36/(2*3.14)^0.5*EXP(-1/2*(((M229+入力部分!$I$45)-入力部分!$I$27)/入力部分!$I$36)^2)","v":3.1329409081282994E-3},0.69864582251261076,null,null,223,{"$f":"1/入力部分!$I$37/(2*3.14)^0.5*EXP(-1/2*(((R229+入力部分!$I$46)-入力部分!$I$28)/入力部分!$I$37)^2)","v":9.6256812437546372E-4},0.2146526917357284,null,null,223,{"$f":"1/入力部分!$I$38/(2*3.14)^0.5*EXP(-1/2*(((W229+入力部分!$I$47)-入力部分!$I$29)/入力部分!$I$38)^2)","v":4.218249906750751E-8},9.4066972920541745E-6,null,null,223,{"$f":"1/入力部分!$I$39/(2*3.14)^0.5*EXP(-1/2*(((AB229+入力部分!$I$48)-入力部分!$I$30)/入力部分!$I$39)^2)","v":2.6141324038119174E-42},5.8295152605005755E-40]
[null,null,null,null,null,null,null,null,224,{"$f":"(入力部分!D$7*N230+入力部分!D$8*S230+入力部分!D$9*X230+入力部分!D$10*AC230)/(SUM(入力部分!D$7:D$10))","v":7.3748052676362403E-4},null,null,224,{"$f":"1/入力部分!$I$36/(2*3.14)^0.5*EXP(-1/2*(((M230+入力部分!$I$45)-入力部分!$I$27)/入力部分!$I$36)^2)","v":3.1103972109786985E-3},0.6967289752592285,null,null,224,{"$f":"1/入力部分!$I$37/(2*3.14)^0.5*EXP(-1/2*(((R230+入力部分!$I$46)-入力部分!$I$28)/入力部分!$I$37)^2)","v":9.2979207523400775E-4},0.20827342485241773,null,null,224,{"$f":"1/入力部分!$I$38/(2*3.14)^0.5*EXP(-1/2*(((W230+入力部分!$I$47)-入力部分!$I$29)/入力部分!$I$38)^2)","v":3.5388714135039678E-8},7.9270719662488888E-6,null,null,224,{"$f":"1/入力部分!$I$39/(2*3.14)^0.5*EXP(-1/2*(((AB230+入力部分!$I$48)-入力部分!$I$30)/入力部分!$I$39)^2)","v":8.3942347967454587E-43},1.8803085944709828E-40]
[null,null,null,null,null,null,null,null,225,{"$f":"(入力部分!D$7*N231+入力部分!D$8*S231+入力部分!D$9*X231+入力部分!D$10*AC231)/(SUM(入力部分!D$7:D$10))","v":7.2266802568766769E-4},null,null,225,{"$f":"1/入力部分!$I$36/(2*3.14)^0.5*EXP(-1/2*(((M231+入力部分!$I$45)-入力部分!$I$27)/入力部分!$I$36)^2)","v":3.0877006760463249E-3},0.69473265211042312,null,null,225,{"$f":"1/入力部分!$I$37/(2*3.14)^0.5*EXP(-1/2*(((R231+入力部分!$I$46)-入力部分!$I$28)/入力部分!$I$37)^2)","v":8.978614075897198E-4},0.20201881670768695,null,null,225,{"$f":"1/入力部分!$I$38/(2*3.14)^0.5*EXP(-1/2*(((W231+入力部分!$I$47)-入力部分!$I$29)/入力部分!$I$38)^2)","v":2.9653342928990208E-8},6.6720021590227968E-6,null,null,225,{"$f":"1/入力部分!$I$39/(2*3.14)^0.5*EXP(-1/2*(((AB231+入力部分!$I$48)-入力部分!$I$30)/入力部分!$I$39)^2)","v":2.6768171813009605E-43},6.022838657927161E-41]
[null,null,null,null,null,null,null,null,226,{"$f":"(入力部分!D$7*N232+入力部分!D$8*S232+入力部分!D$9*X232+入力部分!D$10*AC232)/(SUM(入力部分!D$7:D$10))","v":7.0815058520923768E-4},null,null,226,{"$f":"1/入力部分!$I$36/(2*3.14)^0.5*EXP(-1/2*(((M232+入力部分!$I$45)-入力部分!$I$27)/入力部分!$I$36)^2)","v":3.0648570329268291E-3},0.69265768944146333,null,null,226,{"$f":"1/入力部分!$I$37/(2*3.14)^0.5*EXP(-1/2*(((R232+入力部分!$I$46)-入力部分!$I$28)/入力部分!$I$37)^2)","v":8.6676600454779361E-4},0.19588911702780135,null,null,226,{"$f":"1/入力部分!$I$38/(2*3.14)^0.5*EXP(-1/2*(((W232+入力部分!$I$47)-入力部分!$I$29)/入力部分!$I$38)^2)","v":2.4817551846170843E-8},5.6087667172346102E-6,null,null,226,{"$f":"1/入力部分!$I$39/(2*3.14)^0.5*EXP(-1/2*(((AB232+入力部分!$I$48)-入力部分!$I$30)/入力部分!$I$39)^2)","v":8.4769647195086855E-44},1.915794026608963E-41]
[null,null,null,null,null,null,null,null,227,{"$f":"(入力部分!D$7*N233+入力部分!D$8*S233+入力部分!D$9*X233+入力部分!D$10*AC233)/(SUM(入力部分!D$7:D$10))","v":6.9392494660319151E-4},null,null,227,{"$f":"1/入力部分!$I$36/(2*3.14)^0.5*EXP(-1/2*(((M233+入力部分!$I$45)-入力部分!$I$27)/入力部分!$I$36)^2)","v":3.0418720139782011E-3},0.69050494717305166,null,null,227,{"$f":"1/入力部分!$I$37/(2*3.14)^0.5*EXP(-1/2*(((R233+入力部分!$I$46)-入力部分!$I$28)/入力部分!$I$37)^2)","v":8.3649535605389799E-4},0.18988444582423483,null,null,227,{"$f":"1/入力部分!$I$38/(2*3.14)^0.5*EXP(-1/2*(((W233+入力部分!$I$47)-入力部分!$I$29)/入力部分!$I$38)^2)","v":2.0745342818605861E-8},4.7091928198235304E-6,null,null,227,{"$f":"1/入力部分!$I$39/(2*3.14)^0.5*EXP(-1/2*(((AB233+入力部分!$I$48)-入力部分!$I$30)/入力部分!$I$39)^2)","v":2.6659138213376206E-44},6.0516243744363989E-42]
[null,null,null,null,null,null,null,null,228,{"$f":"(入力部分!D$7*N234+入力部分!D$8*S234+入力部分!D$9*X234+入力部分!D$10*AC234)/(SUM(入力部分!D$7:D$10))","v":6.7998771846275506E-4},null,null,228,{"$f":"1/入力部分!$I$36/(2*3.14)^0.5*EXP(-1/2*(((M234+入力部分!$I$45)-入力部分!$I$27)/入力部分!$I$36)^2)","v":3.0187513519696874E-3},0.68827530824908878,null,null,228,{"$f":"1/入力部分!$I$37/(2*3.14)^0.5*EXP(-1/2*(((R234+入力部分!$I$46)-入力部分!$I$28)/入力部分!$I$37)^2)","v":8.0703858495679182E-4},0.18400479737014855,null,null,228,{"$f":"1/入力部分!$I$38/(2*3.14)^0.5*EXP(-1/2*(((W234+入力部分!$I$47)-入力部分!$I$29)/入力部分!$I$38)^2)","v":1.7320430989152473E-8},3.9490582655267636E-6,null,null,228,{"$f":"1/入力部分!$I$39/(2*3.14)^0.5*EXP(-1/2*(((AB234+入力部分!$I$48)-入力部分!$I$30)/入力部分!$I$39)^2)","v":8.3259903449731977E-45},1.8983257986538891E-42]
[null,null,null,null,null,null,null,null,229,{"$f":"(入力部分!D$7*N235+入力部分!D$8*S235+入力部分!D$9*X235+入力部分!D$10*AC235)/(SUM(入力部分!D$7:D$10))","v":6.6633538536506299E-4},null,null,229,{"$f":"1/入力部分!$I$36/(2*3.14)^0.5*EXP(-1/2*(((M235+入力部分!$I$45)-入力部分!$I$27)/入力部分!$I$36)^2)","v":2.9955007777479944E-3},0.68596967810429066,null,null,229,{"$f":"1/入力部分!$I$37/(2*3.14)^0.5*EXP(-1/2*(((R235+入力部分!$I$46)-入力部分!$I$28)/入力部分!$I$37)^2)","v":7.783844727080381E-4},0.17825004425014074,null,null,229,{"$f":"1/入力部分!$I$38/(2*3.14)^0.5*EXP(-1/2*(((W235+入力部分!$I$47)-入力部分!$I$29)/入力部分!$I$38)^2)","v":1.4443524198062744E-8},3.3075670413563684E-6,null,null,229,{"$f":"1/入力部分!$I$39/(2*3.14)^0.5*EXP(-1/2*(((AB235+入力部分!$I$48)-入力部分!$I$30)/入力部分!$I$39)^2)","v":2.5823182569982817E-45},5.9135088085260649E-43]
[null,null,null,null,null,null,null,null,230,{"$f":"(入力部分!D$7*N236+入力部分!D$8*S236+入力部分!D$9*X236+入力部分!D$10*AC236)/(SUM(入力部分!D$7:D$10))","v":6.5296431647905338E-4},null,null,230,{"$f":"1/入力部分!$I$36/(2*3.14)^0.5*EXP(-1/2*(((M236+入力部分!$I$45)-入力部分!$I$27)/入力部分!$I$36)^2)","v":2.9721260179220994E-3},0.68358898412208291,null,null,230,{"$f":"1/入力部分!$I$37/(2*3.14)^0.5*EXP(-1/2*(((R236+入力部分!$I$46)-入力部分!$I$28)/入力部分!$I$37)^2)","v":7.5052148466585658E-4},0.17261994147314702,null,null,230,{"$f":"1/入力部分!$I$38/(2*3.14)^0.5*EXP(-1/2*(((W236+入力部分!$I$47)-入力部分!$I$29)/入力部分!$I$38)^2)","v":1.2029956379567473E-8},2.7668899673005187E-6,null,null,230,{"$f":"1/入力部分!$I$39/(2*3.14)^0.5*EXP(-1/2*(((AB236+入力部分!$I$48)-入力部分!$I$30)/入力部分!$I$39)^2)","v":7.9536723180461391E-46},1.829344633150612E-43]
[null,null,null,null,null,null,null,null,231,{"$f":"(入力部分!D$7*N237+入力部分!D$8*S237+入力部分!D$9*X237+入力部分!D$10*AC237)/(SUM(入力部分!D$7:D$10))","v":6.3987077409355896E-4},null,null,231,{"$f":"1/入力部分!$I$36/(2*3.14)^0.5*EXP(-1/2*(((M237+入力部分!$I$45)-入力部分!$I$27)/入力部分!$I$36)^2)","v":2.9486327925679289E-3},0.68113417508319163,null,null,231,{"$f":"1/入力部分!$I$37/(2*3.14)^0.5*EXP(-1/2*(((R237+入力部分!$I$46)-入力部分!$I$28)/入力部分!$I$37)^2)","v":7.2343779497210329E-4},0.16711413063855585,null,null,231,{"$f":"1/入力部分!$I$38/(2*3.14)^0.5*EXP(-1/2*(((W237+入力部分!$I$47)-入力部分!$I$29)/入力部分!$I$38)^2)","v":1.0007632116806887E-8},2.3117630189823909E-6,null,null,231,{"$f":"1/入力部分!$I$39/(2*3.14)^0.5*EXP(-1/2*(((AB237+入力部分!$I$48)-入力部分!$I$30)/入力部分!$I$39)^2)","v":2.4328183874024894E-46},5.6198104748997502E-44]
[null,null,null,null,null,null,null,null,232,{"$f":"(入力部分!D$7*N238+入力部分!D$8*S238+入力部分!D$9*X238+入力部分!D$10*AC238)/(SUM(入力部分!D$7:D$10))","v":6.2705092204535108E-4},null,null,232,{"$f":"1/入力部分!$I$36/(2*3.14)^0.5*EXP(-1/2*(((M238+入力部分!$I$45)-入力部分!$I$27)/入力部分!$I$36)^2)","v":2.9250268129541392E-3},0.67860622060536024,null,null,232,{"$f":"1/入力部分!$I$37/(2*3.14)^0.5*EXP(-1/2*(((R238+入力部分!$I$46)-入力部分!$I$28)/入力部分!$I$37)^2)","v":6.9712131097336998E-4},0.16173214414582182,null,null,232,{"$f":"1/入力部分!$I$38/(2*3.14)^0.5*EXP(-1/2*(((W238+入力部分!$I$47)-入力部分!$I$29)/入力部分!$I$38)^2)","v":8.3152442798601742E-9},1.9291366729275603E-6,null,null,232,{"$f":"1/入力部分!$I$39/(2*3.14)^0.5*EXP(-1/2*(((AB238+入力部分!$I$48)-入力部分!$I$30)/入力部分!$I$39)^2)","v":7.3898521699378288E-47},1.7144457034255763E-44]
[null,null,null,null,null,null,null,null,233,{"$f":"(入力部分!D$7*N239+入力部分!D$8*S239+入力部分!D$9*X239+入力部分!D$10*AC239)/(SUM(入力部分!D$7:D$10))","v":6.1450083402869325E-4},null,null,233,{"$f":"1/入力部分!$I$36/(2*3.14)^0.5*EXP(-1/2*(((M239+入力部分!$I$45)-入力部分!$I$27)/入力部分!$I$36)^2)","v":2.9013137792902499E-3},0.67600611057462823,null,null,233,{"$f":"1/入力部分!$I$37/(2*3.14)^0.5*EXP(-1/2*(((R239+入力部分!$I$46)-入力部分!$I$28)/入力部分!$I$37)^2)","v":6.7155969715916065E-4},0.15647340943808444,null,null,233,{"$f":"1/入力部分!$I$38/(2*3.14)^0.5*EXP(-1/2*(((W239+入力部分!$I$47)-入力部分!$I$29)/入力部分!$I$38)^2)","v":6.9007309071418157E-9},1.6078703013640429E-6,null,null,233,{"$f":"1/入力部分!$I$39/(2*3.14)^0.5*EXP(-1/2*(((AB239+入力部分!$I$48)-入力部分!$I$30)/入力部分!$I$39)^2)","v":2.2291837976907426E-47},5.1939982486194303E-45]
[null,null,null,null,null,null,null,null,234,{"$f":"(入力部分!D$7*N240+入力部分!D$8*S240+入力部分!D$9*X240+入力部分!D$10*AC240)/(SUM(入力部分!D$7:D$10))","v":6.0221650176964583E-4},null,null,234,{"$f":"1/入力部分!$I$36/(2*3.14)^0.5*EXP(-1/2*(((M240+入力部分!$I$45)-入力部分!$I$27)/入力部分!$I$36)^2)","v":2.8774993784982943E-3},0.67333485456860087,null,null,234,{"$f":"1/入力部分!$I$37/(2*3.14)^0.5*EXP(-1/2*(((R240+入力部分!$I$46)-入力部分!$I$28)/入力部分!$I$37)^2)","v":6.4674039859207995E-4},0.1513372532705467,null,null,234,{"$f":"1/入力部分!$I$38/(2*3.14)^0.5*EXP(-1/2*(((W240+入力部分!$I$47)-入力部分!$I$29)/入力部分!$I$38)^2)","v":5.719941316490147E-9},1.3384662680586943E-6,null,null,234,{"$f":"1/入力部分!$I$39/(2*3.14)^0.5*EXP(-1/2*(((AB240+入力部分!$I$48)-入力部分!$I$30)/入力部分!$I$39)^2)","v":6.6779024570079871E-48},1.5626291749398689E-45]
[null,null,null,null,null,null,null,null,235,{"$f":"(入力部分!D$7*N241+入力部分!D$8*S241+入力部分!D$9*X241+入力部分!D$10*AC241)/(SUM(入力部分!D$7:D$10))","v":5.9019384304996364E-4},null,null,235,{"$f":"1/入力部分!$I$36/(2*3.14)^0.5*EXP(-1/2*(((M241+入力部分!$I$45)-入力部分!$I$27)/入力部分!$I$36)^2)","v":2.8535892820091792E-3},0.67059348127215712,null,null,235,{"$f":"1/入力部分!$I$37/(2*3.14)^0.5*EXP(-1/2*(((R241+入力部分!$I$46)-入力部分!$I$28)/入力部分!$I$37)^2)","v":6.2265066380692369E-4},0.14632290599462708,null,null,235,{"$f":"1/入力部分!$I$38/(2*3.14)^0.5*EXP(-1/2*(((W241+入力部分!$I$47)-入力部分!$I$29)/入力部分!$I$38)^2)","v":4.7354848795910751E-9},1.1128389467039026E-6,null,null,235,{"$f":"1/入力部分!$I$39/(2*3.14)^0.5*EXP(-1/2*(((AB241+入力部分!$I$48)-入力部分!$I$30)/入力部分!$I$39)^2)","v":1.9866361343715209E-48},4.6685949157730739E-46]
[null,null,null,null,null,null,null,null,236,{"$f":"(入力部分!D$7*N242+入力部分!D$8*S242+入力部分!D$9*X242+入力部分!D$10*AC242)/(SUM(入力部分!D$7:D$10))","v":5.7842870956692602E-4},null,null,236,{"$f":"1/入力部分!$I$36/(2*3.14)^0.5*EXP(-1/2*(((M242+入力部分!$I$45)-入力部分!$I$27)/入力部分!$I$36)^2)","v":2.8295891435848922E-3},0.66778303788603455,null,null,236,{"$f":"1/入力部分!$I$37/(2*3.14)^0.5*EXP(-1/2*(((R242+入力部分!$I$46)-入力部分!$I$28)/入力部分!$I$37)^2)","v":5.9927756715751079E-4},0.14142950584917255,null,null,236,{"$f":"1/入力部分!$I$38/(2*3.14)^0.5*EXP(-1/2*(((W242+入力部分!$I$47)-入力部分!$I$29)/入力部分!$I$38)^2)","v":3.9157389916633128E-9},9.2411440203254186E-7,null,null,236,{"$f":"1/入力部分!$I$39/(2*3.14)^0.5*EXP(-1/2*(((AB242+入力部分!$I$48)-入力部分!$I$30)/入力部分!$I$39)^2)","v":5.8692236105094002E-49},1.3851367720802184E-46]
[null,null,null,null,null,null,null,null,237,{"$f":"(入力部分!D$7*N243+入力部分!D$8*S243+入力部分!D$9*X243+入力部分!D$10*AC243)/(SUM(入力部分!D$7:D$10))","v":5.6691689461684956E-4},null,null,237,{"$f":"1/入力部分!$I$36/(2*3.14)^0.5*EXP(-1/2*(((M243+入力部分!$I$45)-入力部分!$I$27)/入力部分!$I$36)^2)","v":2.8055045971676616E-3},0.66490458952873577,null,null,237,{"$f":"1/入力部分!$I$37/(2*3.14)^0.5*EXP(-1/2*(((R243+入力部分!$I$46)-入力部分!$I$28)/入力部分!$I$37)^2)","v":5.7660803059201421E-4},0.13665610325030736,null,null,237,{"$f":"1/入力部分!$I$38/(2*3.14)^0.5*EXP(-1/2*(((W243+入力部分!$I$47)-入力部分!$I$29)/入力部分!$I$38)^2)","v":3.2339955461132185E-9},7.6645694442883274E-7,null,null,237,{"$f":"1/入力部分!$I$39/(2*3.14)^0.5*EXP(-1/2*(((AB243+入力部分!$I$48)-入力部分!$I$30)/入力部分!$I$39)^2)","v":1.7219758148848853E-49},4.0810826812771784E-47]
[null,null,null,null,null,null,null,null,238,{"$f":"(入力部分!D$7*N244+入力部分!D$8*S244+入力部分!D$9*X244+入力部分!D$10*AC244)/(SUM(入力部分!D$7:D$10))","v":5.5565414059136498E-4},null,null,238,{"$f":"1/入力部分!$I$36/(2*3.14)^0.5*EXP(-1/2*(((M244+入力部分!$I$45)-入力部分!$I$27)/入力部分!$I$36)^2)","v":2.7813412547571729E-3},0.66195921863220719,null,null,238,{"$f":"1/入力部分!$I$37/(2*3.14)^0.5*EXP(-1/2*(((R244+入力部分!$I$46)-入力部分!$I$28)/入力部分!$I$37)^2)","v":5.5462884483944346E-4},0.13200166507178754,null,null,238,{"$f":"1/入力部分!$I$38/(2*3.14)^0.5*EXP(-1/2*(((W244+入力部分!$I$47)-入力部分!$I$29)/入力部分!$I$38)^2)","v":2.6677277083426227E-9},6.3491919458554415E-7,null,null,238,{"$f":"1/入力部分!$I$39/(2*3.14)^0.5*EXP(-1/2*(((AB244+入力部分!$I$48)-入力部分!$I$30)/入力部分!$I$39)^2)","v":5.017154847941006E-50},1.1940828538099594E-47]
[null,null,null,null,null,null,null,null,239,{"$f":"(入力部分!D$7*N245+入力部分!D$8*S245+入力部分!D$9*X245+入力部分!D$10*AC245)/(SUM(入力部分!D$7:D$10))","v":5.4463614627678792E-4},null,null,239,{"$f":"1/入力部分!$I$36/(2*3.14)^0.5*EXP(-1/2*(((M245+入力部分!$I$45)-入力部分!$I$27)/入力部分!$I$36)^2)","v":2.7571047043168859E-3},0.65894802433173572,null,null,239,{"$f":"1/入力部分!$I$37/(2*3.14)^0.5*EXP(-1/2*(((R245+入力部分!$I$46)-入力部分!$I$28)/入力部分!$I$37)^2)","v":5.3332668999180608E-4},0.12746507890804165,null,null,239,{"$f":"1/入力部分!$I$38/(2*3.14)^0.5*EXP(-1/2*(((W245+入力部分!$I$47)-入力部分!$I$29)/入力部分!$I$38)^2)","v":2.1979609998270457E-9},5.2531267895866396E-7,null,null,239,{"$f":"1/入力部分!$I$39/(2*3.14)^0.5*EXP(-1/2*(((AB245+入力部分!$I$48)-入力部分!$I$30)/入力部分!$I$39)^2)","v":1.4516837951989777E-50},3.4695242705255564E-48]
[null,null,null,null,null,null,null,null,240,{"$f":"(入力部分!D$7*N246+入力部分!D$8*S246+入力部分!D$9*X246+入力部分!D$10*AC246)/(SUM(入力部分!D$7:D$10))","v":5.3385857394809219E-4},null,null,240,{"$f":"1/入力部分!$I$36/(2*3.14)^0.5*EXP(-1/2*(((M246+入力部分!$I$45)-入力部分!$I$27)/入力部分!$I$36)^2)","v":2.7328005077104883E-3},0.65587212185051724,null,null,240,{"$f":"1/入力部分!$I$37/(2*3.14)^0.5*EXP(-1/2*(((R246+入力部分!$I$46)-入力部分!$I$28)/入力部分!$I$37)^2)","v":5.1268815546829825E-4},0.12304515731239157,null,null,240,{"$f":"1/入力部分!$I$38/(2*3.14)^0.5*EXP(-1/2*(((W246+入力部分!$I$47)-入力部分!$I$29)/入力部分!$I$38)^2)","v":1.8087346772431317E-9},4.3409632253835159E-7,null,null,240,{"$f":"1/入力部分!$I$39/(2*3.14)^0.5*EXP(-1/2*(((AB246+入力部分!$I$48)-入力部分!$I$30)/入力部分!$I$39)^2)","v":4.1712922523177105E-51},1.0011101405562504E-48]
[null,null,null,null,null,null,null,null,241,{"$f":"(入力部分!D$7*N247+入力部分!D$8*S247+入力部分!D$9*X247+入力部分!D$10*AC247)/(SUM(入力部分!D$7:D$10))","v":5.2331705625010096E-4},null,null,241,{"$f":"1/入力部分!$I$36/(2*3.14)^0.5*EXP(-1/2*(((M247+入力部分!$I$45)-入力部分!$I$27)/入力部分!$I$36)^2)","v":2.7084341986694798E-3},0.65273264187934465,null,null,241,{"$f":"1/入力部分!$I$37/(2*3.14)^0.5*EXP(-1/2*(((R247+入力部分!$I$46)-入力部分!$I$28)/入力部分!$I$37)^2)","v":4.9269975934967947E-4},0.11874064200327275,null,null,241,{"$f":"1/入力部分!$I$38/(2*3.14)^0.5*EXP(-1/2*(((W247+入力部分!$I$47)-入力部分!$I$29)/入力部分!$I$38)^2)","v":1.4866411445494732E-9},3.5828051583642303E-7,null,null,241,{"$f":"1/入力部分!$I$39/(2*3.14)^0.5*EXP(-1/2*(((AB247+入力部分!$I$48)-入力部分!$I$30)/入力部分!$I$39)^2)","v":1.1902913423565229E-51},2.8686021350792202E-49]
[null,null,null,null,null,null,null,null,242,{"$f":"(入力部分!D$7*N248+入力部分!D$8*S248+入力部分!D$9*X248+入力部分!D$10*AC248)/(SUM(入力部分!D$7:D$10))","v":5.1300720285955663E-4},null,null,242,{"$f":"1/入力部分!$I$36/(2*3.14)^0.5*EXP(-1/2*(((M248+入力部分!$I$45)-入力部分!$I$27)/入力部分!$I$36)^2)","v":2.6840112807928582E-3},0.64953072995187167,null,null,242,{"$f":"1/入力部分!$I$37/(2*3.14)^0.5*EXP(-1/2*(((R248+入力部分!$I$46)-入力部分!$I$28)/入力部分!$I$37)^2)","v":4.7334796707273867E-4},0.11455020803160276,null,null,242,{"$f":"1/入力部分!$I$38/(2*3.14)^0.5*EXP(-1/2*(((W248+入力部分!$I$47)-入力部分!$I$29)/入力部分!$I$38)^2)","v":1.2204326897110642E-9},2.9534471091007754E-7,null,null,242,{"$f":"1/入力部分!$I$39/(2*3.14)^0.5*EXP(-1/2*(((AB248+入力部分!$I$48)-入力部分!$I$30)/入力部分!$I$39)^2)","v":3.3730283918767489E-52},8.1627287083417325E-50]
[null,null,null,null,null,null,null,null,243,{"$f":"(入力部分!D$7*N249+入力部分!D$8*S249+入力部分!D$9*X249+入力部分!D$10*AC249)/(SUM(入力部分!D$7:D$10))","v":5.0292460692271041E-4},null,null,243,{"$f":"1/入力部分!$I$36/(2*3.14)^0.5*EXP(-1/2*(((M249+入力部分!$I$45)-入力部分!$I$27)/入力部分!$I$36)^2)","v":2.6595372255798421E-3},0.64626754581590162,null,null,243,{"$f":"1/入力部分!$I$37/(2*3.14)^0.5*EXP(-1/2*(((R249+入力部分!$I$46)-入力部分!$I$28)/入力部分!$I$37)^2)","v":4.5461920947647248E-4},0.11047246790278281,null,null,243,{"$f":"1/入力部分!$I$38/(2*3.14)^0.5*EXP(-1/2*(((W249+入力部分!$I$47)-入力部分!$I$29)/入力部分!$I$38)^2)","v":1.0006862118754782E-9},2.4316674948574119E-7,null,null,243,{"$f":"1/入力部分!$I$39/(2*3.14)^0.5*EXP(-1/2*(((AB249+入力部分!$I$48)-入力部分!$I$30)/入力部分!$I$39)^2)","v":9.4922853451418489E-53},2.3066253388694692E-50]
[null,null,null,null,null,null,null,null,244,{"$f":"(入力部分!D$7*N250+入力部分!D$8*S250+入力部分!D$9*X250+入力部分!D$10*AC250)/(SUM(入力部分!D$7:D$10))","v":4.9306485126399395E-4},null,null,244,{"$f":"1/入力部分!$I$36/(2*3.14)^0.5*EXP(-1/2*(((M250+入力部分!$I$45)-入力部分!$I$27)/入力部分!$I$36)^2)","v":2.6350174704965279E-3},0.6429442628011528,null,null,244,{"$f":"1/入力部分!$I$37/(2*3.14)^0.5*EXP(-1/2*(((R250+入力部分!$I$46)-入力部分!$I$28)/入力部分!$I$37)^2)","v":4.3649990019326316E-4},0.10650597564715621,null,null,244,{"$f":"1/入力部分!$I$38/(2*3.14)^0.5*EXP(-1/2*(((W250+入力部分!$I$47)-入力部分!$I$29)/入力部分!$I$38)^2)","v":8.1951781743265615E-10},1.9996234745356811E-7,null,null,244,{"$f":"1/入力部分!$I$39/(2*3.14)^0.5*EXP(-1/2*(((AB250+入力部分!$I$48)-入力部分!$I$30)/入力部分!$I$39)^2)","v":2.6528069044449274E-53},6.4728488468456226E-51]
[null,null,null,null,null,null,null,null,245,{"$f":"(入力部分!D$7*N251+入力部分!D$8*S251+入力部分!D$9*X251+入力部分!D$10*AC251)/(SUM(入力部分!D$7:D$10))","v":4.8342351436221273E-4},null,null,245,{"$f":"1/入力部分!$I$36/(2*3.14)^0.5*EXP(-1/2*(((M251+入力部分!$I$45)-入力部分!$I$27)/入力部分!$I$36)^2)","v":2.6104574170773688E-3},0.63956206718395536,null,null,245,{"$f":"1/入力部分!$I$37/(2*3.14)^0.5*EXP(-1/2*(((R251+入力部分!$I$46)-入力部分!$I$28)/入力部分!$I$37)^2)","v":4.1897645237995684E-4},0.10264923083308942,null,null,245,{"$f":"1/入力部分!$I$38/(2*3.14)^0.5*EXP(-1/2*(((W251+入力部分!$I$47)-入力部分!$I$29)/入力部分!$I$38)^2)","v":6.7034023124618055E-10},1.6423335665531425E-7,null,null,245,{"$f":"1/入力部分!$I$39/(2*3.14)^0.5*EXP(-1/2*(((AB251+入力部分!$I$48)-入力部分!$I$30)/入力部分!$I$39)^2)","v":7.3624873152859362E-54},1.8038093922450543E-51]
[null,null,null,null,null,null,null,null,246,{"$f":"(入力部分!D$7*N252+入力部分!D$8*S252+入力部分!D$9*X252+入力部分!D$10*AC252)/(SUM(入力部分!D$7:D$10))","v":4.7399617609150669E-4},null,null,246,{"$f":"1/入力部分!$I$36/(2*3.14)^0.5*EXP(-1/2*(((M252+入力部分!$I$45)-入力部分!$I$27)/入力部分!$I$36)^2)","v":2.5858624290622943E-3},0.63612215754932444,null,null,246,{"$f":"1/入力部分!$I$37/(2*3.14)^0.5*EXP(-1/2*(((R252+入力部分!$I$46)-入力部分!$I$28)/入力部分!$I$37)^2)","v":4.020352947853144E-4},9.8900682517187338E-2,null,null,246,{"$f":"1/入力部分!$I$38/(2*3.14)^0.5*EXP(-1/2*(((W252+入力部分!$I$47)-入力部分!$I$29)/入力部分!$I$38)^2)","v":5.4765690776209381E-10},1.3472359930947506E-7,null,null,246,{"$f":"1/入力部分!$I$39/(2*3.14)^0.5*EXP(-1/2*(((AB252+入力部分!$I$48)-入力部分!$I$30)/入力部分!$I$39)^2)","v":2.0292125798299169E-54},4.9918629463815952E-52]
[null,null,null,null,null,null,null,null,247,{"$f":"(入力部分!D$7*N253+入力部分!D$8*S253+入力部分!D$9*X253+入力部分!D$10*AC253)/(SUM(入力部分!D$7:D$10))","v":4.6477842322510427E-4},null,null,247,{"$f":"1/入力部分!$I$36/(2*3.14)^0.5*EXP(-1/2*(((M253+入力部分!$I$45)-入力部分!$I$27)/入力部分!$I$36)^2)","v":2.5612378305702979E-3},0.63262574415086359,null,null,247,{"$f":"1/入力部分!$I$37/(2*3.14)^0.5*EXP(-1/2*(((R253+入力部分!$I$46)-入力部分!$I$28)/入力部分!$I$37)^2)","v":3.8566288715181235E-4},9.5258733126497644E-2,null,null,247,{"$f":"1/入力部分!$I$38/(2*3.14)^0.5*EXP(-1/2*(((W253+入力部分!$I$47)-入力部分!$I$29)/入力部分!$I$38)^2)","v":4.4688754968388532E-10},1.1038122477191967E-7,null,null,247,{"$f":"1/入力部分!$I$39/(2*3.14)^0.5*EXP(-1/2*(((AB253+入力部分!$I$48)-入力部分!$I$30)/入力部分!$I$39)^2)","v":5.5541115574303939E-55},1.3718655546853073E-52]
[null,null,null,null,null,null,null,null,248,{"$f":"(入力部分!D$7*N254+入力部分!D$8*S254+入力部分!D$9*X254+入力部分!D$10*AC254)/(SUM(入力部分!D$7:D$10))","v":4.5576585470060875E-4},null,null,248,{"$f":"1/入力部分!$I$36/(2*3.14)^0.5*EXP(-1/2*(((M254+入力部分!$I$45)-入力部分!$I$27)/入力部分!$I$36)^2)","v":2.5365889043102484E-3},0.62907404826894164,null,null,248,{"$f":"1/入力部分!$I$37/(2*3.14)^0.5*EXP(-1/2*(((R254+入力部分!$I$46)-入力部分!$I$28)/入力部分!$I$37)^2)","v":3.6984573495123262E-4},9.1721742267905693E-2,null,null,248,{"$f":"1/入力部分!$I$38/(2*3.14)^0.5*EXP(-1/2*(((W254+入力部分!$I$47)-入力部分!$I$29)/入力部分!$I$38)^2)","v":3.6422046219184084E-10},9.0326674623576531E-8,null,null,248,{"$f":"1/入力部分!$I$39/(2*3.14)^0.5*EXP(-1/2*(((AB254+入力部分!$I$48)-入力部分!$I$30)/入力部分!$I$39)^2)","v":1.509682835056187E-55},3.744013430939344E-53]
[null,null,null,null,null,null,null,null,249,{"$f":"(入力部分!D$7*N255+入力部分!D$8*S255+入力部分!D$9*X255+入力部分!D$10*AC255)/(SUM(入力部分!D$7:D$10))","v":4.4695408664623929E-4},null,null,249,{"$f":"1/入力部分!$I$36/(2*3.14)^0.5*EXP(-1/2*(((M255+入力部分!$I$45)-入力部分!$I$27)/入力部分!$I$36)^2)","v":2.5119208898296739E-3},0.62546830156758881,null,null,249,{"$f":"1/入力部分!$I$37/(2*3.14)^0.5*EXP(-1/2*(((R255+入力部分!$I$46)-入力部分!$I$28)/入力部分!$I$37)^2)","v":3.5457040345488031E-4},8.8288030460265191E-2,null,null,249,{"$f":"1/入力部分!$I$38/(2*3.14)^0.5*EXP(-1/2*(((W255+入力部分!$I$47)-入力部分!$I$29)/入力部分!$I$38)^2)","v":2.9648779983904213E-10},7.3825462159921484E-8,null,null,249,{"$f":"1/入力部分!$I$39/(2*3.14)^0.5*EXP(-1/2*(((AB255+入力部分!$I$48)-入力部分!$I$30)/入力部分!$I$39)^2)","v":4.0751246917057394E-56},1.0147060482347291E-53]
[null,null,null,null,null,null,null,null,250,{"$f":"(入力部分!D$7*N256+入力部分!D$8*S256+入力部分!D$9*X256+入力部分!D$10*AC256)/(SUM(入力部分!D$7:D$10))","v":4.3833875716808065E-4},null,null,250,{"$f":"1/入力部分!$I$36/(2*3.14)^0.5*EXP(-1/2*(((M256+入力部分!$I$45)-入力部分!$I$27)/入力部分!$I$36)^2)","v":2.4872389818022234E-3},0.6218097454505559,null,null,250,{"$f":"1/入力部分!$I$37/(2*3.14)^0.5*EXP(-1/2*(((R256+入力部分!$I$46)-入力部分!$I$28)/入力部分!$I$37)^2)","v":3.398235311405995E-4},8.4955882785149872E-2,null,null,250,{"$f":"1/入力部分!$I$38/(2*3.14)^0.5*EXP(-1/2*(((W256+入力部分!$I$47)-入力部分!$I$29)/入力部分!$I$38)^2)","v":2.4106031172440489E-10},6.0265077931101224E-8,null,null,250,{"$f":"1/入力部分!$I$39/(2*3.14)^0.5*EXP(-1/2*(((AB256+入力部分!$I$48)-入力部分!$I$30)/入力部分!$I$39)^2)","v":1.0923961296566696E-56},2.730990324141674E-54]
[null,null,null,null,null,null,null,null,251,{"$f":"(入力部分!D$7*N257+入力部分!D$8*S257+入力部分!D$9*X257+入力部分!D$10*AC257)/(SUM(入力部分!D$7:D$10))","v":4.2991553089899534E-4},null,null,251,{"$f":"1/入力部分!$I$36/(2*3.14)^0.5*EXP(-1/2*(((M257+入力部分!$I$45)-入力部分!$I$27)/入力部分!$I$36)^2)","v":2.4625483283544718E-3},0.61809963041697247,null,null,251,{"$f":"1/入力部分!$I$37/(2*3.14)^0.5*EXP(-1/2*(((R257+入力部分!$I$46)-入力部分!$I$28)/入力部分!$I$37)^2)","v":3.2559184244005182E-4},8.172355245245301E-2,null,null,251,{"$f":"1/入力部分!$I$38/(2*3.14)^0.5*EXP(-1/2*(((W257+入力部分!$I$47)-入力部分!$I$29)/入力部分!$I$38)^2)","v":1.957586677426612E-10},4.9135425603407964E-8,null,null,251,{"$f":"1/入力部分!$I$39/(2*3.14)^0.5*EXP(-1/2*(((AB257+入力部分!$I$48)-入力部分!$I$30)/入力部分!$I$39)^2)","v":2.9080607160069776E-57},7.299232397177513E-55]
[null,null,null,null,null,null,null,null,252,{"$f":"(入力部分!D$7*N258+入力部分!D$8*S258+入力部分!D$9*X258+入力部分!D$10*AC258)/(SUM(入力部分!D$7:D$10))","v":4.216801033104043E-4},null,null,252,{"$f":"1/入力部分!$I$36/(2*3.14)^0.5*EXP(-1/2*(((M258+入力部分!$I$45)-入力部分!$I$27)/入力部分!$I$36)^2)","v":2.4378540294327082E-3},0.61433921541704251,null,null,252,{"$f":"1/入力部分!$I$37/(2*3.14)^0.5*EXP(-1/2*(((R258+入力部分!$I$46)-入力部分!$I$28)/入力部分!$I$37)^2)","v":3.1186215983093347E-4},7.8589264277395238E-2,null,null,252,{"$f":"1/入力部分!$I$38/(2*3.14)^0.5*EXP(-1/2*(((W258+入力部分!$I$47)-入力部分!$I$29)/入力部分!$I$38)^2)","v":1.5877886310441642E-10},4.0012273502312937E-8,null,null,252,{"$f":"1/入力部分!$I$39/(2*3.14)^0.5*EXP(-1/2*(((AB258+入力部分!$I$48)-入力部分!$I$30)/入力部分!$I$39)^2)","v":7.6879553564495331E-58},1.9373647498252824E-55]
[null,null,null,null,null,null,null,null,253,{"$f":"(入力部分!D$7*N259+入力部分!D$8*S259+入力部分!D$9*X259+入力部分!D$10*AC259)/(SUM(入力部分!D$7:D$10))","v":4.1362820478866582E-4},null,null,253,{"$f":"1/入力部分!$I$36/(2*3.14)^0.5*EXP(-1/2*(((M259+入力部分!$I$45)-入力部分!$I$27)/入力部分!$I$36)^2)","v":2.41316113521031E-3},0.6105297672082084,null,null,253,{"$f":"1/入力部分!$I$37/(2*3.14)^0.5*EXP(-1/2*(((R259+入力部分!$I$46)-入力部分!$I$28)/入力部分!$I$37)^2)","v":2.9862141527996737E-4},7.5551218065831746E-2,null,null,253,{"$f":"1/入力部分!$I$38/(2*3.14)^0.5*EXP(-1/2*(((W259+入力部分!$I$47)-入力部分!$I$29)/入力部分!$I$38)^2)","v":1.2862955748804692E-10},3.2543278044475872E-8,null,null,253,{"$f":"1/入力部分!$I$39/(2*3.14)^0.5*EXP(-1/2*(((AB259+入力部分!$I$48)-入力部分!$I$30)/入力部分!$I$39)^2)","v":2.0183770615832921E-58},5.1064939658057292E-56]
[null,null,null,null,null,null,null,null,254,{"$f":"(入力部分!D$7*N260+入力部分!D$8*S260+入力部分!D$9*X260+入力部分!D$10*AC260)/(SUM(入力部分!D$7:D$10))","v":4.0575560447826556E-4},null,null,254,{"$f":"1/入力部分!$I$36/(2*3.14)^0.5*EXP(-1/2*(((M260+入力部分!$I$45)-入力部分!$I$27)/入力部分!$I$36)^2)","v":2.3884746445362736E-3},0.60667255971221346,null,null,254,{"$f":"1/入力部分!$I$37/(2*3.14)^0.5*EXP(-1/2*(((R260+入力部分!$I$46)-入力部分!$I$28)/入力部分!$I$37)^2)","v":2.8585666104360632E-4},7.2607591905075999E-2,null,null,254,{"$f":"1/入力部分!$I$38/(2*3.14)^0.5*EXP(-1/2*(((W260+入力部分!$I$47)-入力部分!$I$29)/入力部分!$I$38)^2)","v":1.0407951590285456E-10},2.6436197039325059E-8,null,null,254,{"$f":"1/入力部分!$I$39/(2*3.14)^0.5*EXP(-1/2*(((AB260+入力部分!$I$48)-入力部分!$I$30)/入力部分!$I$39)^2)","v":5.2623268247970008E-59},1.3366310134984381E-56]
[null,null,null,null,null,null,null,null,255,{"$f":"(入力部分!D$7*N261+入力部分!D$8*S261+入力部分!D$9*X261+入力部分!D$10*AC261)/(SUM(入力部分!D$7:D$10))","v":3.9805811389447899E-4},null,null,255,{"$f":"1/入力部分!$I$36/(2*3.14)^0.5*EXP(-1/2*(((M261+入力部分!$I$45)-入力部分!$I$27)/入力部分!$I$36)^2)","v":2.3637995034254166E-3},0.60276887337348117,null,null,255,{"$f":"1/入力部分!$I$37/(2*3.14)^0.5*EXP(-1/2*(((R261+入力部分!$I$46)-入力部分!$I$28)/入力部分!$I$37)^2)","v":2.7355507983441418E-4},6.9756545357775618E-2,null,null,255,{"$f":"1/入力部分!$I$38/(2*3.14)^0.5*EXP(-1/2*(((W261+入力部分!$I$47)-入力部分!$I$29)/入力部分!$I$38)^2)","v":8.4113586644573225E-11},2.1448964594366173E-8,null,null,255,{"$f":"1/入力部分!$I$39/(2*3.14)^0.5*EXP(-1/2*(((AB261+入力部分!$I$48)-入力部分!$I$30)/入力部分!$I$39)^2)","v":1.3625027842849709E-59},3.4743820999266756E-57]
[null,null,null,null,null,null,null,null,256,{"$f":"(入力部分!D$7*N262+入力部分!D$8*S262+入力部分!D$9*X262+入力部分!D$10*AC262)/(SUM(入力部分!D$7:D$10))","v":3.9053159030859373E-4},null,null,256,{"$f":"1/入力部分!$I$36/(2*3.14)^0.5*EXP(-1/2*(((M262+入力部分!$I$45)-入力部分!$I$27)/入力部分!$I$36)^2)","v":2.3391406035907793E-3},0.59881999451923951,null,null,256,{"$f":"1/入力部分!$I$37/(2*3.14)^0.5*EXP(-1/2*(((R262+入力部分!$I$46)-入力部分!$I$28)/入力部分!$I$37)^2)","v":2.6170399436206823E-4},6.6996222556689466E-2,null,null,256,{"$f":"1/入力部分!$I$38/(2*3.14)^0.5*EXP(-1/2*(((W262+入力部分!$I$47)-入力部分!$I$29)/入力部分!$I$38)^2)","v":6.789588297272478E-11},1.7381346041017544E-8,null,null,256,{"$f":"1/入力部分!$I$39/(2*3.14)^0.5*EXP(-1/2*(((AB262+入力部分!$I$48)-入力部分!$I$30)/入力部分!$I$39)^2)","v":3.5033299820250858E-60},8.9685247539842197E-58]
[null,null,null,null,null,null,null,null,257,{"$f":"(入力部分!D$7*N263+入力部分!D$8*S263+入力部分!D$9*X263+入力部分!D$10*AC263)/(SUM(入力部分!D$7:D$10))","v":3.8317193990915151E-4},null,null,257,{"$f":"1/入力部分!$I$36/(2*3.14)^0.5*EXP(-1/2*(((M263+入力部分!$I$45)-入力部分!$I$27)/入力部分!$I$36)^2)","v":2.3145027810186551E-3},0.59482721472179434,null,null,257,{"$f":"1/入力部分!$I$37/(2*3.14)^0.5*EXP(-1/2*(((R263+入力部分!$I$46)-入力部分!$I$28)/入力部分!$I$37)^2)","v":2.5029087625882957E-4},6.4324755198519198E-2,null,null,257,{"$f":"1/入力部分!$I$38/(2*3.14)^0.5*EXP(-1/2*(((W263+入力部分!$I$47)-入力部分!$I$29)/入力部分!$I$38)^2)","v":5.4739034087201168E-11},1.40679317604107E-8,null,null,257,{"$f":"1/入力部分!$I$39/(2*3.14)^0.5*EXP(-1/2*(((AB263+入力部分!$I$48)-入力部分!$I$30)/入力部分!$I$39)^2)","v":8.9455852615060974E-61},{"$f":"AB263*$AC263","v":2.2990154122070671E-58}]
[null,null,null,null,null,null,null,null,258,{"$f":"(入力部分!D$7*N264+入力部分!D$8*S264+入力部分!D$9*X264+入力部分!D$10*AC264)/(SUM(入力部分!D$7:D$10))","v":3.7597512074304319E-4},null,null,258,{"$f":"1/入力部分!$I$36/(2*3.14)^0.5*EXP(-1/2*(((M264+入力部分!$I$45)-入力部分!$I$27)/入力部分!$I$36)^2)","v":2.2898908145867016E-3},{"$f":"M264*$N264","v":0.590791830163369},null,null,258,{"$f":"1/入力部分!$I$37/(2*3.14)^0.5*EXP(-1/2*(((R264+入力部分!$I$46)-入力部分!$I$28)/入力部分!$I$37)^2)","v":2.3930335440018662E-4},{"$f":"R264*$S264","v":6.1740265435248146E-2},null,null,258,{"$f":"1/入力部分!$I$38/(2*3.14)^0.5*EXP(-1/2*(((W264+入力部分!$I$47)-入力部分!$I$29)/入力部分!$I$38)^2)","v":4.4078541830430698E-11},{"$f":"W264*$X264","v":1.137226379225112E-8},null,null,258,{"$f":"1/入力部分!$I$39/(2*3.14)^0.5*EXP(-1/2*(((AB264+入力部分!$I$48)-入力部分!$I$30)/入力部分!$I$39)^2)","v":2.2684047029170166E-61},5.8524841335259031E-59]
[null,null,null,null,null,null,null,null,259,{"$f":"(入力部分!D$7*N265+入力部分!D$8*S265+入力部分!D$9*X265+入力部分!D$10*AC265)/(SUM(入力部分!D$7:D$10))","v":3.6893714544060076E-4},null,null,259,{"$f":"1/入力部分!$I$36/(2*3.14)^0.5*EXP(-1/2*(((M265+入力部分!$I$45)-入力部分!$I$27)/入力部分!$I$36)^2)","v":2.265309424725507E-3},0.58671514100390632,null,null,259,{"$f":"1/入力部分!$I$37/(2*3.14)^0.5*EXP(-1/2*(((R265+入力部分!$I$46)-入力部分!$I$28)/入力部分!$I$37)^2)","v":2.287292226321491E-4},5.9240868661726613E-2,null,null,259,{"$f":"1/入力部分!$I$38/(2*3.14)^0.5*EXP(-1/2*(((W265+入力部分!$I$47)-入力部分!$I$29)/入力部分!$I$38)^2)","v":3.5451425996634299E-11},9.1819193331282839E-9,null,null,259,{"$f":"1/入力部分!$I$39/(2*3.14)^0.5*EXP(-1/2*(((AB265+入力部分!$I$48)-入力部分!$I$30)/入力部分!$I$39)^2)","v":5.7123707240601265E-62},1.4795040175315728E-59]
[null,null,null,null,null,null,null,null,260,{"$f":"(入力部分!D$7*N266+入力部分!D$8*S266+入力部分!D$9*X266+入力部分!D$10*AC266)/(SUM(入力部分!D$7:D$10))","v":3.6205408372914243E-4},null,null,260,{"$f":"1/入力部分!$I$36/(2*3.14)^0.5*EXP(-1/2*(((M266+入力部分!$I$45)-入力部分!$I$27)/入力部分!$I$36)^2)","v":2.2407632721239876E-3},0.58259845075223682,null,null,260,{"$f":"1/入力部分!$I$37/(2*3.14)^0.5*EXP(-1/2*(((R266+入力部分!$I$46)-入力部分!$I$28)/入力部分!$I$37)^2)","v":2.1855644691740628E-4},5.6824676198525631E-2,null,null,260,{"$f":"1/入力部分!$I$38/(2*3.14)^0.5*EXP(-1/2*(((W266+入力部分!$I$47)-入力部分!$I$29)/入力部分!$I$38)^2)","v":2.8478466450329929E-11},7.4044012770857812E-9,null,null,260,{"$f":"1/入力部分!$I$39/(2*3.14)^0.5*EXP(-1/2*(((AB266+入力部分!$I$48)-入力部分!$I$30)/入力部分!$I$39)^2)","v":1.4285527993240051E-62},3.714237278242413E-60]
[null,null,null,null,null,null,null,null,261,{"$f":"(入力部分!D$7*N267+入力部分!D$8*S267+入力部分!D$9*X267+入力部分!D$10*AC267)/(SUM(入力部分!D$7:D$10))","v":3.553220647396875E-4},null,null,261,{"$f":"1/入力部分!$I$36/(2*3.14)^0.5*EXP(-1/2*(((M267+入力部分!$I$45)-入力部分!$I$27)/入力部分!$I$36)^2)","v":2.2162569564789176E-3},0.57844306564099746,null,null,261,{"$f":"1/入力部分!$I$37/(2*3.14)^0.5*EXP(-1/2*(((R267+入力部分!$I$46)-入力部分!$I$28)/入力部分!$I$37)^2)","v":2.0877317191322271E-4},5.4489797869351125E-2,null,null,261,{"$f":"1/入力部分!$I$38/(2*3.14)^0.5*EXP(-1/2*(((W267+入力部分!$I$47)-入力部分!$I$29)/入力部分!$I$38)^2)","v":2.2849457302785163E-11},5.9637083560269275E-9,null,null,261,{"$f":"1/入力部分!$I$39/(2*3.14)^0.5*EXP(-1/2*(((AB267+入力部分!$I$48)-入力部分!$I$30)/入力部分!$I$39)^2)","v":3.5478093542667999E-63},9.2597824146363476E-61]
[null,null,null,null,null,null,null,null,262,{"$f":"(入力部分!D$7*N268+入力部分!D$8*S268+入力部分!D$9*X268+入力部分!D$10*AC268)/(SUM(入力部分!D$7:D$10))","v":3.4873727911181304E-4},null,null,262,{"$f":"1/入力部分!$I$36/(2*3.14)^0.5*EXP(-1/2*(((M268+入力部分!$I$45)-入力部分!$I$27)/入力部分!$I$36)^2)","v":2.1917950152888937E-3},0.57425029400569017,null,null,262,{"$f":"1/入力部分!$I$37/(2*3.14)^0.5*EXP(-1/2*(((R268+入力部分!$I$46)-入力部分!$I$28)/入力部分!$I$37)^2)","v":1.9936772699455041E-4},5.2234344472572206E-2,null,null,262,{"$f":"1/入力部分!$I$38/(2*3.14)^0.5*EXP(-1/2*(((W268+入力部分!$I$47)-入力部分!$I$29)/入力部分!$I$38)^2)","v":1.8310979671941183E-11},4.7974766740485901E-9,null,null,262,{"$f":"1/入力部分!$I$39/(2*3.14)^0.5*EXP(-1/2*(((AB268+入力部分!$I$48)-入力部分!$I$30)/入力部分!$I$39)^2)","v":8.7500053481884227E-64},2.2925014012253667E-61]
[null,null,null,null,null,null,null,null,263,{"$f":"(入力部分!D$7*N269+入力部分!D$8*S269+入力部分!D$9*X269+入力部分!D$10*AC269)/(SUM(入力部分!D$7:D$10))","v":3.422959809018354E-4},null,null,263,{"$f":"1/入力部分!$I$36/(2*3.14)^0.5*EXP(-1/2*(((M269+入力部分!$I$45)-入力部分!$I$27)/入力部分!$I$36)^2)","v":2.1673819226929836E-3},0.57002144566825463,null,null,263,{"$f":"1/入力部分!$I$37/(2*3.14)^0.5*EXP(-1/2*(((R269+入力部分!$I$46)-入力部分!$I$28)/入力部分!$I$37)^2)","v":1.9032863173638163E-4},5.0056430146668371E-2,null,null,263,{"$f":"1/入力部分!$I$38/(2*3.14)^0.5*EXP(-1/2*(((W269+入力部分!$I$47)-入力部分!$I$29)/入力部分!$I$38)^2)","v":1.4656277246157512E-11},3.8546009157394254E-9,null,null,263,{"$f":"1/入力部分!$I$39/(2*3.14)^0.5*EXP(-1/2*(((AB269+入力部分!$I$48)-入力部分!$I$30)/入力部分!$I$39)^2)","v":2.1430900926361568E-64},5.6363269436330925E-62]
[null,null,null,null,null,null,null,null,264,{"$f":"(入力部分!D$7*N270+入力部分!D$8*S270+入力部分!D$9*X270+入力部分!D$10*AC270)/(SUM(入力部分!D$7:D$10))","v":3.3599448929970296E-4},null,null,264,{"$f":"1/入力部分!$I$36/(2*3.14)^0.5*EXP(-1/2*(((M270+入力部分!$I$45)-入力部分!$I$27)/入力部分!$I$36)^2)","v":2.1430220883542771E-3},0.56575783132552915,null,null,264,{"$f":"1/入力部分!$I$37/(2*3.14)^0.5*EXP(-1/2*(((R270+入力部分!$I$46)-入力部分!$I$28)/入力部分!$I$37)^2)","v":1.8164460086985903E-4},4.7954174629642785E-2,null,null,264,{"$f":"1/入力部分!$I$38/(2*3.14)^0.5*EXP(-1/2*(((W270+入力部分!$I$47)-入力部分!$I$29)/入力部分!$I$38)^2)","v":1.1716884891702352E-11},3.0932576114094207E-9,null,null,264,{"$f":"1/入力部分!$I$39/(2*3.14)^0.5*EXP(-1/2*(((AB270+入力部分!$I$48)-入力部分!$I$30)/入力部分!$I$39)^2)","v":5.2126264667108917E-65},1.3761333872116754E-62]
[null,null,null,null,null,null,null,null,265,{"$f":"(入力部分!D$7*N271+入力部分!D$8*S271+入力部分!D$9*X271+入力部分!D$10*AC271)/(SUM(入力部分!D$7:D$10))","v":3.2982919016015213E-4},null,null,265,{"$f":"1/入力部分!$I$36/(2*3.14)^0.5*EXP(-1/2*(((M271+入力部分!$I$45)-入力部分!$I$27)/入力部分!$I$36)^2)","v":2.118719856388515E-3},0.56146076194295647,null,null,265,{"$f":"1/入力部分!$I$37/(2*3.14)^0.5*EXP(-1/2*(((R271+入力部分!$I$46)-入力部分!$I$28)/入力部分!$I$37)^2)","v":1.7330454872708958E-4},4.5925705412678743E-2,null,null,265,{"$f":"1/入力部分!$I$38/(2*3.14)^0.5*EXP(-1/2*(((W271+入力部分!$I$47)-入力部分!$I$29)/入力部分!$I$38)^2)","v":9.3557165464625279E-12},2.4792648848125697E-9,null,null,265,{"$f":"1/入力部分!$I$39/(2*3.14)^0.5*EXP(-1/2*(((AB271+入力部分!$I$48)-入力部分!$I$30)/入力部分!$I$39)^2)","v":1.2590902099807888E-65},3.3365890564490901E-63]
[null,null,null,null,null,null,null,null,266,{"$f":"(入力部分!D$7*N272+入力部分!D$8*S272+入力部分!D$9*X272+入力部分!D$10*AC272)/(SUM(入力部分!D$7:D$10))","v":3.2379653735383233E-4},null,null,266,{"$f":"1/入力部分!$I$36/(2*3.14)^0.5*EXP(-1/2*(((M272+入力部分!$I$45)-入力部分!$I$27)/入力部分!$I$36)^2)","v":2.0944795043379631E-3},0.5571315481538982,null,null,266,{"$f":"1/入力部分!$I$37/(2*3.14)^0.5*EXP(-1/2*(((R272+入力部分!$I$46)-入力部分!$I$28)/入力部分!$I$37)^2)","v":1.6529759318998776E-4},4.3969159788536744E-2,null,null,266,{"$f":"1/入力部分!$I$38/(2*3.14)^0.5*EXP(-1/2*(((W272+入力部分!$I$47)-入力部分!$I$29)/入力部分!$I$38)^2)","v":7.4613660667919323E-12},1.9847233737666538E-9,null,null,266,{"$f":"1/入力部分!$I$39/(2*3.14)^0.5*EXP(-1/2*(((AB272+入力部分!$I$48)-入力部分!$I$30)/入力部分!$I$39)^2)","v":3.0202379168269695E-66},8.033832858759739E-64]
[null,null,null,null,null,null,null,null,267,{"$f":"(入力部分!D$7*N273+入力部分!D$8*S273+入力部分!D$9*X273+入力部分!D$10*AC273)/(SUM(入力部分!D$7:D$10))","v":3.1789305394423349E-4},null,null,267,{"$f":"1/入力部分!$I$36/(2*3.14)^0.5*EXP(-1/2*(((M273+入力部分!$I$45)-入力部分!$I$27)/入力部分!$I$36)^2)","v":2.0703052421906327E-3},0.55277149966489891,null,null,267,{"$f":"1/入力部分!$I$37/(2*3.14)^0.5*EXP(-1/2*(((R273+入力部分!$I$46)-入力部分!$I$28)/入力部分!$I$37)^2)","v":1.5761305915880188E-4},4.2082686795400101E-2,null,null,267,{"$f":"1/入力部分!$I$38/(2*3.14)^0.5*EXP(-1/2*(((W273+入力部分!$I$47)-入力部分!$I$29)/入力部分!$I$38)^2)","v":5.9434147867253534E-12},1.5868917480556694E-9,null,null,267,{"$f":"1/入力部分!$I$39/(2*3.14)^0.5*EXP(-1/2*(((AB273+入力部分!$I$48)-入力部分!$I$30)/入力部分!$I$39)^2)","v":7.1946476551697858E-67},1.9209709239303327E-64]
[null,null,null,null,null,null,null,null,268,{"$f":"(入力部分!D$7*N274+入力部分!D$8*S274+入力部分!D$9*X274+入力部分!D$10*AC274)/(SUM(入力部分!D$7:D$10))","v":3.121153331963522E-4},null,null,268,{"$f":"1/入力部分!$I$36/(2*3.14)^0.5*EXP(-1/2*(((M274+入力部分!$I$45)-入力部分!$I$27)/入力部分!$I$36)^2)","v":2.0462012114449363E-3},0.54838192466724289,null,null,268,{"$f":"1/入力部分!$I$37/(2*3.14)^0.5*EXP(-1/2*(((R274+入力部分!$I$46)-入力部分!$I$28)/入力部分!$I$37)^2)","v":1.5024048155624486E-4},4.0264449057073624E-2,null,null,268,{"$f":"1/入力部分!$I$38/(2*3.14)^0.5*EXP(-1/2*(((W274+入力部分!$I$47)-入力部分!$I$29)/入力部分!$I$38)^2)","v":4.7285733855424741E-12},1.267257667325383E-9,null,null,268,{"$f":"1/入力部分!$I$39/(2*3.14)^0.5*EXP(-1/2*(((AB274+入力部分!$I$48)-入力部分!$I$30)/入力部分!$I$39)^2)","v":1.7020094638642784E-67},4.5613853631562662E-65]
[null,null,null,null,null,null,null,null,269,{"$f":"(入力部分!D$7*N275+入力部分!D$8*S275+入力部分!D$9*X275+入力部分!D$10*AC275)/(SUM(入力部分!D$7:D$10))","v":3.0646003942312372E-4},null,null,269,{"$f":"1/入力部分!$I$36/(2*3.14)^0.5*EXP(-1/2*(((M275+入力部分!$I$45)-入力部分!$I$27)/入力部分!$I$36)^2)","v":2.0221714842198241E-3},0.54396412925513271,null,null,269,{"$f":"1/入力部分!$I$37/(2*3.14)^0.5*EXP(-1/2*(((R275+入力部分!$I$46)-入力部分!$I$28)/入力部分!$I$37)^2)","v":1.431696078833792E-4},3.8512624520629E-2,null,null,269,{"$f":"1/入力部分!$I$38/(2*3.14)^0.5*EXP(-1/2*(((W275+入力部分!$I$47)-入力部分!$I$29)/入力部分!$I$38)^2)","v":3.7575141691894809E-12},1.0107713115119704E-9,null,null,269,{"$f":"1/入力部分!$I$39/(2*3.14)^0.5*EXP(-1/2*(((AB275+入力部分!$I$48)-入力部分!$I$30)/入力部分!$I$39)^2)","v":3.9985126774841819E-68},1.0755999102432449E-65]
[null,null,null,null,null,null,null,null,270,{"$f":"(入力部分!D$7*N276+入力部分!D$8*S276+入力部分!D$9*X276+入力部分!D$10*AC276)/(SUM(入力部分!D$7:D$10))","v":3.009239086757144E-4},null,null,270,{"$f":"1/入力部分!$I$36/(2*3.14)^0.5*EXP(-1/2*(((M276+入力部分!$I$45)-入力部分!$I$27)/入力部分!$I$36)^2)","v":1.9982200624104286E-3},0.53951941685081573,null,null,270,{"$f":"1/入力部分!$I$37/(2*3.14)^0.5*EXP(-1/2*(((R276+入力部分!$I$46)-入力部分!$I$28)/入力部分!$I$37)^2)","v":1.3639040034357973E-4},3.6825408092766528E-2,null,null,270,{"$f":"1/入力部分!$I$38/(2*3.14)^0.5*EXP(-1/2*(((W276+入力部分!$I$47)-入力部分!$I$29)/入力部分!$I$38)^2)","v":2.982273852156681E-12},8.0521394008230388E-10,null,null,270,{"$f":"1/入力部分!$I$39/(2*3.14)^0.5*EXP(-1/2*(((AB276+入力部分!$I$48)-入力部分!$I$30)/入力部分!$I$39)^2)","v":9.3286553902443728E-69},2.5187369553659806E-66]
[null,null,null,null,null,null,null,null,271,{"$f":"(入力部分!D$7*N277+入力部分!D$8*S277+入力部分!D$9*X277+入力部分!D$10*AC277)/(SUM(入力部分!D$7:D$10))","v":2.9550374928381378E-4},null,null,271,{"$f":"1/入力部分!$I$36/(2*3.14)^0.5*EXP(-1/2*(((M277+入力部分!$I$45)-入力部分!$I$27)/入力部分!$I$36)^2)","v":1.9743508768891851E-3},0.53504908763696912,null,null,271,{"$f":"1/入力部分!$I$37/(2*3.14)^0.5*EXP(-1/2*(((R277+入力部分!$I$46)-入力部分!$I$28)/入力部分!$I$37)^2)","v":1.2989303755102372E-4},3.5201013176327428E-2,null,null,271,{"$f":"1/入力部分!$I$38/(2*3.14)^0.5*EXP(-1/2*(((W277+入力部分!$I$47)-入力部分!$I$29)/入力部分!$I$38)^2)","v":2.3641270650357446E-12},6.4067843462468682E-10,null,null,271,{"$f":"1/入力部分!$I$39/(2*3.14)^0.5*EXP(-1/2*(((AB277+入力部分!$I$48)-入力部分!$I$30)/入力部分!$I$39)^2)","v":2.1613429758318084E-69},5.8572394645042007E-67]
[null,null,null,null,null,null,null,null,272,{"$f":"(入力部分!D$7*N278+入力部分!D$8*S278+入力部分!D$9*X278+入力部分!D$10*AC278)/(SUM(入力部分!D$7:D$10))","v":2.9019644225210343E-4},null,null,272,{"$f":"1/入力部分!$I$36/(2*3.14)^0.5*EXP(-1/2*(((M278+入力部分!$I$45)-入力部分!$I$27)/入力部分!$I$36)^2)","v":1.9505677867523938E-3},0.53055443799665114,null,null,272,{"$f":"1/入力部分!$I$37/(2*3.14)^0.5*EXP(-1/2*(((R278+入力部分!$I$46)-入力部分!$I$28)/入力部分!$I$37)^2)","v":1.2366791584024603E-4},3.3637673108546921E-2,null,null,272,{"$f":"1/入力部分!$I$38/(2*3.14)^0.5*EXP(-1/2*(((W278+入力部分!$I$47)-入力部分!$I$29)/入力部分!$I$38)^2)","v":1.8718476970354087E-12},5.091425735936312E-10,null,null,272,{"$f":"1/入力部分!$I$39/(2*3.14)^0.5*EXP(-1/2*(((AB278+入力部分!$I$48)-入力部分!$I$30)/入力部分!$I$39)^2)","v":4.9729305488945334E-70},1.3526371092993132E-67]
[null,null,null,null,null,null,null,null,273,{"$f":"(入力部分!D$7*N279+入力部分!D$8*S279+入力部分!D$9*X279+入力部分!D$10*AC279)/(SUM(入力部分!D$7:D$10))","v":2.8499894151908932E-4},null,null,273,{"$f":"1/入力部分!$I$36/(2*3.14)^0.5*EXP(-1/2*(((M279+入力部分!$I$45)-入力部分!$I$27)/入力部分!$I$36)^2)","v":1.9268745786121364E-3},0.52603675996111321,null,null,273,{"$f":"1/入力部分!$I$37/(2*3.14)^0.5*EXP(-1/2*(((R279+入力部分!$I$46)-入力部分!$I$28)/入力部分!$I$37)^2)","v":1.1770565019333317E-4},3.2133642502779954E-2,null,null,273,{"$f":"1/入力部分!$I$38/(2*3.14)^0.5*EXP(-1/2*(((W279+入力部分!$I$47)-入力部分!$I$29)/入力部分!$I$38)^2)","v":1.4802893150568312E-12},4.041189830105149E-10,null,null,273,{"$f":"1/入力部分!$I$39/(2*3.14)^0.5*EXP(-1/2*(((AB279+入力部分!$I$48)-入力部分!$I$30)/入力部分!$I$39)^2)","v":1.1362794832180314E-70},3.1020429891852255E-68]
[null,null,null,null,null,null,null,null,274,{"$f":"(入力部分!D$7*N280+入力部分!D$8*S280+入力部分!D$9*X280+入力部分!D$10*AC280)/(SUM(入力部分!D$7:D$10))","v":2.7990827408448768E-4},null,null,274,{"$f":"1/入力部分!$I$36/(2*3.14)^0.5*EXP(-1/2*(((M280+入力部分!$I$45)-入力部分!$I$27)/入力部分!$I$36)^2)","v":1.903274965933441E-3},0.52149734066576281,null,null,274,{"$f":"1/入力部分!$I$37/(2*3.14)^0.5*EXP(-1/2*(((R280+入力部分!$I$46)-入力部分!$I$28)/入力部分!$I$37)^2)","v":1.1199707480133492E-4},3.0687198495565768E-2,null,null,274,{"$f":"1/入力部分!$I$38/(2*3.14)^0.5*EXP(-1/2*(((W280+入力部分!$I$47)-入力部分!$I$29)/入力部分!$I$38)^2)","v":1.1692277107670873E-12},3.2036839275018189E-10,null,null,274,{"$f":"1/入力部分!$I$39/(2*3.14)^0.5*EXP(-1/2*(((AB280+入力部分!$I$48)-入力部分!$I$30)/入力部分!$I$39)^2)","v":2.5783507814697653E-71},7.0646811412271567E-69]
[null,null,null,null,null,null,null,null,275,{"$f":"(入力部分!D$7*N281+入力部分!D$8*S281+入力部分!D$9*X281+入力部分!D$10*AC281)/(SUM(入力部分!D$7:D$10))","v":2.7492154001133357E-4},null,null,275,{"$f":"1/入力部分!$I$36/(2*3.14)^0.5*EXP(-1/2*(((M281+入力部分!$I$45)-入力部分!$I$27)/入力部分!$I$36)^2)","v":1.8797725884165488E-3},0.51693746181455091,null,null,275,{"$f":"1/入力部分!$I$37/(2*3.14)^0.5*EXP(-1/2*(((R281+入力部分!$I$46)-入力部分!$I$28)/入力部分!$I$37)^2)","v":1.0653324327642759E-4},2.9296641901017585E-2,null,null,275,{"$f":"1/入力部分!$I$38/(2*3.14)^0.5*EXP(-1/2*(((W281+入力部分!$I$47)-入力部分!$I$29)/入力部分!$I$38)^2)","v":9.2241848017854842E-13},2.5366508204910083E-10,null,null,275,{"$f":"1/入力部分!$I$39/(2*3.14)^0.5*EXP(-1/2*(((AB281+入力部分!$I$48)-入力部分!$I$30)/入力部分!$I$39)^2)","v":5.8100906122492525E-72},1.5977749183685445E-69]
[null,null,null,null,null,null,null,null,276,{"$f":"(入力部分!D$7*N282+入力部分!D$8*S282+入力部分!D$9*X282+入力部分!D$10*AC282)/(SUM(入力部分!D$7:D$10))","v":2.7003591230895647E-4},null,null,276,{"$f":"1/入力部分!$I$36/(2*3.14)^0.5*EXP(-1/2*(((M282+入力部分!$I$45)-入力部分!$I$27)/入力部分!$I$36)^2)","v":1.8563710114241109E-3},0.51235839915305459,null,null,276,{"$f":"1/入力部分!$I$37/(2*3.14)^0.5*EXP(-1/2*(((R282+入力部分!$I$46)-入力部分!$I$28)/入力部分!$I$37)^2)","v":1.0130542853129326E-4},2.796029827463694E-2,null,null,276,{"$f":"1/入力部分!$I$38/(2*3.14)^0.5*EXP(-1/2*(((W282+入力部分!$I$47)-入力部分!$I$29)/入力部分!$I$38)^2)","v":7.2683074753444255E-13},2.0060528631950614E-10,null,null,276,{"$f":"1/入力部分!$I$39/(2*3.14)^0.5*EXP(-1/2*(((AB282+入力部分!$I$48)-入力部分!$I$30)/入力部分!$I$39)^2)","v":1.3001931538575154E-72},3.5885331046467426E-70]
[null,null,null,null,null,null,null,null,277,{"$f":"(入力部分!D$7*N283+入力部分!D$8*S283+入力部分!D$9*X283+入力部分!D$10*AC283)/(SUM(入力部分!D$7:D$10))","v":2.6524863670292031E-4},null,null,277,{"$f":"1/入力部分!$I$36/(2*3.14)^0.5*EXP(-1/2*(((M283+入力部分!$I$45)-入力部分!$I$27)/入力部分!$I$36)^2)","v":1.8330737254531224E-3},0.50776142195051488,null,null,277,{"$f":"1/入力部分!$I$37/(2*3.14)^0.5*EXP(-1/2*(((R283+入力部分!$I$46)-入力部分!$I$28)/入力部分!$I$37)^2)","v":9.6305122342063421E-5},2.6676518888751569E-2,null,null,277,{"$f":"1/入力部分!$I$38/(2*3.14)^0.5*EXP(-1/2*(((W283+入力部分!$I$47)-入力部分!$I$29)/入力部分!$I$38)^2)","v":5.7202497076765009E-13},1.5845091690263907E-10,null,null,277,{"$f":"1/入力部分!$I$39/(2*3.14)^0.5*EXP(-1/2*(((AB283+入力部分!$I$48)-入力部分!$I$30)/入力部分!$I$39)^2)","v":2.8894614883117161E-73},8.0038083226234534E-71]
[null,null,null,null,null,null,null,null,278,{"$f":"(入力部分!D$7*N284+入力部分!D$8*S284+入力部分!D$9*X284+入力部分!D$10*AC284)/(SUM(入力部分!D$7:D$10))","v":2.6055703129796787E-4},null,null,278,{"$f":"1/入力部分!$I$36/(2*3.14)^0.5*EXP(-1/2*(((M284+入力部分!$I$45)-入力部分!$I$27)/入力部分!$I$36)^2)","v":1.8098841456513498E-3},0.50314779249107522,null,null,278,{"$f":"1/入力部分!$I$37/(2*3.14)^0.5*EXP(-1/2*(((R284+入力部分!$I$46)-入力部分!$I$28)/入力部分!$I$37)^2)","v":9.1524034611032044E-5},2.5443681621866908E-2,null,null,278,{"$f":"1/入力部分!$I$38/(2*3.14)^0.5*EXP(-1/2*(((W284+入力部分!$I$47)-入力部分!$I$29)/入力部分!$I$38)^2)","v":4.496484330481077E-13},1.2500226438737395E-10,null,null,278,{"$f":"1/入力部分!$I$39/(2*3.14)^0.5*EXP(-1/2*(((AB284+入力部分!$I$48)-入力部分!$I$30)/入力部分!$I$39)^2)","v":6.3769059525440201E-74},1.7727798548072377E-71]
[null,null,null,null,null,null,null,null,279,{"$f":"(入力部分!D$7*N285+入力部分!D$8*S285+入力部分!D$9*X285+入力部分!D$10*AC285)/(SUM(入力部分!D$7:D$10))","v":2.559584861399455E-4},null,null,279,{"$f":"1/入力部分!$I$36/(2*3.14)^0.5*EXP(-1/2*(((M285+入力部分!$I$45)-入力部分!$I$27)/入力部分!$I$36)^2)","v":1.7868056113779971E-3},0.49851876557446118,null,null,279,{"$f":"1/入力部分!$I$37/(2*3.14)^0.5*EXP(-1/2*(((R285+入力部分!$I$46)-入力部分!$I$28)/入力部分!$I$37)^2)","v":8.6954092345171218E-5},2.4260191764302771E-2,null,null,279,{"$f":"1/入力部分!$I$38/(2*3.14)^0.5*EXP(-1/2*(((W285+入力部分!$I$47)-入力部分!$I$29)/入力部分!$I$38)^2)","v":3.530267230383658E-13},9.849445572770406E-11,null,null,279,{"$f":"1/入力部分!$I$39/(2*3.14)^0.5*EXP(-1/2*(((AB285+入力部分!$I$48)-入力部分!$I$30)/入力部分!$I$39)^2)","v":1.39761379829997E-74},3.8993424972569164E-72]
[null,null,null,null,null,null,null,null,280,{"$f":"(入力部分!D$7*N286+入力部分!D$8*S286+入力部分!D$9*X286+入力部分!D$10*AC286)/(SUM(入力部分!D$7:D$10))","v":2.5145046268260172E-4},null,null,280,{"$f":"1/入力部分!$I$36/(2*3.14)^0.5*EXP(-1/2*(((M286+入力部分!$I$45)-入力部分!$I$27)/入力部分!$I$36)^2)","v":1.7638413858083292E-3},0.49387558802633219,null,null,280,{"$f":"1/入力部分!$I$37/(2*3.14)^0.5*EXP(-1/2*(((R286+入力部分!$I$46)-入力部分!$I$28)/入力部分!$I$37)^2)","v":8.2587438366272698E-5},2.3124482742556355E-2,null,null,280,{"$f":"1/入力部分!$I$38/(2*3.14)^0.5*EXP(-1/2*(((W286+入力部分!$I$47)-入力部分!$I$29)/入力部分!$I$38)^2)","v":2.7683339501803454E-13},7.7513350605049667E-11,null,null,280,{"$f":"1/入力部分!$I$39/(2*3.14)^0.5*EXP(-1/2*(((AB286+入力部分!$I$48)-入力部分!$I$30)/入力部分!$I$39)^2)","v":3.0419243789136975E-75},8.517388260958353E-73]
[null,null,null,null,null,null,null,null,281,{"$f":"(入力部分!D$7*N287+入力部分!D$8*S287+入力部分!D$9*X287+入力部分!D$10*AC287)/(SUM(入力部分!D$7:D$10))","v":2.4703049316506415E-4},null,null,281,{"$f":"1/入力部分!$I$36/(2*3.14)^0.5*EXP(-1/2*(((M287+入力部分!$I$45)-入力部分!$I$27)/入力部分!$I$36)^2)","v":1.7409946555819263E-3},0.48921949821852129,null,null,281,{"$f":"1/入力部分!$I$37/(2*3.14)^0.5*EXP(-1/2*(((R287+入力部分!$I$46)-入力部分!$I$28)/入力部分!$I$37)^2)","v":7.8416429768313632E-5},2.203501676489613E-2,null,null,281,{"$f":"1/入力部分!$I$38/(2*3.14)^0.5*EXP(-1/2*(((W287+入力部分!$I$47)-入力部分!$I$29)/入力部分!$I$38)^2)","v":2.1682321345666408E-13},6.0927322981322613E-11,null,null,281,{"$f":"1/入力部分!$I$39/(2*3.14)^0.5*EXP(-1/2*(((AB287+入力部分!$I$48)-入力部分!$I$30)/入力部分!$I$39)^2)","v":6.5749690574653512E-76},1.8475663051477638E-73]
[null,null,null,null,null,null,null,null,282,{"$f":"(入力部分!D$7*N288+入力部分!D$8*S288+入力部分!D$9*X288+入力部分!D$10*AC288)/(SUM(入力部分!D$7:D$10))","v":2.4269617990570137E-4},null,null,282,{"$f":"1/入力部分!$I$36/(2*3.14)^0.5*EXP(-1/2*(((M288+入力部分!$I$45)-入力部分!$I$27)/入力部分!$I$36)^2)","v":1.7182685304942317E-3},0.48455172559937332,null,null,282,{"$f":"1/入力部分!$I$37/(2*3.14)^0.5*EXP(-1/2*(((R288+入力部分!$I$46)-入力部分!$I$28)/入力部分!$I$37)^2)","v":7.4433636137381754E-5},2.0990285390741655E-2,null,null,282,{"$f":"1/入力部分!$I$38/(2*3.14)^0.5*EXP(-1/2*(((W288+入力部分!$I$47)-入力部分!$I$29)/入力部分!$I$38)^2)","v":1.6961703796689829E-13},4.783200470666532E-11,null,null,282,{"$f":"1/入力部分!$I$39/(2*3.14)^0.5*EXP(-1/2*(((AB288+入力部分!$I$48)-入力部分!$I$30)/入力部分!$I$39)^2)","v":1.4113121464424373E-76},3.979900252967673E-74]
[null,null,null,null,null,null,null,null,283,{"$f":"(入力部分!D$7*N289+入力部分!D$8*S289+入力部分!D$9*X289+入力部分!D$10*AC289)/(SUM(入力部分!D$7:D$10))","v":2.3844519451796846E-4},null,null,283,{"$f":"1/入力部分!$I$36/(2*3.14)^0.5*EXP(-1/2*(((M289+入力部分!$I$45)-入力部分!$I$27)/入力部分!$I$36)^2)","v":1.6956660432310288E-3},0.47987349023438114,null,null,283,{"$f":"1/入力部分!$I$37/(2*3.14)^0.5*EXP(-1/2*(((R289+入力部分!$I$46)-入力部分!$I$28)/入力部分!$I$37)^2)","v":7.0631837549220688E-5},1.9988810026429455E-2,null,null,283,{"$f":"1/入力部分!$I$38/(2*3.14)^0.5*EXP(-1/2*(((W289+入力部分!$I$47)-入力部分!$I$29)/入力部分!$I$38)^2)","v":1.3252858875694419E-13},3.7505590618215204E-11,null,null,283,{"$f":"1/入力部分!$I$39/(2*3.14)^0.5*EXP(-1/2*(((AB289+入力部分!$I$48)-入力部分!$I$30)/入力部分!$I$39)^2)","v":3.008406451651145E-77},8.5137902581727401E-75]
[null,null,null,null,null,null,null,null,284,{"$f":"(入力部分!D$7*N290+入力部分!D$8*S290+入力部分!D$9*X290+入力部分!D$10*AC290)/(SUM(入力部分!D$7:D$10))","v":2.3427527705371882E-4},null,null,284,{"$f":"1/入力部分!$I$36/(2*3.14)^0.5*EXP(-1/2*(((M290+入力部分!$I$45)-入力部分!$I$27)/入力部分!$I$36)^2)","v":1.6731901491454434E-3},0.4751860023573059,null,null,284,{"$f":"1/入力部分!$I$37/(2*3.14)^0.5*EXP(-1/2*(((R290+入力部分!$I$46)-入力部分!$I$28)/入力部分!$I$37)^2)","v":6.7004022359152274E-5},1.9029142349999247E-2,null,null,284,{"$f":"1/入力部分!$I$38/(2*3.14)^0.5*EXP(-1/2*(((W290+入力部分!$I$47)-入力部分!$I$29)/入力部分!$I$38)^2)","v":1.0342512924261749E-13},2.9372736704903363E-11,null,null,284,{"$f":"1/入力部分!$I$39/(2*3.14)^0.5*EXP(-1/2*(((AB290+入力部分!$I$48)-入力部分!$I$30)/入力部分!$I$39)^2)","v":6.3684539022311026E-78},1.8086409082336331E-75]
[null,null,null,null,null,null,null,null,285,{"$f":"(入力部分!D$7*N291+入力部分!D$8*S291+入力部分!D$9*X291+入力部分!D$10*AC291)/(SUM(入力部分!D$7:D$10))","v":2.3018423507934087E-4},null,null,285,{"$f":"1/入力部分!$I$36/(2*3.14)^0.5*EXP(-1/2*(((M291+入力部分!$I$45)-入力部分!$I$27)/入力部分!$I$36)^2)","v":1.6508437260770597E-3},0.47049046193196203,null,null,285,{"$f":"1/入力部分!$I$37/(2*3.14)^0.5*EXP(-1/2*(((R291+入力部分!$I$46)-入力部分!$I$28)/入力部分!$I$37)^2)","v":6.3543384798811994E-5},1.8109864667661419E-2,null,null,285,{"$f":"1/入力部分!$I$38/(2*3.14)^0.5*EXP(-1/2*(((W291+入力部分!$I$47)-入力部分!$I$29)/入力部分!$I$38)^2)","v":8.0615577887368866E-14},2.2975439697900126E-11,null,null,285,{"$f":"1/入力部分!$I$39/(2*3.14)^0.5*EXP(-1/2*(((AB291+入力部分!$I$48)-入力部分!$I$30)/入力部分!$I$39)^2)","v":1.3387995996054557E-78},3.8155788588755486E-76]
[null,null,null,null,null,null,null,null,286,{"$f":"(入力部分!D$7*N292+入力部分!D$8*S292+入力部分!D$9*X292+入力部分!D$10*AC292)/(SUM(入力部分!D$7:D$10))","v":2.2616994268995195E-4},null,null,286,{"$f":"1/入力部分!$I$36/(2*3.14)^0.5*EXP(-1/2*(((M292+入力部分!$I$45)-入力部分!$I$27)/入力部分!$I$36)^2)","v":1.6286295742127001E-3},0.46578805822483221,null,null,286,{"$f":"1/入力部分!$I$37/(2*3.14)^0.5*EXP(-1/2*(((R292+入力部分!$I$46)-入力部分!$I$28)/入力部分!$I$37)^2)","v":6.0243322393797902E-5},1.7229590204626201E-2,null,null,286,{"$f":"1/入力部分!$I$38/(2*3.14)^0.5*EXP(-1/2*(((W292+入力部分!$I$47)-入力部分!$I$29)/入力部分!$I$38)^2)","v":6.2760771149080242E-14},1.794958054863695E-11,null,null,286,{"$f":"1/入力部分!$I$39/(2*3.14)^0.5*EXP(-1/2*(((AB292+入力部分!$I$48)-入力部分!$I$30)/入力部分!$I$39)^2)","v":2.7949960867078284E-79},7.9936888079843891E-77]
[null,null,null,null,null,null,null,null,287,{"$f":"(入力部分!D$7*N293+入力部分!D$8*S293+入力部分!D$9*X293+入力部分!D$10*AC293)/(SUM(入力部分!D$7:D$10))","v":2.2223033946674244E-4},null,null,287,{"$f":"1/入力部分!$I$36/(2*3.14)^0.5*EXP(-1/2*(((M293+入力部分!$I$45)-入力部分!$I$27)/入力部分!$I$36)^2)","v":1.6065504159884097E-3},0.46107996938867357,null,null,287,{"$f":"1/入力部分!$I$37/(2*3.14)^0.5*EXP(-1/2*(((R293+入力部分!$I$46)-入力部分!$I$28)/入力部分!$I$37)^2)","v":5.7097433215975516E-5},1.6386963332984974E-2,null,null,287,{"$f":"1/入力部分!$I$38/(2*3.14)^0.5*EXP(-1/2*(((W293+入力部分!$I$47)-入力部分!$I$29)/入力部分!$I$38)^2)","v":4.8801589913776489E-14},1.4006056305253852E-11,null,null,287,{"$f":"1/入力部分!$I$39/(2*3.14)^0.5*EXP(-1/2*(((AB293+入力部分!$I$48)-入力部分!$I$30)/入力部分!$I$39)^2)","v":5.7946992500954958E-80},1.6630786847774072E-77]
[null,null,null,null,null,null,null,null,288,{"$f":"(入力部分!D$7*N294+入力部分!D$8*S294+入力部分!D$9*X294+入力部分!D$10*AC294)/(SUM(入力部分!D$7:D$10))","v":2.1836342938242451E-4},null,null,288,{"$f":"1/入力部分!$I$36/(2*3.14)^0.5*EXP(-1/2*(((M294+入力部分!$I$45)-入力部分!$I$27)/入力部分!$I$36)^2)","v":1.5846088960321432E-3},0.45636736205725725,null,null,288,{"$f":"1/入力部分!$I$37/(2*3.14)^0.5*EXP(-1/2*(((R294+入力部分!$I$46)-入力部分!$I$28)/入力部分!$I$37)^2)","v":5.4099512983816665E-5},1.5580659739339199E-2,null,null,288,{"$f":"1/入力部分!$I$38/(2*3.14)^0.5*EXP(-1/2*(((W294+入力部分!$I$47)-入力部分!$I$29)/入力部分!$I$38)^2)","v":3.7901471503396442E-14},1.0915623792978175E-11,null,null,288,{"$f":"1/入力部分!$I$39/(2*3.14)^0.5*EXP(-1/2*(((AB294+入力部分!$I$48)-入力部分!$I$30)/入力部分!$I$39)^2)","v":1.1930665324718184E-80},3.4360316135188371E-78]
[null,null,null,null,null,null,null,null,289,{"$f":"(入力部分!D$7*N295+入力部分!D$8*S295+入力部分!D$9*X295+入力部分!D$10*AC295)/(SUM(入力部分!D$7:D$10))","v":2.1456727965959413E-4},null,null,289,{"$f":"1/入力部分!$I$36/(2*3.14)^0.5*EXP(-1/2*(((M295+入力部分!$I$45)-入力部分!$I$27)/入力部分!$I$36)^2)","v":1.5628075811466486E-3},0.45165139095138146,null,null,289,{"$f":"1/入力部分!$I$37/(2*3.14)^0.5*EXP(-1/2*(((R295+入力部分!$I$46)-入力部分!$I$28)/入力部分!$I$37)^2)","v":5.1243552023767881E-5},1.4809386534868917E-2,null,null,289,{"$f":"1/入力部分!$I$38/(2*3.14)^0.5*EXP(-1/2*(((W295+入力部分!$I$47)-入力部分!$I$29)/入力部分!$I$38)^2)","v":2.9400490248329229E-14},8.496741681767147E-12,null,null,289,{"$f":"1/入力部分!$I$39/(2*3.14)^0.5*EXP(-1/2*(((AB295+入力部分!$I$48)-入力部分!$I$30)/入力部分!$I$39)^2)","v":2.4393970362836522E-81},7.0498574348597549E-79]
[null,null,null,null,null,null,null,null,290,{"$f":"(入力部分!D$7*N296+入力部分!D$8*S296+入力部分!D$9*X296+入力部分!D$10*AC296)/(SUM(入力部分!D$7:D$10))","v":2.1084001958666674E-4},null,null,290,{"$f":"1/入力部分!$I$36/(2*3.14)^0.5*EXP(-1/2*(((M296+入力部分!$I$45)-入力部分!$I$27)/入力部分!$I$36)^2)","v":1.5411489603320183E-3},0.44693319849628532,null,null,290,{"$f":"1/入力部分!$I$37/(2*3.14)^0.5*EXP(-1/2*(((R296+入力部分!$I$46)-入力部分!$I$28)/入力部分!$I$37)^2)","v":4.8523732105252712E-5},1.4071882310523287E-2,null,null,290,{"$f":"1/入力部分!$I$38/(2*3.14)^0.5*EXP(-1/2*(((W296+入力部分!$I$47)-入力部分!$I$29)/入力部分!$I$38)^2)","v":2.2778728242242833E-14},6.6058311902504214E-12,null,null,290,{"$f":"1/入力部分!$I$39/(2*3.14)^0.5*EXP(-1/2*(((AB296+入力部分!$I$48)-入力部分!$I$30)/入力部分!$I$39)^2)","v":4.9531831471088195E-82},1.4364231126615578E-79]
[null,null,null,null,null,null,null,null,291,{"$f":"(入力部分!D$7*N297+入力部分!D$8*S297+入力部分!D$9*X297+入力部分!D$10*AC297)/(SUM(入力部分!D$7:D$10))","v":2.0717983929589105E-4},null,null,291,{"$f":"1/入力部分!$I$36/(2*3.14)^0.5*EXP(-1/2*(((M297+入力部分!$I$45)-入力部分!$I$27)/入力部分!$I$36)^2)","v":1.5196354448473368E-3},0.44221391445057501,null,null,291,{"$f":"1/入力部分!$I$37/(2*3.14)^0.5*EXP(-1/2*(((R297+入力部分!$I$46)-入力部分!$I$28)/入力部分!$I$37)^2)","v":4.5934423161512427E-5},1.3366917140000116E-2,null,null,291,{"$f":"1/入力部分!$I$38/(2*3.14)^0.5*EXP(-1/2*(((W297+入力部分!$I$47)-入力部分!$I$29)/入力部分!$I$38)^2)","v":1.7627096205025715E-14},5.1294849956624831E-12,null,null,291,{"$f":"1/入力部分!$I$39/(2*3.14)^0.5*EXP(-1/2*(((AB297+入力部分!$I$48)-入力部分!$I$30)/入力部分!$I$39)^2)","v":9.9878117330147083E-83},2.9064532143072801E-80]
[null,null,null,null,null,null,null,null,292,{"$f":"(入力部分!D$7*N298+入力部分!D$8*S298+入力部分!D$9*X298+入力部分!D$10*AC298)/(SUM(入力部分!D$7:D$10))","v":2.0358498850779467E-4},null,null,292,{"$f":"1/入力部分!$I$36/(2*3.14)^0.5*EXP(-1/2*(((M298+入力部分!$I$45)-入力部分!$I$27)/入力部分!$I$36)^2)","v":1.4982693683108657E-3},0.4374946555467728,null,null,292,{"$f":"1/入力部分!$I$37/(2*3.14)^0.5*EXP(-1/2*(((R298+入力部分!$I$46)-入力部分!$I$28)/入力部分!$I$37)^2)","v":4.3470179908081084E-5},1.2693292533159676E-2,null,null,292,{"$f":"1/入力部分!$I$38/(2*3.14)^0.5*EXP(-1/2*(((W298+入力部分!$I$47)-入力部分!$I$29)/入力部分!$I$38)^2)","v":1.3624120515348093E-14},3.9782431904816432E-12,null,null,292,{"$f":"1/入力部分!$I$39/(2*3.14)^0.5*EXP(-1/2*(((AB298+入力部分!$I$48)-入力部分!$I$30)/入力部分!$I$39)^2)","v":2.0000477964067119E-83},5.840139565507599E-81]
[null,null,null,null,null,null,null,null,293,{"$f":"(入力部分!D$7*N299+入力部分!D$8*S299+入力部分!D$9*X299+入力部分!D$10*AC299)/(SUM(入力部分!D$7:D$10))","v":2.0005377524625321E-4},null,null,293,{"$f":"1/入力部分!$I$36/(2*3.14)^0.5*EXP(-1/2*(((M299+入力部分!$I$45)-入力部分!$I$27)/入力部分!$I$36)^2)","v":1.4770529868381589E-3},0.43277652514358056,null,null,293,{"$f":"1/入力部分!$I$37/(2*3.14)^0.5*EXP(-1/2*(((R299+入力部分!$I$46)-入力部分!$I$28)/入力部分!$I$37)^2)","v":4.1125738370277399E-5},1.2049841342491279E-2,null,null,293,{"$f":"1/入力部分!$I$38/(2*3.14)^0.5*EXP(-1/2*(((W299+入力部分!$I$47)-入力部分!$I$29)/入力部分!$I$38)^2)","v":1.0517501407493588E-14},3.081627912395621E-12,null,null,293,{"$f":"1/入力部分!$I$39/(2*3.14)^0.5*EXP(-1/2*(((AB299+入力部分!$I$48)-入力部分!$I$30)/入力部分!$I$39)^2)","v":3.9773560224876633E-84},1.1653653145888853E-81]
[null,null,null,null,null,null,null,null,294,{"$f":"(入力部分!D$7*N300+入力部分!D$8*S300+入力部分!D$9*X300+入力部分!D$10*AC300)/(SUM(入力部分!D$7:D$10))","v":1.9658456452821907E-4},null,null,294,{"$f":"1/入力部分!$I$36/(2*3.14)^0.5*EXP(-1/2*(((M300+入力部分!$I$45)-入力部分!$I$27)/入力部分!$I$36)^2)","v":1.4559884792175056E-3},0.42806061288994662,null,null,294,{"$f":"1/入力部分!$I$37/(2*3.14)^0.5*EXP(-1/2*(((R300+入力部分!$I$46)-入力部分!$I$28)/入力部分!$I$37)^2)","v":3.8896012330676046E-5},1.1435427625218757E-2,null,null,294,{"$f":"1/入力部分!$I$38/(2*3.14)^0.5*EXP(-1/2*(((W300+入力部分!$I$47)-入力部分!$I$29)/入力部分!$I$38)^2)","v":8.1094813872403263E-15},2.3841875278486561E-12,null,null,294,{"$f":"1/入力部分!$I$39/(2*3.14)^0.5*EXP(-1/2*(((AB300+入力部分!$I$48)-入力部分!$I$30)/入力部分!$I$39)^2)","v":7.854754696390709E-85},2.3092978807388685E-82]
[null,null,null,null,null,null,null,null,295,{"$f":"(入力部分!D$7*N301+入力部分!D$8*S301+入力部分!D$9*X301+入力部分!D$10*AC301)/(SUM(入力部分!D$7:D$10))","v":1.931757770319811E-4},null,null,295,{"$f":"1/入力部分!$I$36/(2*3.14)^0.5*EXP(-1/2*(((M301+入力部分!$I$45)-入力部分!$I$27)/入力部分!$I$36)^2)","v":1.4350779471220586E-3},0.42334799440100729,null,null,295,{"$f":"1/入力部分!$I$37/(2*3.14)^0.5*EXP(-1/2*(((R301+入力部分!$I$46)-入力部分!$I$28)/入力部分!$I$37)^2)","v":3.6776089707099864E-5},1.084894646359446E-2,null,null,295,{"$f":"1/入力部分!$I$38/(2*3.14)^0.5*EXP(-1/2*(((W301+入力部分!$I$47)-入力部分!$I$29)/入力部分!$I$38)^2)","v":6.2452522464301013E-15},1.8423494126968801E-12,null,null,295,{"$f":"1/入力部分!$I$39/(2*3.14)^0.5*EXP(-1/2*(((AB301+入力部分!$I$48)-入力部分!$I$30)/入力部分!$I$39)^2)","v":1.5404756994376841E-85},4.5444033133411679E-83]
[null,null,null,null,null,null,null,null,296,{"$f":"(入力部分!D$7*N302+入力部分!D$8*S302+入力部分!D$9*X302+入力部分!D$10*AC302)/(SUM(入力部分!D$7:D$10))","v":1.8982588774767013E-4},null,null,296,{"$f":"1/入力部分!$I$36/(2*3.14)^0.5*EXP(-1/2*(((M302+入力部分!$I$45)-入力部分!$I$27)/入力部分!$I$36)^2)","v":1.4143234153580079E-3},0.41863973094597035,null,null,296,{"$f":"1/入力部分!$I$37/(2*3.14)^0.5*EXP(-1/2*(((R302+入力部分!$I$46)-入力部分!$I$28)/入力部分!$I$37)^2)","v":3.4761228871248567E-5},1.0289323745889575E-2,null,null,296,{"$f":"1/入力部分!$I$38/(2*3.14)^0.5*EXP(-1/2*(((W302+入力部分!$I$47)-入力部分!$I$29)/入力部分!$I$38)^2)","v":4.8037819672938732E-15},1.4219194623189865E-12,null,null,296,{"$f":"1/入力部分!$I$39/(2*3.14)^0.5*EXP(-1/2*(((AB302+入力部分!$I$48)-入力部分!$I$30)/入力部分!$I$39)^2)","v":3.0002755523626151E-86},8.8808156349933404E-84]
[null,null,null,null,null,null,null,null,297,{"$f":"(入力部分!D$7*N303+入力部分!D$8*S303+入力部分!D$9*X303+入力部分!D$10*AC303)/(SUM(入力部分!D$7:D$10))","v":1.8653342461355998E-4},null,null,297,{"$f":"1/入力部分!$I$36/(2*3.14)^0.5*EXP(-1/2*(((M303+入力部分!$I$45)-入力部分!$I$27)/入力部分!$I$36)^2)","v":1.3937268321481293E-3},0.41393686914799444,null,null,297,{"$f":"1/入力部分!$I$37/(2*3.14)^0.5*EXP(-1/2*(((R303+入力部分!$I$46)-入力部分!$I$28)/入力部分!$I$37)^2)","v":3.2846854917656338E-5},9.755515910543933E-3,null,null,297,{"$f":"1/入力部分!$I$38/(2*3.14)^0.5*EXP(-1/2*(((W303+入力部分!$I$47)-入力部分!$I$29)/入力部分!$I$38)^2)","v":3.6905661255298529E-15},1.0960981392823663E-12,null,null,297,{"$f":"1/入力部分!$I$39/(2*3.14)^0.5*EXP(-1/2*(((AB303+入力部分!$I$48)-入力部分!$I$30)/入力部分!$I$39)^2)","v":5.8029857034946524E-87},1.7234867539379117E-84]
[null,null,null,null,null,null,null,null,298,{"$f":"(入力部分!D$7*N304+入力部分!D$8*S304+入力部分!D$9*X304+入力部分!D$10*AC304)/(SUM(入力部分!D$7:D$10))","v":1.8329696714155396E-4},null,null,298,{"$f":"1/入力部分!$I$36/(2*3.14)^0.5*EXP(-1/2*(((M304+入力部分!$I$45)-入力部分!$I$27)/入力部分!$I$36)^2)","v":1.3732900694500355E-3},0.40924044069611054,null,null,298,{"$f":"1/入力部分!$I$37/(2*3.14)^0.5*EXP(-1/2*(((R304+入力部分!$I$46)-入力部分!$I$28)/入力部分!$I$37)^2)","v":3.1028555892244171E-5},9.2465096558887634E-3,null,null,298,{"$f":"1/入力部分!$I$38/(2*3.14)^0.5*EXP(-1/2*(((W304+入力部分!$I$47)-入力部分!$I$29)/入力部分!$I$38)^2)","v":2.831907705486873E-15},8.4390849623508818E-13,null,null,298,{"$f":"1/入力部分!$I$39/(2*3.14)^0.5*EXP(-1/2*(((AB304+入力部分!$I$48)-入力部分!$I$30)/入力部分!$I$39)^2)","v":1.1146176713435449E-87},3.3215606606037639E-85]
[null,null,null,null,null,null,null,null,299,{"$f":"(入力部分!D$7*N305+入力部分!D$8*S305+入力部分!D$9*X305+入力部分!D$10*AC305)/(SUM(入力部分!D$7:D$10))","v":1.8011514503508619E-4},null,null,299,{"$f":"1/入力部分!$I$36/(2*3.14)^0.5*EXP(-1/2*(((M305+入力部分!$I$45)-入力部分!$I$27)/入力部分!$I$36)^2)","v":1.353014923308418E-3},0.40455146206921699,null,null,299,{"$f":"1/入力部分!$I$37/(2*3.14)^0.5*EXP(-1/2*(((R305+入力部分!$I$46)-入力部分!$I$28)/入力部分!$I$37)^2)","v":2.930207898931014E-5},8.7613216178037325E-3,null,null,299,{"$f":"1/入力部分!$I$38/(2*3.14)^0.5*EXP(-1/2*(((W305+入力部分!$I$47)-入力部分!$I$29)/入力部分!$I$38)^2)","v":2.1704090895325031E-15},6.489523177702184E-13,null,null,299,{"$f":"1/入力部分!$I$39/(2*3.14)^0.5*EXP(-1/2*(((AB305+入力部分!$I$48)-入力部分!$I$30)/入力部分!$I$39)^2)","v":2.1261035556717359E-88},6.3570496314584906E-86]
[null,null,null,null,null,null,null,null,300,{"$f":"(入力部分!D$7*N306+入力部分!D$8*S306+入力部分!D$9*X306+入力部分!D$10*AC306)/(SUM(入力部分!D$7:D$10))","v":1.7698663680250739E-4},null,null,300,{"$f":"1/入力部分!$I$36/(2*3.14)^0.5*EXP(-1/2*(((M306+入力部分!$I$45)-入力部分!$I$27)/入力部分!$I$36)^2)","v":1.332903114240596E-3},0.39987093427217879,null,null,300,{"$f":"1/入力部分!$I$37/(2*3.14)^0.5*EXP(-1/2*(((R306+入力部分!$I$46)-入力部分!$I$28)/入力部分!$I$37)^2)","v":2.7663326725380125E-5},8.2989980176140371E-3,null,null,300,{"$f":"1/入力部分!$I$38/(2*3.14)^0.5*EXP(-1/2*(((W306+入力部分!$I$47)-入力部分!$I$29)/入力部分!$I$38)^2)","v":1.6614240938708688E-15},4.9842722816126068E-13,null,null,300,{"$f":"1/入力部分!$I$39/(2*3.14)^0.5*EXP(-1/2*(((AB306+入力部分!$I$48)-入力部分!$I$30)/入力部分!$I$39)^2)","v":4.0274204367881831E-89},1.208226131036455E-86]
[null,null,null,null,null,null,null,null,301,{"$f":"(入力部分!D$7*N307+入力部分!D$8*S307+入力部分!D$9*X307+入力部分!D$10*AC307)/(SUM(入力部分!D$7:D$10))","v":1.739101683688665E-4},null,null,301,{"$f":"1/入力部分!$I$36/(2*3.14)^0.5*EXP(-1/2*(((M307+入力部分!$I$45)-入力部分!$I$27)/入力部分!$I$36)^2)","v":1.3129562876546224E-3},0.39519984258404134,null,null,301,{"$f":"1/入力部分!$I$37/(2*3.14)^0.5*EXP(-1/2*(((R307+入力部分!$I$46)-入力部分!$I$28)/入力部分!$I$37)^2)","v":2.6108353097923033E-5},7.8586142824748333E-3,null,null,301,{"$f":"1/入力部分!$I$38/(2*3.14)^0.5*EXP(-1/2*(((W307+入力部分!$I$47)-入力部分!$I$29)/入力部分!$I$38)^2)","v":1.2702693211826042E-15},3.8235106567596389E-13,null,null,301,{"$f":"1/入力部分!$I$39/(2*3.14)^0.5*EXP(-1/2*(((AB307+入力部分!$I$48)-入力部分!$I$30)/入力部分!$I$39)^2)","v":7.5762376897607234E-90},2.2804475446179776E-87]
[null,null,null,null,null,null,null,null,302,{"$f":"(入力部分!D$7*N308+入力部分!D$8*S308+入力部分!D$9*X308+入力部分!D$10*AC308)/(SUM(入力部分!D$7:D$10))","v":1.7088451168884291E-4},null,null,302,{"$f":"1/入力部分!$I$36/(2*3.14)^0.5*EXP(-1/2*(((M308+入力部分!$I$45)-入力部分!$I$27)/入力部分!$I$36)^2)","v":1.2931760142992352E-3},0.39053915631836905,null,null,302,{"$f":"1/入力部分!$I$37/(2*3.14)^0.5*EXP(-1/2*(((R308+入力部分!$I$46)-入力部分!$I$28)/入力部分!$I$37)^2)","v":2.4633359736522701E-5},7.4392746404298559E-3,null,null,302,{"$f":"1/入力部分!$I$38/(2*3.14)^0.5*EXP(-1/2*(((W308+入力部分!$I$47)-入力部分!$I$29)/入力部分!$I$38)^2)","v":9.7003524668116292E-16},2.9295064449771119E-13,null,null,302,{"$f":"1/入力部分!$I$39/(2*3.14)^0.5*EXP(-1/2*(((AB308+入力部分!$I$48)-入力部分!$I$30)/入力部分!$I$39)^2)","v":1.4153514015008345E-90},4.2743612325325204E-88]
[null,null,null,null,null,null,null,null,303,{"$f":"(入力部分!D$7*N309+入力部分!D$8*S309+入力部分!D$9*X309+入力部分!D$10*AC309)/(SUM(入力部分!D$7:D$10))","v":1.6790848336342966E-4},null,null,303,{"$f":"1/入力部分!$I$36/(2*3.14)^0.5*EXP(-1/2*(((M309+入力部分!$I$45)-入力部分!$I$27)/入力部分!$I$36)^2)","v":1.2735637907448892E-3},0.38588982859570142,null,null,303,{"$f":"1/入力部分!$I$37/(2*3.14)^0.5*EXP(-1/2*(((R309+入力部分!$I$46)-入力部分!$I$28)/入力部分!$I$37)^2)","v":2.3234692053689523E-5},7.0401116922679252E-3,null,null,303,{"$f":"1/入力部分!$I$38/(2*3.14)^0.5*EXP(-1/2*(((W309+入力部分!$I$47)-入力部分!$I$29)/入力部分!$I$38)^2)","v":7.3987034518239792E-16},2.2418071459026657E-13,null,null,303,{"$f":"1/入力部分!$I$39/(2*3.14)^0.5*EXP(-1/2*(((AB309+入力部分!$I$48)-入力部分!$I$30)/入力部分!$I$39)^2)","v":2.6257842155496384E-91},7.956126173115404E-89]
[null,null,null,null,null,null,null,null,304,{"$f":"(入力部分!D$7*N310+入力部分!D$8*S310+入力部分!D$9*X310+入力部分!D$10*AC310)/(SUM(入力部分!D$7:D$10))","v":1.6498094326281674E-4},null,null,304,{"$f":"1/入力部分!$I$36/(2*3.14)^0.5*EXP(-1/2*(((M310+入力部分!$I$45)-入力部分!$I$27)/入力部分!$I$36)^2)","v":1.2541210398951267E-3},0.38125279612811852,null,null,304,{"$f":"1/入力部分!$I$37/(2*3.14)^0.5*EXP(-1/2*(((R310+入力部分!$I$46)-入力部分!$I$28)/入力部分!$I$37)^2)","v":2.1908835402093359E-5},6.660285962236381E-3,null,null,304,{"$f":"1/入力部分!$I$38/(2*3.14)^0.5*EXP(-1/2*(((W310+入力部分!$I$47)-入力部分!$I$29)/入力部分!$I$38)^2)","v":5.636378204667849E-16},1.713458974219026E-13,null,null,304,{"$f":"1/入力部分!$I$39/(2*3.14)^0.5*EXP(-1/2*(((AB310+入力部分!$I$48)-入力部分!$I$30)/入力部分!$I$39)^2)","v":4.8376879747197162E-92},1.4706571443147938E-89]
[null,null,null,null,null,null,null,null,305,{"$f":"(入力部分!D$7*N311+入力部分!D$8*S311+入力部分!D$9*X311+入力部分!D$10*AC311)/(SUM(入力部分!D$7:D$10))","v":1.6210079315777252E-4},null,null,305,{"$f":"1/入力部分!$I$36/(2*3.14)^0.5*EXP(-1/2*(((M311+入力部分!$I$45)-入力部分!$I$27)/入力部分!$I$36)^2)","v":1.234849111527508E-3},0.37662897901588993,null,null,305,{"$f":"1/入力部分!$I$37/(2*3.14)^0.5*EXP(-1/2*(((R311+入力部分!$I$46)-入力部分!$I$28)/入力部分!$I$37)^2)","v":2.0652411244604852E-5},6.2989854296044796E-3,null,null,305,{"$f":"1/入力部分!$I$38/(2*3.14)^0.5*EXP(-1/2*(((W311+入力部分!$I$47)-入力部分!$I$29)/入力部分!$I$38)^2)","v":4.2886542347065996E-16},1.3080395415855129E-13,null,null,305,{"$f":"1/入力部分!$I$39/(2*3.14)^0.5*EXP(-1/2*(((AB311+入力部分!$I$48)-入力部分!$I$30)/入力部分!$I$39)^2)","v":8.8511711729956113E-93},2.6996072077636615E-90]
[null,null,null,null,null,null,null,null,306,{"$f":"(入力部分!D$7*N312+入力部分!D$8*S312+入力部分!D$9*X312+入力部分!D$10*AC312)/(SUM(入力部分!D$7:D$10))","v":1.5926697536167562E-4},null,null,306,{"$f":"1/入力部分!$I$36/(2*3.14)^0.5*EXP(-1/2*(((M312+入力部分!$I$45)-入力部分!$I$27)/入力部分!$I$36)^2)","v":1.2157492828633258E-3},0.37201928055617767,null,null,306,{"$f":"1/入力部分!$I$37/(2*3.14)^0.5*EXP(-1/2*(((R312+入力部分!$I$46)-入力部分!$I$28)/入力部分!$I$37)^2)","v":1.9462173343142447E-5},5.9554250430015887E-3,null,null,306,{"$f":"1/入力部分!$I$38/(2*3.14)^0.5*EXP(-1/2*(((W312+入力部分!$I$47)-入力部分!$I$29)/入力部分!$I$38)^2)","v":3.2592549991268989E-16},9.9733202973283104E-14,null,null,306,{"$f":"1/入力部分!$I$39/(2*3.14)^0.5*EXP(-1/2*(((AB312+入力部分!$I$48)-入力部分!$I$30)/入力部分!$I$39)^2)","v":1.6082282698271432E-93},4.9211785056710581E-91]
[null,null,null,null,null,null,null,null,307,{"$f":"(入力部分!D$7*N313+入力部分!D$8*S313+入力部分!D$9*X313+入力部分!D$10*AC313)/(SUM(入力部分!D$7:D$10))","v":1.5647847138520709E-4},null,null,307,{"$f":"1/入力部分!$I$36/(2*3.14)^0.5*EXP(-1/2*(((M313+入力部分!$I$45)-入力部分!$I$27)/入力部分!$I$36)^2)","v":1.1968227591653286E-3},0.36742458706375591,null,null,307,{"$f":"1/入力部分!$I$37/(2*3.14)^0.5*EXP(-1/2*(((R313+入力部分!$I$46)-入力部分!$I$28)/入力部分!$I$37)^2)","v":1.8335003971944504E-5},5.6288462193869624E-3,null,null,307,{"$f":"1/入力部分!$I$38/(2*3.14)^0.5*EXP(-1/2*(((W313+入力部分!$I$47)-入力部分!$I$29)/入力部分!$I$38)^2)","v":2.4739564346409411E-16},7.5950462543476898E-14,null,null,307,{"$f":"1/入力部分!$I$39/(2*3.14)^0.5*EXP(-1/2*(((AB313+入力部分!$I$48)-入力部分!$I$30)/入力部分!$I$39)^2)","v":2.9018750627390775E-94},8.9087564426089675E-92]
[null,null,null,null,null,null,null,null,308,{"$f":"(入力部分!D$7*N314+入力部分!D$8*S314+入力部分!D$9*X314+入力部分!D$10*AC314)/(SUM(入力部分!D$7:D$10))","v":1.537343006055701E-4},null,null,308,{"$f":"1/入力部分!$I$36/(2*3.14)^0.5*EXP(-1/2*(((M314+入力部分!$I$45)-入力部分!$I$27)/入力部分!$I$36)^2)","v":1.1780706743626458E-3},0.36284576770369492,null,null,308,{"$f":"1/入力部分!$I$37/(2*3.14)^0.5*EXP(-1/2*(((R314+入力部分!$I$46)-入力部分!$I$28)/入力部分!$I$37)^2)","v":1.7267910160513335E-5},5.3185163294381076E-3,null,null,308,{"$f":"1/入力部分!$I$38/(2*3.14)^0.5*EXP(-1/2*(((W314+入力部分!$I$47)-入力部分!$I$29)/入力部分!$I$38)^2)","v":1.8756083403126797E-16},5.7768736881630534E-14,null,null,308,{"$f":"1/入力部分!$I$39/(2*3.14)^0.5*EXP(-1/2*(((AB314+入力部分!$I$48)-入力部分!$I$30)/入力部分!$I$39)^2)","v":5.1998856702260655E-95},1.6015647864296282E-92]
[null,null,null,null,null,null,null,null,309,{"$f":"(入力部分!D$7*N315+入力部分!D$8*S315+入力部分!D$9*X315+入力部分!D$10*AC315)/(SUM(入力部分!D$7:D$10))","v":1.5103351895196944E-4},null,null,309,{"$f":"1/入力部分!$I$36/(2*3.14)^0.5*EXP(-1/2*(((M315+入力部分!$I$45)-入力部分!$I$27)/入力部分!$I$36)^2)","v":1.159494091702123E-3},0.35828367433595598,null,null,309,{"$f":"1/入力部分!$I$37/(2*3.14)^0.5*EXP(-1/2*(((R315+入力部分!$I$46)-入力部分!$I$28)/入力部分!$I$37)^2)","v":1.625801997111615E-5},5.0237281710748902E-3,null,null,309,{"$f":"1/入力部分!$I$38/(2*3.14)^0.5*EXP(-1/2*(((W315+入力部分!$I$47)-入力部分!$I$29)/入力部分!$I$38)^2)","v":1.4202626406052962E-16},4.3886115594703653E-14,null,null,309,{"$f":"1/入力部分!$I$39/(2*3.14)^0.5*EXP(-1/2*(((AB315+入力部分!$I$48)-入力部分!$I$30)/入力部分!$I$39)^2)","v":9.2532212287157034E-96},2.8592453596731524E-93]
[null,null,null,null,null,null,null,null,310,{"$f":"(入力部分!D$7*N316+入力部分!D$8*S316+入力部分!D$9*X316+入力部分!D$10*AC316)/(SUM(入力部分!D$7:D$10))","v":1.4837521760894916E-4},null,null,310,{"$f":"1/入力部分!$I$36/(2*3.14)^0.5*EXP(-1/2*(((M316+入力部分!$I$45)-入力部分!$I$27)/入力部分!$I$36)^2)","v":1.1410940044252551E-3},0.3537391413718291,null,null,310,{"$f":"1/入力部分!$I$37/(2*3.14)^0.5*EXP(-1/2*(((R316+入力部分!$I$46)-入力部分!$I$28)/入力部分!$I$37)^2)","v":1.5302578815374452E-5},4.7437994327660798E-3,null,null,310,{"$f":"1/入力部分!$I$38/(2*3.14)^0.5*EXP(-1/2*(((W316+入力部分!$I$47)-入力部分!$I$29)/入力部分!$I$38)^2)","v":1.0741664201670963E-16},3.3299159025179986E-14,null,null,310,{"$f":"1/入力部分!$I$39/(2*3.14)^0.5*EXP(-1/2*(((AB316+入力部分!$I$48)-入力部分!$I$30)/入力部分!$I$39)^2)","v":1.635219894574313E-96},5.06918167318037E-94]
[null,null,null,null,null,null,null,null,311,{"$f":"(入力部分!D$7*N317+入力部分!D$8*S317+入力部分!D$9*X317+入力部分!D$10*AC317)/(SUM(入力部分!D$7:D$10))","v":1.457585217390587E-4},null,null,311,{"$f":"1/入力部分!$I$36/(2*3.14)^0.5*EXP(-1/2*(((M317+入力部分!$I$45)-入力部分!$I$27)/入力部分!$I$36)^2)","v":1.1228713364699143E-3},0.34921298564214337,null,null,311,{"$f":"1/入力部分!$I$37/(2*3.14)^0.5*EXP(-1/2*(((R317+入力部分!$I$46)-入力部分!$I$28)/入力部分!$I$37)^2)","v":1.4398945814130988E-5},4.4780721481947373E-3,null,null,311,{"$f":"1/入力部分!$I$38/(2*3.14)^0.5*EXP(-1/2*(((W317+入力部分!$I$47)-入力部分!$I$29)/入力部分!$I$38)^2)","v":8.1142966384704144E-17},2.5235462545642988E-14,null,null,311,{"$f":"1/入力部分!$I$39/(2*3.14)^0.5*EXP(-1/2*(((AB317+入力部分!$I$48)-入力部分!$I$30)/入力部分!$I$39)^2)","v":2.869745906424957E-97},8.9249097689816161E-95]
[null,null,null,null,null,null,null,null,312,{"$f":"(入力部分!D$7*N318+入力部分!D$8*S318+入力部分!D$9*X318+入力部分!D$10*AC318)/(SUM(入力部分!D$7:D$10))","v":1.4318258922618962E-4},null,null,312,{"$f":"1/入力部分!$I$36/(2*3.14)^0.5*EXP(-1/2*(((M318+入力部分!$I$45)-入力部分!$I$27)/入力部分!$I$36)^2)","v":1.1048269431960446E-3},0.34470600627716591,null,null,312,{"$f":"1/入力部分!$I$37/(2*3.14)^0.5*EXP(-1/2*(((R318+入力部分!$I$46)-入力部分!$I$28)/入力部分!$I$37)^2)","v":1.3544590204450013E-5},4.225912143788404E-3,null,null,312,{"$f":"1/入力部分!$I$38/(2*3.14)^0.5*EXP(-1/2*(((W318+入力部分!$I$47)-入力部分!$I$29)/入力部分!$I$38)^2)","v":6.1221869810157303E-17},1.9101223380769079E-14,null,null,312,{"$f":"1/入力部分!$I$39/(2*3.14)^0.5*EXP(-1/2*(((AB318+入力部分!$I$48)-入力部分!$I$30)/入力部分!$I$39)^2)","v":5.0014369000889684E-98},1.5604483128277581E-95]
[null,null,null,null,null,null,null,null,313,{"$f":"(入力部分!D$7*N319+入力部分!D$8*S319+入力部分!D$9*X319+入力部分!D$10*AC319)/(SUM(入力部分!D$7:D$10))","v":1.4064660944080652E-4},null,null,313,{"$f":"1/入力部分!$I$36/(2*3.14)^0.5*EXP(-1/2*(((M319+入力部分!$I$45)-入力部分!$I$27)/入力部分!$I$36)^2)","v":1.0869616121345076E-3},0.34021898459810085,null,null,313,{"$f":"1/入力部分!$I$37/(2*3.14)^0.5*EXP(-1/2*(((R319+入力部分!$I$46)-入力部分!$I$28)/入力部分!$I$37)^2)","v":1.2737087797284073E-5},3.9867084805499152E-3,null,null,313,{"$f":"1/入力部分!$I$38/(2*3.14)^0.5*EXP(-1/2*(((W319+入力部分!$I$47)-入力部分!$I$29)/入力部分!$I$38)^2)","v":4.6135868330901621E-17},1.4440526787572209E-14,null,null,313,{"$f":"1/入力部分!$I$39/(2*3.14)^0.5*EXP(-1/2*(((AB319+入力部分!$I$48)-入力部分!$I$30)/入力部分!$I$39)^2)","v":8.6562583359283057E-99},2.7094088591455597E-96]
[null,null,null,null,null,null,null,null,314,{"$f":"(入力部分!D$7*N320+入力部分!D$8*S320+入力部分!D$9*X320+入力部分!D$10*AC320)/(SUM(入力部分!D$7:D$10))","v":1.3814980202817668E-4},null,null,314,{"$f":"1/入力部分!$I$36/(2*3.14)^0.5*EXP(-1/2*(((M320+入力部分!$I$45)-入力部分!$I$27)/入力部分!$I$36)^2)","v":1.0692760637582561E-3},0.33575268402009245,null,null,314,{"$f":"1/入力部分!$I$37/(2*3.14)^0.5*EXP(-1/2*(((R320+入力部分!$I$46)-入力部分!$I$28)/入力部分!$I$37)^2)","v":1.1974117489029247E-5},3.7598728915551835E-3,null,null,314,{"$f":"1/入力部分!$I$38/(2*3.14)^0.5*EXP(-1/2*(((W320+入力部分!$I$47)-入力部分!$I$29)/入力部分!$I$38)^2)","v":3.472539614056091E-17},1.0903774388136125E-14,null,null,314,{"$f":"1/入力部分!$I$39/(2*3.14)^0.5*EXP(-1/2*(((AB320+入力部分!$I$48)-入力部分!$I$30)/入力部分!$I$39)^2)","v":1.4878175939119692E-99},4.6717472448835836E-97]
[null,null,null,null,null,null,null,null,315,{"$f":"(入力部分!D$7*N321+入力部分!D$8*S321+入力部分!D$9*X321+入力部分!D$10*AC321)/(SUM(入力部分!D$7:D$10))","v":1.3569141572059089E-4},null,null,315,{"$f":"1/入力部分!$I$36/(2*3.14)^0.5*EXP(-1/2*(((M321+入力部分!$I$45)-入力部分!$I$27)/入力部分!$I$36)^2)","v":1.0517709522750076E-3},0.33130784996662738,null,null,315,{"$f":"1/入力部分!$I$37/(2*3.14)^0.5*EXP(-1/2*(((R321+入力部分!$I$46)-入力部分!$I$28)/入力部分!$I$37)^2)","v":1.1253457829889128E-5},3.5448392164150752E-3,null,null,315,{"$f":"1/入力部分!$I$38/(2*3.14)^0.5*EXP(-1/2*(((W321+入力部分!$I$47)-入力部分!$I$29)/入力部分!$I$38)^2)","v":2.6105506208740367E-17},8.2232344557532163E-15,null,null,315,{"$f":"1/入力部分!$I$39/(2*3.14)^0.5*EXP(-1/2*(((AB321+入力部分!$I$48)-入力部分!$I$30)/入力部分!$I$39)^2)","v":2.5395293548302575E-100},7.9995174677153107E-98]
[null,null,null,null,null,null,null,null,316,{"$f":"(入力部分!D$7*N322+入力部分!D$8*S322+入力部分!D$9*X322+入力部分!D$10*AC322)/(SUM(入力部分!D$7:D$10))","v":1.3327072717445748E-4},null,null,316,{"$f":"1/入力部分!$I$36/(2*3.14)^0.5*EXP(-1/2*(((M322+入力部分!$I$45)-入力部分!$I$27)/入力部分!$I$36)^2)","v":1.0344468664405849E-3},0.32688520979522484,null,null,316,{"$f":"1/入力部分!$I$37/(2*3.14)^0.5*EXP(-1/2*(((R322+入力部分!$I$46)-入力部分!$I$28)/入力部分!$I$37)^2)","v":1.0572983651678566E-5},3.341062833930427E-3,null,null,316,{"$f":"1/入力部分!$I$38/(2*3.14)^0.5*EXP(-1/2*(((W322+入力部分!$I$47)-入力部分!$I$29)/入力部分!$I$38)^2)","v":1.9601686072314947E-17},6.1941327988515233E-15,null,null,316,{"$f":"1/入力部分!$I$39/(2*3.14)^0.5*EXP(-1/2*(((AB322+入力部分!$I$48)-入力部分!$I$30)/入力部分!$I$39)^2)","v":4.3046797822931009E-101},1.3602788112046199E-98]
[null,null,null,null,null,null,null,null,317,{"$f":"(入力部分!D$7*N323+入力部分!D$8*S323+入力部分!D$9*X323+入力部分!D$10*AC323)/(SUM(入力部分!D$7:D$10))","v":1.3088703983304834E-4},null,null,317,{"$f":"1/入力部分!$I$36/(2*3.14)^0.5*EXP(-1/2*(((M323+入力部分!$I$45)-入力部分!$I$27)/入力部分!$I$36)^2)","v":1.0173043303921001E-3},0.32248547273429573,null,null,317,{"$f":"1/入力部分!$I$37/(2*3.14)^0.5*EXP(-1/2*(((R323+入力部分!$I$46)-入力部分!$I$28)/入力部分!$I$37)^2)","v":9.9306627574190593E-6},3.1480200941018418E-3,null,null,317,{"$f":"1/入力部分!$I$38/(2*3.14)^0.5*EXP(-1/2*(((W323+入力部分!$I$47)-入力部分!$I$29)/入力部分!$I$38)^2)","v":1.4700467303335395E-17},4.6600481351573202E-15,null,null,317,{"$f":"1/入力部分!$I$39/(2*3.14)^0.5*EXP(-1/2*(((AB323+入力部分!$I$48)-入力部分!$I$30)/入力部分!$I$39)^2)","v":7.2462369287714329E-102},2.2970571064205442E-99]
[null,null,null,null,null,null,null,null,318,{"$f":"(入力部分!D$7*N324+入力部分!D$8*S324+入力部分!D$9*X324+入力部分!D$10*AC324)/(SUM(入力部分!D$7:D$10))","v":1.2853968281557488E-4},null,null,318,{"$f":"1/入力部分!$I$36/(2*3.14)^0.5*EXP(-1/2*(((M324+入力部分!$I$45)-入力部分!$I$27)/入力部分!$I$36)^2)","v":1.0003438045001461E-3},0.31810932983104645,null,null,318,{"$f":"1/入力部分!$I$37/(2*3.14)^0.5*EXP(-1/2*(((R324+入力部分!$I$46)-入力部分!$I$28)/入力部分!$I$37)^2)","v":9.3245526748103383E-6},2.9652077505896877E-3,null,null,318,{"$f":"1/入力部分!$I$38/(2*3.14)^0.5*EXP(-1/2*(((W324+入力部分!$I$47)-入力部分!$I$29)/入力部分!$I$38)^2)","v":1.101146877866221E-17},3.5016470716145827E-15,null,null,318,{"$f":"1/入力部分!$I$39/(2*3.14)^0.5*EXP(-1/2*(((AB324+入力部分!$I$48)-入力部分!$I$30)/入力部分!$I$39)^2)","v":1.2113461838350801E-102},3.852080864595555E-100]
[null,null,null,null,null,null,null,null,319,{"$f":"(入力部分!D$7*N325+入力部分!D$8*S325+入力部分!D$9*X325+入力部分!D$10*AC325)/(SUM(入力部分!D$7:D$10))","v":1.2622800983317565E-4},null,null,319,{"$f":"1/入力部分!$I$36/(2*3.14)^0.5*EXP(-1/2*(((M325+入力部分!$I$45)-入力部分!$I$27)/入力部分!$I$36)^2)","v":9.8356568623917035E-4},0.31375745391029536,null,null,319,{"$f":"1/入力部分!$I$37/(2*3.14)^0.5*EXP(-1/2*(((R325+入力部分!$I$46)-入力部分!$I$28)/入力部分!$I$37)^2)","v":8.7527974754060936E-6},2.7921423946545439E-3,null,null,319,{"$f":"1/入力部分!$I$38/(2*3.14)^0.5*EXP(-1/2*(((W325+入力部分!$I$47)-入力部分!$I$29)/入力部分!$I$38)^2)","v":8.2382651066910513E-18},2.6280065690344454E-15,null,null,319,{"$f":"1/入力部分!$I$39/(2*3.14)^0.5*EXP(-1/2*(((AB325+入力部分!$I$48)-入力部分!$I$30)/入力部分!$I$39)^2)","v":2.0109815543241011E-103},6.4150311582938822E-101]
[null,null,null,null,null,null,null,null,320,{"$f":"(入力部分!D$7*N326+入力部分!D$8*S326+入力部分!D$9*X326+入力部分!D$10*AC326)/(SUM(入力部分!D$7:D$10))","v":1.2395139813230452E-4},null,null,320,{"$f":"1/入力部分!$I$36/(2*3.14)^0.5*EXP(-1/2*(((M326+入力部分!$I$45)-入力部分!$I$27)/入力部分!$I$36)^2)","v":9.66970311075193E-4},0.30943049954406177,null,null,320,{"$f":"1/入力部分!$I$37/(2*3.14)^0.5*EXP(-1/2*(((R326+入力部分!$I$46)-入力部分!$I$28)/入力部分!$I$37)^2)","v":8.2136246610769699E-6},2.6283598915446305E-3,null,null,320,{"$f":"1/入力部分!$I$38/(2*3.14)^0.5*EXP(-1/2*(((W326+入力部分!$I$47)-入力部分!$I$29)/入力部分!$I$38)^2)","v":6.1560576100382545E-18},1.9699384352122416E-15,null,null,320,{"$f":"1/入力部分!$I$39/(2*3.14)^0.5*EXP(-1/2*(((AB326+入力部分!$I$48)-入力部分!$I$30)/入力部分!$I$39)^2)","v":3.3153697055224095E-104},1.060918305767171E-101]
[null,null,null,null,null,null,null,null,321,{"$f":"(入力部分!D$7*N327+入力部分!D$8*S327+入力部分!D$9*X327+入力部分!D$10*AC327)/(SUM(入力部分!D$7:D$10))","v":1.2170924746592398E-4},null,null,321,{"$f":"1/入力部分!$I$36/(2*3.14)^0.5*EXP(-1/2*(((M327+入力部分!$I$45)-入力部分!$I$27)/入力部分!$I$36)^2)","v":9.5055795337005314E-4},0.30512910303178703,null,null,321,{"$f":"1/入力部分!$I$37/(2*3.14)^0.5*EXP(-1/2*(((R327+入力部分!$I$46)-入力部分!$I$28)/入力部分!$I$37)^2)","v":7.7053421191098226E-6},2.4734148202342531E-3,null,null,321,{"$f":"1/入力部分!$I$38/(2*3.14)^0.5*EXP(-1/2*(((W327+入力部分!$I$47)-入力部分!$I$29)/入力部分!$I$38)^2)","v":4.5945817986943139E-18},1.4748607573808748E-15,null,null,321,{"$f":"1/入力部分!$I$39/(2*3.14)^0.5*EXP(-1/2*(((AB327+入力部分!$I$48)-入力部分!$I$30)/入力部分!$I$39)^2)","v":5.4280008693048722E-105},{"$f":"AB327*$AC327","v":1.742388279046864E-102}]
[null,null,null,null,null,null,null,null,322,{"$f":"(入力部分!D$7*N328+入力部分!D$8*S328+入力部分!D$9*X328+入力部分!D$10*AC328)/(SUM(入力部分!D$7:D$10))","v":1.1950097909282003E-4},null,null,322,{"$f":"1/入力部分!$I$36/(2*3.14)^0.5*EXP(-1/2*(((M328+入力部分!$I$45)-入力部分!$I$27)/入力部分!$I$36)^2)","v":9.3432882730134516E-4},{"$f":"M328*$N328","v":0.30085388239103317},null,null,322,{"$f":"1/入力部分!$I$37/(2*3.14)^0.5*EXP(-1/2*(((R328+入力部分!$I$46)-入力部分!$I$28)/入力部分!$I$37)^2)","v":7.2263351470694019E-6},{"$f":"R328*$S328","v":2.3268799173563476E-3},null,null,322,{"$f":"1/入力部分!$I$38/(2*3.14)^0.5*EXP(-1/2*(((W328+入力部分!$I$47)-入力部分!$I$29)/入力部分!$I$38)^2)","v":3.4250404155991309E-18},{"$f":"W328*$X328","v":1.1028630138229201E-15},null,null,322,{"$f":"1/入力部分!$I$39/(2*3.14)^0.5*EXP(-1/2*(((AB328+入力部分!$I$48)-入力部分!$I$30)/入力部分!$I$39)^2)","v":8.8253496050763803E-106},2.8417625728345944E-103]
[null,null,null,null,null,null,null,null,323,{"$f":"(入力部分!D$7*N329+入力部分!D$8*S329+入力部分!D$9*X329+入力部分!D$10*AC329)/(SUM(入力部分!D$7:D$10))","v":1.1732603480528079E-4},null,null,323,{"$f":"1/入力部分!$I$36/(2*3.14)^0.5*EXP(-1/2*(((M329+入力部分!$I$45)-入力部分!$I$27)/入力部分!$I$36)^2)","v":9.1828308779722944E-4},0.29660543735850509,null,null,323,{"$f":"1/入力部分!$I$37/(2*3.14)^0.5*EXP(-1/2*(((R329+入力部分!$I$46)-入力部分!$I$28)/入力部分!$I$37)^2)","v":6.7750635483372589E-6},2.1883455261129344E-3,null,null,323,{"$f":"1/入力部分!$I$38/(2*3.14)^0.5*EXP(-1/2*(((W329+入力部分!$I$47)-入力部分!$I$29)/入力部分!$I$38)^2)","v":2.5501270246320022E-18},8.2369102895613674E-16,null,null,323,{"$f":"1/入力部分!$I$39/(2*3.14)^0.5*EXP(-1/2*(((AB329+入力部分!$I$48)-入力部分!$I$30)/入力部分!$I$39)^2)","v":1.4249774586704268E-106},4.6026771915054789E-104]
[null,null,null,null,null,null,null,null,324,{"$f":"(入力部分!D$7*N330+入力部分!D$8*S330+入力部分!D$9*X330+入力部分!D$10*AC330)/(SUM(入力部分!D$7:D$10))","v":1.1518387598530306E-4},null,null,324,{"$f":"1/入力部分!$I$36/(2*3.14)^0.5*EXP(-1/2*(((M330+入力部分!$I$45)-入力部分!$I$27)/入力部分!$I$36)^2)","v":9.0242083148529741E-4},0.29238434940123637,null,null,324,{"$f":"1/入力部分!$I$37/(2*3.14)^0.5*EXP(-1/2*(((R330+入力部分!$I$46)-入力部分!$I$28)/入力部分!$I$37)^2)","v":6.3500587990410808E-6},2.0574190508893101E-3,null,null,324,{"$f":"1/入力部分!$I$38/(2*3.14)^0.5*EXP(-1/2*(((W330+入力部分!$I$47)-入力部分!$I$29)/入力部分!$I$38)^2)","v":1.8964191280219161E-18},6.1443979747910082E-16,null,null,324,{"$f":"1/入力部分!$I$39/(2*3.14)^0.5*EXP(-1/2*(((AB330+入力部分!$I$48)-入力部分!$I$30)/入力部分!$I$39)^2)","v":2.2849049393505342E-107},7.4030920034957313E-105]
[null,null,null,null,null,null,null,null,325,{"$f":"(入力部分!D$7*N331+入力部分!D$8*S331+入力部分!D$9*X331+入力部分!D$10*AC331)/(SUM(入力部分!D$7:D$10))","v":1.1307398268942119E-4},null,null,325,{"$f":"1/入力部分!$I$36/(2*3.14)^0.5*EXP(-1/2*(((M331+入力部分!$I$45)-入力部分!$I$27)/入力部分!$I$36)^2)","v":8.8674209765467172E-4},0.28819118173776831,null,null,325,{"$f":"1/入力部分!$I$37/(2*3.14)^0.5*EXP(-1/2*(((R331+入力部分!$I$46)-入力部分!$I$28)/入力部分!$I$37)^2)","v":5.949921286898308E-6},1.9337244182419501E-3,null,null,325,{"$f":"1/入力部分!$I$38/(2*3.14)^0.5*EXP(-1/2*(((W331+入力部分!$I$47)-入力部分!$I$29)/入力部分!$I$38)^2)","v":1.4085855892734503E-18},4.5779031651387134E-16,null,null,325,{"$f":"1/入力部分!$I$39/(2*3.14)^0.5*EXP(-1/2*(((AB331+入力部分!$I$48)-入力部分!$I$30)/入力部分!$I$39)^2)","v":3.6384159316963589E-108},1.1824851778013167E-105]
[null,null,null,null,null,null,null,null,326,{"$f":"(入力部分!D$7*N332+入力部分!D$8*S332+入力部分!D$9*X332+入力部分!D$10*AC332)/(SUM(入力部分!D$7:D$10))","v":1.1099585276218597E-4},null,null,326,{"$f":"1/入力部分!$I$36/(2*3.14)^0.5*EXP(-1/2*(((M332+入力部分!$I$45)-入力部分!$I$27)/入力部分!$I$36)^2)","v":8.7124686923053206E-4},0.28402647936915343,null,null,326,{"$f":"1/入力部分!$I$37/(2*3.14)^0.5*EXP(-1/2*(((R332+入力部分!$I$46)-入力部分!$I$28)/入力部分!$I$37)^2)","v":5.573317622317901E-6},1.8169015448756358E-3,null,null,326,{"$f":"1/入力部分!$I$38/(2*3.14)^0.5*EXP(-1/2*(((W332+入力部分!$I$47)-入力部分!$I$29)/入力部分!$I$38)^2)","v":1.0449813875368424E-18},3.4066393233701062E-16,null,null,326,{"$f":"1/入力部分!$I$39/(2*3.14)^0.5*EXP(-1/2*(((AB332+入力部分!$I$48)-入力部分!$I$30)/入力部分!$I$39)^2)","v":5.7536126286611759E-109},1.8756777169435433E-106]
[null,null,null,null,null,null,null,null,327,{"$f":"(入力部分!D$7*N333+入力部分!D$8*S333+入力部分!D$9*X333+入力部分!D$10*AC333)/(SUM(入力部分!D$7:D$10))","v":1.0894900097825844E-4},null,null,327,{"$f":"1/入力部分!$I$36/(2*3.14)^0.5*EXP(-1/2*(((M333+入力部分!$I$45)-入力部分!$I$27)/入力部分!$I$36)^2)","v":8.5593507376026054E-4},0.2798907691196052,null,null,327,{"$f":"1/入力部分!$I$37/(2*3.14)^0.5*EXP(-1/2*(((R333+入力部分!$I$46)-入力部分!$I$28)/入力部分!$I$37)^2)","v":5.2189780219351533E-6},1.7066058131727951E-3,null,null,327,{"$f":"1/入力部分!$I$38/(2*3.14)^0.5*EXP(-1/2*(((W333+入力部分!$I$47)-入力部分!$I$29)/入力部分!$I$38)^2)","v":7.7430180156997285E-19},2.5319668911338114E-16,null,null,327,{"$f":"1/入力部分!$I$39/(2*3.14)^0.5*EXP(-1/2*(((AB333+入力部分!$I$48)-入力部分!$I$30)/入力部分!$I$39)^2)","v":9.0355160010298431E-110},2.9546137323367589E-107]
[null,null,null,null,null,null,null,null,328,{"$f":"(入力部分!D$7*N334+入力部分!D$8*S334+入力部分!D$9*X334+入力部分!D$10*AC334)/(SUM(入力部分!D$7:D$10))","v":1.0693295821302474E-4},null,null,328,{"$f":"1/入力部分!$I$36/(2*3.14)^0.5*EXP(-1/2*(((M334+入力部分!$I$45)-入力部分!$I$27)/入力部分!$I$36)^2)","v":8.4080658441040997E-4},0.27578455968661447,null,null,328,{"$f":"1/入力部分!$I$37/(2*3.14)^0.5*EXP(-1/2*(((R334+入力部分!$I$46)-入力部分!$I$28)/入力部分!$I$37)^2)","v":4.8856937645956254E-6},1.6025075547873651E-3,null,null,328,{"$f":"1/入力部分!$I$38/(2*3.14)^0.5*EXP(-1/2*(((W334+入力部分!$I$47)-入力部分!$I$29)/入力部分!$I$38)^2)","v":5.7304454760780512E-19},1.8795861161536007E-16,null,null,328,{"$f":"1/入力部分!$I$39/(2*3.14)^0.5*EXP(-1/2*(((AB334+入力部分!$I$48)-入力部分!$I$30)/入力部分!$I$39)^2)","v":1.4091244996682875E-110},4.6219283589119834E-108]
[null,null,null,null,null,null,null,null,329,{"$f":"(入力部分!D$7*N335+入力部分!D$8*S335+入力部分!D$9*X335+入力部分!D$10*AC335)/(SUM(入力部分!D$7:D$10))","v":1.0494727064158237E-4},null,null,329,{"$f":"1/入力部分!$I$36/(2*3.14)^0.5*EXP(-1/2*(((M335+入力部分!$I$45)-入力部分!$I$27)/入力部分!$I$36)^2)","v":8.2586122097369258E-4},0.27170834170034486,null,null,329,{"$f":"1/入力部分!$I$37/(2*3.14)^0.5*EXP(-1/2*(((R335+入力部分!$I$46)-入力部分!$I$28)/入力部分!$I$37)^2)","v":4.5723147196551808E-6},1.5042915427665544E-3,null,null,329,{"$f":"1/入力部分!$I$38/(2*3.14)^0.5*EXP(-1/2*(((W335+入力部分!$I$47)-入力部分!$I$29)/入力部分!$I$38)^2)","v":4.2358727011191457E-19},1.393602118668199E-16,null,null,329,{"$f":"1/入力部分!$I$39/(2*3.14)^0.5*EXP(-1/2*(((AB335+入力部分!$I$48)-入力部分!$I$30)/入力部分!$I$39)^2)","v":2.1823773135355691E-111},7.1800213615320221E-109]
[null,null,null,null,null,null,null,null,330,{"$f":"(入力部分!D$7*N336+入力部分!D$8*S336+入力部分!D$9*X336+入力部分!D$10*AC336)/(SUM(入力部分!D$7:D$10))","v":1.0299149896589789E-4},null,null,330,{"$f":"1/入力部分!$I$36/(2*3.14)^0.5*EXP(-1/2*(((M336+入力部分!$I$45)-入力部分!$I$27)/入力部分!$I$36)^2)","v":8.1109875088521024E-4},0.26766258779211938,null,null,330,{"$f":"1/入力部分!$I$37/(2*3.14)^0.5*EXP(-1/2*(((R336+入力部分!$I$46)-入力部分!$I$28)/入力部分!$I$37)^2)","v":4.277746947324056E-6},1.4116564926169384E-3,null,null,330,{"$f":"1/入力部分!$I$38/(2*3.14)^0.5*EXP(-1/2*(((W336+入力部分!$I$47)-入力部分!$I$29)/入力部分!$I$38)^2)","v":3.127330753462258E-19},1.0320191486425451E-16,null,null,330,{"$f":"1/入力部分!$I$39/(2*3.14)^0.5*EXP(-1/2*(((AB336+入力部分!$I$48)-入力部分!$I$30)/入力部分!$I$39)^2)","v":3.3565597082563992E-112},1.1076647037246117E-109]
[null,null,null,null,null,null,null,null,331,{"$f":"(入力部分!D$7*N337+入力部分!D$8*S337+入力部分!D$9*X337+入力部分!D$10*AC337)/(SUM(入力部分!D$7:D$10))","v":1.0106521766988796E-4},null,null,331,{"$f":"1/入力部分!$I$36/(2*3.14)^0.5*EXP(-1/2*(((M337+入力部分!$I$45)-入力部分!$I$27)/入力部分!$I$36)^2)","v":7.9651889024714398E-4},0.26364775267180468,null,null,331,{"$f":"1/入力部分!$I$37/(2*3.14)^0.5*EXP(-1/2*(((R337+入力部分!$I$46)-入力部分!$I$28)/入力部分!$I$37)^2)","v":4.0009503706530968E-6},1.324314572686175E-3,null,null,331,{"$f":"1/入力部分!$I$38/(2*3.14)^0.5*EXP(-1/2*(((W337+入力部分!$I$47)-入力部分!$I$29)/入力部分!$I$38)^2)","v":2.3061159080329201E-19},7.6332436555889659E-17,null,null,331,{"$f":"1/入力部分!$I$39/(2*3.14)^0.5*EXP(-1/2*(((AB337+入力部分!$I$48)-入力部分!$I$30)/入力部分!$I$39)^2)","v":5.1267599363964686E-113},1.6969575389472312E-110]
[null,null,null,null,null,null,null,null,332,{"$f":"(入力部分!D$7*N338+入力部分!D$8*S338+入力部分!D$9*X338+入力部分!D$10*AC338)/(SUM(入力部分!D$7:D$10))","v":9.9168014302130928E-5},null,null,332,{"$f":"1/入力部分!$I$36/(2*3.14)^0.5*EXP(-1/2*(((M338+入力部分!$I$45)-入力部分!$I$27)/入力部分!$I$36)^2)","v":7.8212130486112765E-4},0.2596642732138944,null,null,332,{"$f":"1/入力部分!$I$37/(2*3.14)^0.5*EXP(-1/2*(((R338+入力部分!$I$46)-入力部分!$I$28)/入力部分!$I$37)^2)","v":3.7409365186397447E-6},1.2419909241883952E-3,null,null,332,{"$f":"1/入力部分!$I$38/(2*3.14)^0.5*EXP(-1/2*(((W338+入力部分!$I$47)-入力部分!$I$29)/入力部分!$I$38)^2)","v":1.6984972499377785E-19},5.6390108697934251E-17,null,null,332,{"$f":"1/入力部分!$I$39/(2*3.14)^0.5*EXP(-1/2*(((AB338+入力部分!$I$48)-入力部分!$I$30)/入力部分!$I$39)^2)","v":7.7763473765529453E-114},2.5817473290155779E-111]
[null,null,null,null,null,null,null,null,333,{"$f":"(入力部分!D$7*N339+入力部分!D$8*S339+入力部分!D$9*X339+入力部分!D$10*AC339)/(SUM(入力部分!D$7:D$10))","v":9.7299488785875914E-5},null,null,333,{"$f":"1/入力部分!$I$36/(2*3.14)^0.5*EXP(-1/2*(((M339+入力部分!$I$45)-入力部分!$I$27)/入力部分!$I$36)^2)","v":7.6790561126754693E-4},0.25571256855209312,null,null,333,{"$f":"1/入力部分!$I$37/(2*3.14)^0.5*EXP(-1/2*(((R339+入力部分!$I$46)-入力部分!$I$28)/入力部分!$I$37)^2)","v":3.4967663398200656E-6},1.1644231911600818E-3,null,null,333,{"$f":"1/入力部分!$I$38/(2*3.14)^0.5*EXP(-1/2*(((W339+入力部分!$I$47)-入力部分!$I$29)/入力部分!$I$38)^2)","v":1.2494675018558728E-19},4.1607267811800569E-17,null,null,333,{"$f":"1/入力部分!$I$39/(2*3.14)^0.5*EXP(-1/2*(((AB339+入力部分!$I$48)-入力部分!$I$30)/入力部分!$I$39)^2)","v":1.171365394697E-114},3.9006467643410099E-112]
[null,null,null,null,null,null,null,null,334,{"$f":"(入力部分!D$7*N340+入力部分!D$8*S340+入力部分!D$9*X340+入力部分!D$10*AC340)/(SUM(入力部分!D$7:D$10))","v":9.5459252755979133E-5},null,null,334,{"$f":"1/入力部分!$I$36/(2*3.14)^0.5*EXP(-1/2*(((M340+入力部分!$I$45)-入力部分!$I$27)/入力部分!$I$36)^2)","v":7.5387137779100348E-4},0.25179304018219517,null,null,334,{"$f":"1/入力部分!$I$37/(2*3.14)^0.5*EXP(-1/2*(((R340+入力部分!$I$46)-入力部分!$I$28)/入力部分!$I$37)^2)","v":3.267548085609803E-6},1.0913610605936743E-3,null,null,334,{"$f":"1/入力部分!$I$38/(2*3.14)^0.5*EXP(-1/2*(((W340+入力部分!$I$47)-入力部分!$I$29)/入力部分!$I$38)^2)","v":9.1803974127502149E-20},3.0662527358585715E-17,null,null,334,{"$f":"1/入力部分!$I$39/(2*3.14)^0.5*EXP(-1/2*(((AB340+入力部分!$I$48)-入力部分!$I$30)/入力部分!$I$39)^2)","v":1.7522383964442143E-115},5.852476244123676E-113]
[null,null,null,null,null,null,null,null,335,{"$f":"(入力部分!D$7*N341+入力部分!D$8*S341+入力部分!D$9*X341+入力部分!D$10*AC341)/(SUM(入力部分!D$7:D$10))","v":9.3646928922361969E-5},null,null,335,{"$f":"1/入力部分!$I$36/(2*3.14)^0.5*EXP(-1/2*(((M341+入力部分!$I$45)-入力部分!$I$27)/入力部分!$I$36)^2)","v":7.4001812559120557E-4},0.24790607207305387,null,null,335,{"$f":"1/入力部分!$I$37/(2*3.14)^0.5*EXP(-1/2*(((R341+入力部分!$I$46)-入力部分!$I$28)/入力部分!$I$37)^2)","v":3.0524352625633447E-6},1.0225658129587205E-3,null,null,335,{"$f":"1/入力部分!$I$38/(2*3.14)^0.5*EXP(-1/2*(((W341+入力部分!$I$47)-入力部分!$I$29)/入力部分!$I$38)^2)","v":6.7371218058243895E-20},2.2569358049511704E-17,null,null,335,{"$f":"1/入力部分!$I$39/(2*3.14)^0.5*EXP(-1/2*(((AB341+入力部分!$I$48)-入力部分!$I$30)/入力部分!$I$39)^2)","v":2.6030233378563858E-116},8.7201281818188932E-114]
[null,null,null,null,null,null,null,null,336,{"$f":"(入力部分!D$7*N342+入力部分!D$8*S342+入力部分!D$9*X342+入力部分!D$10*AC342)/(SUM(入力部分!D$7:D$10))","v":9.186215045955513E-5},null,null,336,{"$f":"1/入力部分!$I$36/(2*3.14)^0.5*EXP(-1/2*(((M342+入力部分!$I$45)-入力部分!$I$27)/入力部分!$I$36)^2)","v":7.2634532971854249E-4},0.24405203078543028,null,null,336,{"$f":"1/入力部分!$I$37/(2*3.14)^0.5*EXP(-1/2*(((R342+入力部分!$I$46)-入力部分!$I$28)/入力部分!$I$37)^2)","v":2.8506246526327899E-6},9.5780988328461744E-4,null,null,336,{"$f":"1/入力部分!$I$38/(2*3.14)^0.5*EXP(-1/2*(((W342+入力部分!$I$47)-入力部分!$I$29)/入力部分!$I$38)^2)","v":4.9381436258092965E-20},1.6592162582719237E-17,null,null,336,{"$f":"1/入力部分!$I$39/(2*3.14)^0.5*EXP(-1/2*(((AB342+入力部分!$I$48)-入力部分!$I$30)/入力部分!$I$39)^2)","v":3.8401394641139479E-117},1.2902868599422864E-114]
[null,null,null,null,null,null,null,null,337,{"$f":"(入力部分!D$7*N343+入力部分!D$8*S343+入力部分!D$9*X343+入力部分!D$10*AC343)/(SUM(入力部分!D$7:D$10))","v":9.0104560421863921E-5},null,null,337,{"$f":"1/入力部分!$I$36/(2*3.14)^0.5*EXP(-1/2*(((M343+入力部分!$I$45)-入力部分!$I$27)/入力部分!$I$36)^2)","v":7.1285242017361892E-4},0.24023126559850957,null,null,337,{"$f":"1/入力部分!$I$37/(2*3.14)^0.5*EXP(-1/2*(((R343+入力部分!$I$46)-入力部分!$I$28)/入力部分!$I$37)^2)","v":2.6613544004307427E-6},8.9687643294516031E-4,null,null,337,{"$f":"1/入力部分!$I$38/(2*3.14)^0.5*EXP(-1/2*(((W343+入力部分!$I$47)-入力部分!$I$29)/入力部分!$I$38)^2)","v":3.6151759187913371E-20},1.2183142846326807E-17,null,null,337,{"$f":"1/入力部分!$I$39/(2*3.14)^0.5*EXP(-1/2*(((AB343+入力部分!$I$48)-入力部分!$I$30)/入力部分!$I$39)^2)","v":5.6260035061336991E-118},1.8959631815670565E-115]
[null,null,null,null,null,null,null,null,338,{"$f":"(入力部分!D$7*N344+入力部分!D$8*S344+入力部分!D$9*X344+入力部分!D$10*AC344)/(SUM(入力部分!D$7:D$10))","v":8.8373811183665665E-5},null,null,338,{"$f":"1/入力部分!$I$36/(2*3.14)^0.5*EXP(-1/2*(((M344+入力部分!$I$45)-入力部分!$I$27)/入力部分!$I$36)^2)","v":6.9953878297003742E-4},0.23644410864387264,null,null,338,{"$f":"1/入力部分!$I$37/(2*3.14)^0.5*EXP(-1/2*(((R344+入力部分!$I$46)-入力部分!$I$28)/入力部分!$I$37)^2)","v":2.4839021664292967E-6},8.3955893225310231E-4,null,null,338,{"$f":"1/入力部分!$I$38/(2*3.14)^0.5*EXP(-1/2*(((W344+入力部分!$I$47)-入力部分!$I$29)/入力部分!$I$38)^2)","v":2.6434527617380057E-20},8.9348703346744587E-18,null,null,338,{"$f":"1/入力部分!$I$39/(2*3.14)^0.5*EXP(-1/2*(((AB344+入力部分!$I$48)-入力部分!$I$30)/入力部分!$I$39)^2)","v":8.1853464501554554E-119},2.7666471001525441E-116]
[null,null,null,null,null,null,null,null,339,{"$f":"(入力部分!D$7*N345+入力部分!D$8*S345+入力部分!D$9*X345+入力部分!D$10*AC345)/(SUM(入力部分!D$7:D$10))","v":8.6669563904326452E-5},null,null,339,{"$f":"1/入力部分!$I$36/(2*3.14)^0.5*EXP(-1/2*(((M345+入力部分!$I$45)-入力部分!$I$27)/入力部分!$I$36)^2)","v":6.864037611997207E-4},0.23269087504670533,null,null,339,{"$f":"1/入力部分!$I$37/(2*3.14)^0.5*EXP(-1/2*(((R345+入力部分!$I$46)-入力部分!$I$28)/入力部分!$I$37)^2)","v":2.3175833449636094E-6},7.856607539426636E-4,null,null,339,{"$f":"1/入力部分!$I$38/(2*3.14)^0.5*EXP(-1/2*(((W345+入力部分!$I$47)-入力部分!$I$29)/入力部分!$I$38)^2)","v":1.9305900916950218E-20},6.5447004108461237E-18,null,null,339,{"$f":"1/入力部分!$I$39/(2*3.14)^0.5*EXP(-1/2*(((AB345+入力部分!$I$48)-入力部分!$I$30)/入力部分!$I$39)^2)","v":1.1826553465453703E-119},4.0092016247888049E-117]
[null,null,null,null,null,null,null,null,340,{"$f":"(入力部分!D$7*N346+入力部分!D$8*S346+入力部分!D$9*X346+入力部分!D$10*AC346)/(SUM(入力部分!D$7:D$10))","v":8.4991488017204067E-5},null,null,340,{"$f":"1/入力部分!$I$36/(2*3.14)^0.5*EXP(-1/2*(((M346+入力部分!$I$45)-入力部分!$I$27)/入力部分!$I$36)^2)","v":6.7344665610007831E-4},0.22897186307402662,null,null,340,{"$f":"1/入力部分!$I$37/(2*3.14)^0.5*EXP(-1/2*(((R346+入力部分!$I$46)-入力部分!$I$28)/入力部分!$I$37)^2)","v":2.1617493458513907E-6},7.3499477758947284E-4,null,null,340,{"$f":"1/入力部分!$I$38/(2*3.14)^0.5*EXP(-1/2*(((W346+入力部分!$I$47)-入力部分!$I$29)/入力部分!$I$38)^2)","v":1.4082669665627129E-20},4.7881076863132242E-18,null,null,340,{"$f":"1/入力部分!$I$39/(2*3.14)^0.5*EXP(-1/2*(((AB346+入力部分!$I$48)-入力部分!$I$30)/入力部分!$I$39)^2)","v":1.6969279350402971E-120},5.7695549791370103E-118]
[null,null,null,null,null,null,null,null,341,{"$f":"(入力部分!D$7*N347+入力部分!D$8*S347+入力部分!D$9*X347+入力部分!D$10*AC347)/(SUM(入力部分!D$7:D$10))","v":8.3339260742188999E-5},null,null,341,{"$f":"1/入力部分!$I$36/(2*3.14)^0.5*EXP(-1/2*(((M347+入力部分!$I$45)-入力部分!$I$27)/入力部分!$I$36)^2)","v":6.6066672812234504E-4},0.22528735428971966,null,null,341,{"$f":"1/入力部分!$I$37/(2*3.14)^0.5*EXP(-1/2*(((R347+入力部分!$I$46)-入力部分!$I$28)/入力部分!$I$37)^2)","v":2.0157859383889921E-6},6.8738300499064631E-4,null,null,341,{"$f":"1/入力部分!$I$38/(2*3.14)^0.5*EXP(-1/2*(((W347+入力部分!$I$47)-入力部分!$I$29)/入力部分!$I$38)^2)","v":1.0260211468478055E-20},3.498732110751017E-18,null,null,341,{"$f":"1/入力部分!$I$39/(2*3.14)^0.5*EXP(-1/2*(((AB347+入力部分!$I$48)-入力部分!$I$30)/入力部分!$I$39)^2)","v":2.4179797803736128E-121},8.2453110510740191E-119]
[null,null,null,null,null,null,null,null,342,{"$f":"(入力部分!D$7*N348+入力部分!D$8*S348+入力部分!D$9*X348+入力部分!D$10*AC348)/(SUM(入力部分!D$7:D$10))","v":8.1712566621216601E-5},null,null,342,{"$f":"1/入力部分!$I$36/(2*3.14)^0.5*EXP(-1/2*(((M348+入力部分!$I$45)-入力部分!$I$27)/入力部分!$I$36)^2)","v":6.4806319800041114E-4},0.2216376137161406,null,null,342,{"$f":"1/入力部分!$I$37/(2*3.14)^0.5*EXP(-1/2*(((R348+入力部分!$I$46)-入力部分!$I$28)/入力部分!$I$37)^2)","v":1.8791116564405464E-6},6.4265618650266685E-4,null,null,342,{"$f":"1/入力部分!$I$38/(2*3.14)^0.5*EXP(-1/2*(((W348+入力部分!$I$47)-入力部分!$I$29)/入力部分!$I$38)^2)","v":7.4662758595138418E-21},2.5534663439537339E-18,null,null,342,{"$f":"1/入力部分!$I$39/(2*3.14)^0.5*EXP(-1/2*(((AB348+入力部分!$I$48)-入力部分!$I$30)/入力部分!$I$39)^2)","v":3.4215744695741118E-122},1.1701784685943462E-119]
[null,null,null,null,null,null,null,null,343,{"$f":"(入力部分!D$7*N349+入力部分!D$8*S349+入力部分!D$9*X349+入力部分!D$10*AC349)/(SUM(入力部分!D$7:D$10))","v":8.0111097076173522E-5},null,null,343,{"$f":"1/入力部分!$I$36/(2*3.14)^0.5*EXP(-1/2*(((M349+入力部分!$I$45)-入力部分!$I$27)/入力部分!$I$36)^2)","v":6.3563524781949394E-4},0.21802289000208641,null,null,343,{"$f":"1/入力部分!$I$37/(2*3.14)^0.5*EXP(-1/2*(((R349+入力部分!$I$46)-入力部分!$I$28)/入力部分!$I$37)^2)","v":1.7511762632980991E-6},6.0065345831124804E-4,null,null,343,{"$f":"1/入力部分!$I$38/(2*3.14)^0.5*EXP(-1/2*(((W349+入力部分!$I$47)-入力部分!$I$29)/入力部分!$I$38)^2)","v":5.4266042714481064E-21},1.8613252651067005E-18,null,null,343,{"$f":"1/入力部分!$I$39/(2*3.14)^0.5*EXP(-1/2*(((AB349+入力部分!$I$48)-入力部分!$I$30)/入力部分!$I$39)^2)","v":4.8082096382101256E-123},1.649215905906073E-120]
[null,null,null,null,null,null,null,null,344,{"$f":"(入力部分!D$7*N350+入力部分!D$8*S350+入力部分!D$9*X350+入力部分!D$10*AC350)/(SUM(入力部分!D$7:D$10))","v":7.853454998860932E-5},null,null,344,{"$f":"1/入力部分!$I$36/(2*3.14)^0.5*EXP(-1/2*(((M350+入力部分!$I$45)-入力部分!$I$27)/入力部分!$I$36)^2)","v":6.2338202208400001E-4},0.214443415596896,null,null,344,{"$f":"1/入力部分!$I$37/(2*3.14)^0.5*EXP(-1/2*(((R350+入力部分!$I$46)-入力部分!$I$28)/入力部分!$I$37)^2)","v":1.6314592749581991E-6},5.6122199058562046E-4,null,null,344,{"$f":"1/入力部分!$I$38/(2*3.14)^0.5*EXP(-1/2*(((W350+入力部分!$I$47)-入力部分!$I$29)/入力部分!$I$38)^2)","v":3.9393872330344641E-21},1.3551492081638557E-18,null,null,344,{"$f":"1/入力部分!$I$39/(2*3.14)^0.5*EXP(-1/2*(((AB350+入力部分!$I$48)-入力部分!$I$30)/入力部分!$I$39)^2)","v":6.7100361313971635E-124},2.3082524292006244E-121]
[null,null,null,null,null,null,null,null,345,{"$f":"(入力部分!D$7*N351+入力部分!D$8*S351+入力部分!D$9*X351+入力部分!D$10*AC351)/(SUM(入力部分!D$7:D$10))","v":7.6982629300656726E-5},null,null,345,{"$f":"1/入力部分!$I$36/(2*3.14)^0.5*EXP(-1/2*(((M351+入力部分!$I$45)-入力部分!$I$27)/入力部分!$I$36)^2)","v":6.1130262878395544E-4},0.21089940693046463,null,null,345,{"$f":"1/入力部分!$I$37/(2*3.14)^0.5*EXP(-1/2*(((R351+入力部分!$I$46)-入力部分!$I$28)/入力部分!$I$37)^2)","v":1.5194685404327945E-6},5.2421664644931409E-4,null,null,345,{"$f":"1/入力部分!$I$38/(2*3.14)^0.5*EXP(-1/2*(((W351+入力部分!$I$47)-入力部分!$I$29)/入力部分!$I$38)^2)","v":2.8563116696224481E-21},9.854275260197446E-19,null,null,345,{"$f":"1/入力部分!$I$39/(2*3.14)^0.5*EXP(-1/2*(((AB351+入力部分!$I$48)-入力部分!$I$30)/入力部分!$I$39)^2)","v":9.2993027913062248E-125},3.2082594630006477E-122]
[null,null,null,null,null,null,null,null,346,{"$f":"(入力部分!D$7*N352+入力部分!D$8*S352+入力部分!D$9*X352+入力部分!D$10*AC352)/(SUM(入力部分!D$7:D$10))","v":7.5455044636555454E-5},null,null,346,{"$f":"1/入力部分!$I$36/(2*3.14)^0.5*EXP(-1/2*(((M352+入力部分!$I$45)-入力部分!$I$27)/入力部分!$I$36)^2)","v":5.9939614045937295E-4},0.20739106459894305,null,null,346,{"$f":"1/入力部分!$I$37/(2*3.14)^0.5*EXP(-1/2*(((R352+入力部分!$I$46)-入力部分!$I$28)/入力部分!$I$37)^2)","v":1.414738877690233E-6},4.8949965168082065E-4,null,null,346,{"$f":"1/入力部分!$I$38/(2*3.14)^0.5*EXP(-1/2*(((W352+入力部分!$I$47)-入力部分!$I$29)/入力部分!$I$38)^2)","v":2.0685161485224514E-21},7.1570658738876816E-19,null,null,346,{"$f":"1/入力部分!$I$39/(2*3.14)^0.5*EXP(-1/2*(((AB352+入力部分!$I$48)-入力部分!$I$30)/入力部分!$I$39)^2)","v":1.2798526885365273E-125},4.4282903023363846E-123]
[null,null,null,null,null,null,null,null,347,{"$f":"(入力部分!D$7*N353+入力部分!D$8*S353+入力部分!D$9*X353+入力部分!D$10*AC353)/(SUM(入力部分!D$7:D$10))","v":7.3951510944171667E-5},null,null,347,{"$f":"1/入力部分!$I$36/(2*3.14)^0.5*EXP(-1/2*(((M353+入力部分!$I$45)-入力部分!$I$27)/入力部分!$I$36)^2)","v":5.8766159526195958E-4},0.20391857355589998,null,null,347,{"$f":"1/入力部分!$I$37/(2*3.14)^0.5*EXP(-1/2*(((R353+入力部分!$I$46)-入力部分!$I$28)/入力部分!$I$37)^2)","v":1.3168307638045914E-6},4.5694027504019323E-4,null,null,347,{"$f":"1/入力部分!$I$38/(2*3.14)^0.5*EXP(-1/2*(((W353+入力部分!$I$47)-入力部分!$I$29)/入力部分!$I$38)^2)","v":1.4961965105882703E-21},5.1918018917412976E-19,null,null,347,{"$f":"1/入力部分!$I$39/(2*3.14)^0.5*EXP(-1/2*(((AB353+入力部分!$I$48)-入力部分!$I$30)/入力部分!$I$39)^2)","v":1.7492571084224048E-126},6.0699221662257447E-124]
[null,null,null,null,null,null,null,null,348,{"$f":"(入力部分!D$7*N354+入力部分!D$8*S354+入力部分!D$9*X354+入力部分!D$10*AC354)/(SUM(入力部分!D$7:D$10))","v":7.2471748155900707E-5},null,null,348,{"$f":"1/入力部分!$I$36/(2*3.14)^0.5*EXP(-1/2*(((M354+入力部分!$I$45)-入力部分!$I$27)/入力部分!$I$36)^2)","v":5.7609799801357025E-4},0.20048210330872246,null,null,348,{"$f":"1/入力部分!$I$37/(2*3.14)^0.5*EXP(-1/2*(((R354+入力部分!$I$46)-入力部分!$I$28)/入力部分!$I$37)^2)","v":1.2253290778784778E-6},4.2641451910171031E-4,null,null,348,{"$f":"1/入力部分!$I$38/(2*3.14)^0.5*EXP(-1/2*(((W354+入力部分!$I$47)-入力部分!$I$29)/入力部分!$I$38)^2)","v":1.0809230046296916E-21},3.7616120561113266E-19,null,null,348,{"$f":"1/入力部分!$I$39/(2*3.14)^0.5*EXP(-1/2*(((AB354+入力部分!$I$48)-入力部分!$I$30)/入力部分!$I$39)^2)","v":2.3742769475406263E-127},8.2624837774413797E-125]
[null,null,null,null,null,null,null,null,349,{"$f":"(入力部分!D$7*N355+入力部分!D$8*S355+入力部分!D$9*X355+入力部分!D$10*AC355)/(SUM(入力部分!D$7:D$10))","v":7.1015480868339421E-5},null,null,349,{"$f":"1/入力部分!$I$36/(2*3.14)^0.5*EXP(-1/2*(((M355+入力部分!$I$45)-入力部分!$I$27)/入力部分!$I$36)^2)","v":5.6470432126082758E-4},0.19708180812002882,null,null,349,{"$f":"1/入力部分!$I$37/(2*3.14)^0.5*EXP(-1/2*(((R355+入力部分!$I$46)-入力部分!$I$28)/入力部分!$I$37)^2)","v":1.1398418952959325E-6},3.9780482145828044E-4,null,null,349,{"$f":"1/入力部分!$I$38/(2*3.14)^0.5*EXP(-1/2*(((W355+入力部分!$I$47)-入力部分!$I$29)/入力部分!$I$38)^2)","v":7.7996889299840161E-22},2.7220914365644216E-19,null,null,349,{"$f":"1/入力部分!$I$39/(2*3.14)^0.5*EXP(-1/2*(((AB355+入力部分!$I$48)-入力部分!$I$30)/入力部分!$I$39)^2)","v":3.2003182667193337E-128},1.1169110750850475E-125]
[null,null,null,null,null,null,null,null,350,{"$f":"(入力部分!D$7*N356+入力部分!D$8*S356+入力部分!D$9*X356+入力部分!D$10*AC356)/(SUM(入力部分!D$7:D$10))","v":6.9582438040114447E-5},null,null,350,{"$f":"1/入力部分!$I$36/(2*3.14)^0.5*EXP(-1/2*(((M356+入力部分!$I$45)-入力部分!$I$27)/入力部分!$I$36)^2)","v":5.5347950632534477E-4},0.19371782721387068,null,null,350,{"$f":"1/入力部分!$I$37/(2*3.14)^0.5*EXP(-1/2*(((R356+入力部分!$I$46)-入力部分!$I$28)/入力部分!$I$37)^2)","v":1.0599993318569555E-6},3.7099976614993446E-4,null,null,350,{"$f":"1/入力部分!$I$38/(2*3.14)^0.5*EXP(-1/2*(((W356+入力部分!$I$47)-入力部分!$I$29)/入力部分!$I$38)^2)","v":5.6212927744140128E-22},1.9674524710449044E-19,null,null,350,{"$f":"1/入力部分!$I$39/(2*3.14)^0.5*EXP(-1/2*(((AB356+入力部分!$I$48)-入力部分!$I$30)/入力部分!$I$39)^2)","v":4.283897105536762E-129},1.4993639869378667E-126]
[null,null,null,null,null,null,null,null,351,{"$f":"(入力部分!D$7*N357+入力部分!D$8*S357+入力部分!D$9*X357+入力部分!D$10*AC357)/(SUM(入力部分!D$7:D$10))","v":6.8172352707254378E-5},null,null,351,{"$f":"1/入力部分!$I$36/(2*3.14)^0.5*EXP(-1/2*(((M357+入力部分!$I$45)-入力部分!$I$27)/入力部分!$I$36)^2)","v":5.4242246434900194E-4},0.19039028498649968,null,null,351,{"$f":"1/入力部分!$I$37/(2*3.14)^0.5*EXP(-1/2*(((R357+入力部分!$I$46)-入力部分!$I$28)/入力部分!$I$37)^2)","v":9.8545243634438874E-7},3.4589380515688046E-4,null,null,351,{"$f":"1/入力部分!$I$38/(2*3.14)^0.5*EXP(-1/2*(((W357+入力部分!$I$47)-入力部分!$I$29)/入力部分!$I$38)^2)","v":4.0464253111020052E-22},1.4202952841968039E-19,null,null,351,{"$f":"1/入力部分!$I$39/(2*3.14)^0.5*EXP(-1/2*(((AB357+入力部分!$I$48)-入力部分!$I$30)/入力部分!$I$39)^2)","v":5.6946751858827337E-130},1.9988309902448396E-127]
[null,null,null,null,null,null,null,null,352,{"$f":"(入力部分!D$7*N358+入力部分!D$8*S358+入力部分!D$9*X358+入力部分!D$10*AC358)/(SUM(入力部分!D$7:D$10))","v":6.6784961715496061E-5},null,null,352,{"$f":"1/入力部分!$I$36/(2*3.14)^0.5*EXP(-1/2*(((M358+入力部分!$I$45)-入力部分!$I$27)/入力部分!$I$36)^2)","v":5.3153207733374057E-4},0.18709929122147667,null,null,352,{"$f":"1/入力部分!$I$37/(2*3.14)^0.5*EXP(-1/2*(((R358+入力部分!$I$46)-入力部分!$I$28)/入力部分!$I$37)^2)","v":9.1587213007597886E-7},3.2238698978674456E-4,null,null,352,{"$f":"1/入力部分!$I$38/(2*3.14)^0.5*EXP(-1/2*(((W358+入力部分!$I$47)-入力部分!$I$29)/入力部分!$I$38)^2)","v":2.9092647995346229E-22},1.0240612094361873E-19,null,null,352,{"$f":"1/入力部分!$I$39/(2*3.14)^0.5*EXP(-1/2*(((AB358+入力部分!$I$48)-入力部分!$I$30)/入力部分!$I$39)^2)","v":7.5176646824995296E-131},2.6462179682398345E-128]
[null,null,null,null,null,null,null,null,353,{"$f":"(入力部分!D$7*N359+入力部分!D$8*S359+入力部分!D$9*X359+入力部分!D$10*AC359)/(SUM(入力部分!D$7:D$10))","v":6.5420005468919419E-5},null,null,353,{"$f":"1/入力部分!$I$36/(2*3.14)^0.5*EXP(-1/2*(((M359+入力部分!$I$45)-入力部分!$I$27)/入力部分!$I$36)^2)","v":5.2080719917535479E-4},0.18384494130890025,null,null,353,{"$f":"1/入力部分!$I$37/(2*3.14)^0.5*EXP(-1/2*(((R359+入力部分!$I$46)-入力部分!$I$28)/入力部分!$I$37)^2)","v":8.5094819200021979E-7},3.0038471177607759E-4,null,null,353,{"$f":"1/入力部分!$I$38/(2*3.14)^0.5*EXP(-1/2*(((W359+入力部分!$I$47)-入力部分!$I$29)/入力部分!$I$38)^2)","v":2.0891584330318097E-22},7.3747292686022879E-20,null,null,353,{"$f":"1/入力部分!$I$39/(2*3.14)^0.5*EXP(-1/2*(((AB359+入力部分!$I$48)-入力部分!$I$30)/入力部分!$I$39)^2)","v":9.8555532656284748E-132},3.4790103027668515E-129]
[null,null,null,null,null,null,null,null,354,{"$f":"(入力部分!D$7*N360+入力部分!D$8*S360+入力部分!D$9*X360+入力部分!D$10*AC360)/(SUM(入力部分!D$7:D$10))","v":6.4077227694309699E-5},null,null,354,{"$f":"1/入力部分!$I$36/(2*3.14)^0.5*EXP(-1/2*(((M360+入力部分!$I$45)-入力部分!$I$27)/入力部分!$I$36)^2)","v":5.1024665669076894E-4},0.1806273164685322,null,null,354,{"$f":"1/入力部分!$I$37/(2*3.14)^0.5*EXP(-1/2*(((R360+入力部分!$I$46)-入力部分!$I$28)/入力部分!$I$37)^2)","v":7.9038828790287662E-7},2.7979745391761831E-4,null,null,354,{"$f":"1/入力部分!$I$38/(2*3.14)^0.5*EXP(-1/2*(((W360+入力部分!$I$47)-入力部分!$I$29)/入力部分!$I$38)^2)","v":1.4984280722039306E-22},5.3044353756019143E-20,null,null,354,{"$f":"1/入力部分!$I$39/(2*3.14)^0.5*EXP(-1/2*(((AB360+入力部分!$I$48)-入力部分!$I$30)/入力部分!$I$39)^2)","v":1.2831077688240464E-132},4.542201501637124E-130]
[null,null,null,null,null,null,null,null,355,{"$f":"(入力部分!D$7*N361+入力部分!D$8*S361+入力部分!D$9*X361+入力部分!D$10*AC361)/(SUM(入力部分!D$7:D$10))","v":6.2756375220653315E-5},null,null,355,{"$f":"1/入力部分!$I$36/(2*3.14)^0.5*EXP(-1/2*(((M361+入力部分!$I$45)-入力部分!$I$27)/入力部分!$I$36)^2)","v":4.9984925063831893E-4},0.17744648397660323,null,null,355,{"$f":"1/入力部分!$I$37/(2*3.14)^0.5*EXP(-1/2*(((R361+入力部分!$I$46)-入力部分!$I$28)/入力部分!$I$37)^2)","v":7.3391704230253832E-7},2.6054055001740111E-4,null,null,355,{"$f":"1/入力部分!$I$38/(2*3.14)^0.5*EXP(-1/2*(((W361+入力部分!$I$47)-入力部分!$I$29)/入力部分!$I$38)^2)","v":1.0734376542183938E-22},3.8107036724752983E-20,null,null,355,{"$f":"1/入力部分!$I$39/(2*3.14)^0.5*EXP(-1/2*(((AB361+入力部分!$I$48)-入力部分!$I$30)/入力部分!$I$39)^2)","v":1.6589348307361215E-133},5.8892186491132308E-131]
[null,null,null,null,null,null,null,null,356,{"$f":"(入力部分!D$7*N362+入力部分!D$8*S362+入力部分!D$9*X362+入力部分!D$10*AC362)/(SUM(入力部分!D$7:D$10))","v":6.1457197773178874E-5},null,null,356,{"$f":"1/入力部分!$I$36/(2*3.14)^0.5*EXP(-1/2*(((M362+入力部分!$I$45)-入力部分!$I$27)/入力部分!$I$36)^2)","v":4.896137567305495E-4},0.17430249739607562,null,null,356,{"$f":"1/入力部分!$I$37/(2*3.14)^0.5*EXP(-1/2*(((R362+入力部分!$I$46)-入力部分!$I$28)/入力部分!$I$37)^2)","v":6.8127515162716311E-7},2.4253395397927005E-4,null,null,356,{"$f":"1/入力部分!$I$38/(2*3.14)^0.5*EXP(-1/2*(((W362+入力部分!$I$47)-入力部分!$I$29)/入力部分!$I$38)^2)","v":7.6805823614010815E-23},2.7342873206587847E-20,null,null,356,{"$f":"1/入力部分!$I$39/(2*3.14)^0.5*EXP(-1/2*(((AB362+入力部分!$I$48)-入力部分!$I$30)/入力部分!$I$39)^2)","v":2.1299998989610944E-134},7.5827996403014966E-132]
[null,null,null,null,null,null,null,null,357,{"$f":"(入力部分!D$7*N363+入力部分!D$8*S363+入力部分!D$9*X363+入力部分!D$10*AC363)/(SUM(入力部分!D$7:D$10))","v":6.0179447781363964E-5},null,null,357,{"$f":"1/入力部分!$I$36/(2*3.14)^0.5*EXP(-1/2*(((M363+入力部分!$I$45)-入力部分!$I$27)/入力部分!$I$36)^2)","v":4.7953892663907266E-4},0.17119539681014895,null,null,357,{"$f":"1/入力部分!$I$37/(2*3.14)^0.5*EXP(-1/2*(((R363+入力部分!$I$46)-入力部分!$I$28)/入力部分!$I$37)^2)","v":6.3221853727967701E-7},2.2570201780884469E-4,null,null,357,{"$f":"1/入力部分!$I$38/(2*3.14)^0.5*EXP(-1/2*(((W363+入力部分!$I$47)-入力部分!$I$29)/入力部分!$I$38)^2)","v":5.4889323230787513E-23},1.9595488393391141E-20,null,null,357,{"$f":"1/入力部分!$I$39/(2*3.14)^0.5*EXP(-1/2*(((AB363+入力部分!$I$48)-入力部分!$I$30)/入力部分!$I$39)^2)","v":2.7159008196006165E-135},9.6957659259742004E-133]
[null,null,null,null,null,null,null,null,358,{"$f":"(入力部分!D$7*N364+入力部分!D$8*S364+入力部分!D$9*X364+入力部分!D$10*AC364)/(SUM(入力部分!D$7:D$10))","v":5.8922880200337119E-5},null,null,358,{"$f":"1/入力部分!$I$36/(2*3.14)^0.5*EXP(-1/2*(((M364+入力部分!$I$45)-入力部分!$I$27)/入力部分!$I$36)^2)","v":4.6962348899104033E-4},0.16812520905879244,null,null,358,{"$f":"1/入力部分!$I$37/(2*3.14)^0.5*EXP(-1/2*(((R364+入力部分!$I$46)-入力部分!$I$28)/入力部分!$I$37)^2)","v":5.8651753721888697E-7},2.0997327832436154E-4,null,null,358,{"$f":"1/入力部分!$I$38/(2*3.14)^0.5*EXP(-1/2*(((W364+入力部分!$I$47)-入力部分!$I$29)/入力部分!$I$38)^2)","v":3.9179419946162691E-23},1.4026232340726242E-20,null,null,358,{"$f":"1/入力部分!$I$39/(2*3.14)^0.5*EXP(-1/2*(((AB364+入力部分!$I$48)-入力部分!$I$30)/入力部分!$I$39)^2)","v":3.4390009481739043E-136},1.2311623394462577E-133]
[null,null,null,null,null,null,null,null,359,{"$f":"(入力部分!D$7*N365+入力部分!D$8*S365+入力部分!D$9*X365+入力部分!D$10*AC365)/(SUM(入力部分!D$7:D$10))","v":5.7687252345112374E-5},null,null,359,{"$f":"1/入力部分!$I$36/(2*3.14)^0.5*EXP(-1/2*(((M365+入力部分!$I$45)-入力部分!$I$27)/入力部分!$I$36)^2)","v":4.5986615035679333E-4},0.16509194797808879,null,null,359,{"$f":"1/入力部分!$I$37/(2*3.14)^0.5*EXP(-1/2*(((R365+入力部分!$I$46)-入力部分!$I$28)/入力部分!$I$37)^2)","v":5.4395613470189281E-7},1.9528025235797953E-4,null,null,359,{"$f":"1/入力部分!$I$38/(2*3.14)^0.5*EXP(-1/2*(((W365+入力部分!$I$47)-入力部分!$I$29)/入力部分!$I$38)^2)","v":2.7932160455593033E-23},1.0027645603557898E-20,null,null,359,{"$f":"1/入力部分!$I$39/(2*3.14)^0.5*EXP(-1/2*(((AB365+入力部分!$I$48)-入力部分!$I$30)/入力部分!$I$39)^2)","v":4.3244885451480349E-137},1.5524913877081445E-134]
[null,null,null,null,null,null,null,null,360,{"$f":"(入力部分!D$7*N366+入力部分!D$8*S366+入力部分!D$9*X366+入力部分!D$10*AC366)/(SUM(入力部分!D$7:D$10))","v":5.6472323737105473E-5},null,null,360,{"$f":"1/入力部分!$I$36/(2*3.14)^0.5*EXP(-1/2*(((M366+入力部分!$I$45)-入力部分!$I$27)/入力部分!$I$36)^2)","v":4.502655962282755E-4},0.16209561464217917,null,null,360,{"$f":"1/入力部分!$I$37/(2*3.14)^0.5*EXP(-1/2*(((R366+入力部分!$I$46)-入力部分!$I$28)/入力部分!$I$37)^2)","v":5.043312228560754E-7},1.8155924022818714E-4,null,null,360,{"$f":"1/入力部分!$I$38/(2*3.14)^0.5*EXP(-1/2*(((W366+入力部分!$I$47)-入力部分!$I$29)/入力部分!$I$38)^2)","v":1.9889664375128457E-23},7.1602791750462442E-21,null,null,360,{"$f":"1/入力部分!$I$39/(2*3.14)^0.5*EXP(-1/2*(((AB366+入力部分!$I$48)-入力部分!$I$30)/入力部分!$I$39)^2)","v":5.4003421045686888E-138},1.944123157644728E-135]
[null,null,null,null,null,null,null,null,361,{"$f":"(入力部分!D$7*N367+入力部分!D$8*S367+入力部分!D$9*X367+入力部分!D$10*AC367)/(SUM(入力部分!D$7:D$10))","v":5.5277855962390898E-5},null,null,361,{"$f":"1/入力部分!$I$36/(2*3.14)^0.5*EXP(-1/2*(((M367+入力部分!$I$45)-入力部分!$I$27)/入力部分!$I$36)^2)","v":4.4082049198781157E-4},0.15913619760759998,null,null,361,{"$f":"1/入力部分!$I$37/(2*3.14)^0.5*EXP(-1/2*(((R367+入力部分!$I$46)-入力部分!$I$28)/入力部分!$I$37)^2)","v":4.6745190377186347E-7},1.6875013726164271E-4,null,null,361,{"$f":"1/入力部分!$I$38/(2*3.14)^0.5*EXP(-1/2*(((W367+入力部分!$I$47)-入力部分!$I$29)/入力部分!$I$38)^2)","v":1.4145776163110667E-23},5.1066251948829507E-21,null,null,361,{"$f":"1/入力部分!$I$39/(2*3.14)^0.5*EXP(-1/2*(((AB367+入力部分!$I$48)-入力部分!$I$30)/入力部分!$I$39)^2)","v":6.6971782846591402E-139},2.4176813607619497E-136]
[null,null,null,null,null,null,null,null,362,{"$f":"(入力部分!D$7*N368+入力部分!D$8*S368+入力部分!D$9*X368+入力部分!D$10*AC368)/(SUM(入力部分!D$7:D$10))","v":5.4103612541169039E-5},null,null,362,{"$f":"1/入力部分!$I$36/(2*3.14)^0.5*EXP(-1/2*(((M368+入力部分!$I$45)-入力部分!$I$27)/入力部分!$I$36)^2)","v":4.3152948386685549E-4},0.1562136731598017,null,null,362,{"$f":"1/入力部分!$I$37/(2*3.14)^0.5*EXP(-1/2*(((R368+入力部分!$I$46)-入力部分!$I$28)/入力部分!$I$37)^2)","v":4.3313882083226475E-7},1.5679625314127984E-4,null,null,362,{"$f":"1/入力部分!$I$38/(2*3.14)^0.5*EXP(-1/2*(((W368+入力部分!$I$47)-入力部分!$I$29)/入力部分!$I$38)^2)","v":1.0048529434966165E-23},3.6375676554577519E-21,null,null,362,{"$f":"1/入力部分!$I$39/(2*3.14)^0.5*EXP(-1/2*(((AB368+入力部分!$I$48)-入力部分!$I$30)/入力部分!$I$39)^2)","v":8.2479593941083762E-140},2.985761300667232E-137]
[null,null,null,null,null,null,null,null,363,{"$f":"(入力部分!D$7*N369+入力部分!D$8*S369+入力部分!D$9*X369+入力部分!D$10*AC369)/(SUM(入力部分!D$7:D$10))","v":5.2949358807926076E-5},null,null,363,{"$f":"1/入力部分!$I$36/(2*3.14)^0.5*EXP(-1/2*(((M369+入力部分!$I$45)-入力部分!$I$27)/入力部分!$I$36)^2)","v":4.2239119989434613E-4},0.15332800556164763,null,null,363,{"$f":"1/入力部分!$I$37/(2*3.14)^0.5*EXP(-1/2*(((R369+入力部分!$I$46)-入力部分!$I$28)/入力部分!$I$37)^2)","v":4.012235230208304E-7},1.4564413885656143E-4,null,null,363,{"$f":"1/入力部分!$I$38/(2*3.14)^0.5*EXP(-1/2*(((W369+入力部分!$I$47)-入力部分!$I$29)/入力部分!$I$38)^2)","v":7.1294271670320827E-24},2.5879820616326459E-21,null,null,363,{"$f":"1/入力部分!$I$39/(2*3.14)^0.5*EXP(-1/2*(((AB369+入力部分!$I$48)-入力部分!$I$30)/入力部分!$I$39)^2)","v":1.0087539169645285E-140},3.6617767185812386E-138]
[null,null,null,null,null,null,null,null,364,{"$f":"(入力部分!D$7*N370+入力部分!D$8*S370+入力部分!D$9*X370+入力部分!D$10*AC370)/(SUM(入力部分!D$7:D$10))","v":5.1814861801780101E-5},null,null,364,{"$f":"1/入力部分!$I$36/(2*3.14)^0.5*EXP(-1/2*(((M370+入力部分!$I$45)-入力部分!$I$27)/入力部分!$I$36)^2)","v":4.1340425083431065E-4},0.15047914730368908,null,null,364,{"$f":"1/入力部分!$I$37/(2*3.14)^0.5*EXP(-1/2*(((R370+入力部分!$I$46)-入力部分!$I$28)/入力部分!$I$37)^2)","v":3.7154785997670928E-7},1.3524342103152218E-4,null,null,364,{"$f":"1/入力部分!$I$38/(2*3.14)^0.5*EXP(-1/2*(((W370+入力部分!$I$47)-入力部分!$I$29)/入力部分!$I$38)^2)","v":5.0522305978111573E-24},1.8390119376032611E-21,null,null,364,{"$f":"1/入力部分!$I$39/(2*3.14)^0.5*EXP(-1/2*(((AB370+入力部分!$I$48)-入力部分!$I$30)/入力部分!$I$39)^2)","v":1.2252029112696899E-141},4.4597385970216708E-139]
[null,null,null,null,null,null,null,null,365,{"$f":"(入力部分!D$7*N371+入力部分!D$8*S371+入力部分!D$9*X371+入力部分!D$10*AC371)/(SUM(入力部分!D$7:D$10))","v":5.0699890166518571E-5},null,null,365,{"$f":"1/入力部分!$I$36/(2*3.14)^0.5*EXP(-1/2*(((M371+入力部分!$I$45)-入力部分!$I$27)/入力部分!$I$36)^2)","v":4.045672311123692E-4},0.14766703935601475,null,null,365,{"$f":"1/入力部分!$I$37/(2*3.14)^0.5*EXP(-1/2*(((R371+入力部分!$I$46)-入力部分!$I$28)/入力部分!$I$37)^2)","v":3.4396340659312994E-7},1.2554664340649243E-4,null,null,365,{"$f":"1/入力部分!$I$38/(2*3.14)^0.5*EXP(-1/2*(((W371+入力部分!$I$47)-入力部分!$I$29)/入力部分!$I$38)^2)","v":3.5759224610319595E-24},1.3052116982766652E-21,null,null,365,{"$f":"1/入力部分!$I$39/(2*3.14)^0.5*EXP(-1/2*(((AB371+入力部分!$I$48)-入力部分!$I$30)/入力部分!$I$39)^2)","v":1.4777973116850177E-142},5.3939601876503148E-140]
[null,null,null,null,null,null,null,null,366,{"$f":"(入力部分!D$7*N372+入力部分!D$8*S372+入力部分!D$9*X372+入力部分!D$10*AC372)/(SUM(入力部分!D$7:D$10))","v":4.9604214059847181E-5},null,null,366,{"$f":"1/入力部分!$I$36/(2*3.14)^0.5*EXP(-1/2*(((M372+入力部分!$I$45)-入力部分!$I$27)/入力部分!$I$36)^2)","v":3.9587871973082486E-4},0.14489161142148191,null,null,366,{"$f":"1/入力部分!$I$37/(2*3.14)^0.5*EXP(-1/2*(((R372+入力部分!$I$46)-入力部分!$I$28)/入力部分!$I$37)^2)","v":3.1833091598419321E-7},1.1650911525021472E-4,null,null,366,{"$f":"1/入力部分!$I$38/(2*3.14)^0.5*EXP(-1/2*(((W372+入力部分!$I$47)-入力部分!$I$29)/入力部分!$I$38)^2)","v":2.5279554836674256E-24},9.2523170702227777E-22,null,null,366,{"$f":"1/入力部分!$I$39/(2*3.14)^0.5*EXP(-1/2*(((AB372+入力部分!$I$48)-入力部分!$I$30)/入力部分!$I$39)^2)","v":1.7701325590468626E-143},6.4786851661115169E-141]
[null,null,null,null,null,null,null,null,367,{"$f":"(入力部分!D$7*N373+入力部分!D$8*S373+入力部分!D$9*X373+入力部分!D$10*AC373)/(SUM(入力部分!D$7:D$10))","v":4.8527605071380388E-5},null,null,367,{"$f":"1/入力部分!$I$36/(2*3.14)^0.5*EXP(-1/2*(((M373+入力部分!$I$45)-入力部分!$I$27)/入力部分!$I$36)^2)","v":3.8733728117202107E-4},0.14215278219013172,null,null,367,{"$f":"1/入力部分!$I$37/(2*3.14)^0.5*EXP(-1/2*(((R373+入力部分!$I$46)-入力部分!$I$28)/入力部分!$I$37)^2)","v":2.9451979967401305E-7},1.0808876648036279E-4,null,null,367,{"$f":"1/入力部分!$I$38/(2*3.14)^0.5*EXP(-1/2*(((W373+入力部分!$I$47)-入力部分!$I$29)/入力部分!$I$38)^2)","v":1.7849545040970919E-24},6.5507830300363268E-22,null,null,367,{"$f":"1/入力部分!$I$39/(2*3.14)^0.5*EXP(-1/2*(((AB373+入力部分!$I$48)-入力部分!$I$30)/入力部分!$I$39)^2)","v":2.1056237701802239E-144},7.7276392365614219E-142]
[null,null,null,null,null,null,null,null,368,{"$f":"(入力部分!D$7*N374+入力部分!D$8*S374+入力部分!D$9*X374+入力部分!D$10*AC374)/(SUM(入力部分!D$7:D$10))","v":4.746983614891797E-5},null,null,368,{"$f":"1/入力部分!$I$36/(2*3.14)^0.5*EXP(-1/2*(((M374+入力部分!$I$45)-入力部分!$I$27)/入力部分!$I$36)^2)","v":3.7894146628966816E-4},0.1394504595945979,null,null,368,{"$f":"1/入力部分!$I$37/(2*3.14)^0.5*EXP(-1/2*(((R374+入力部分!$I$46)-入力部分!$I$28)/入力部分!$I$37)^2)","v":2.7240763389185383E-7},1.0024600927220222E-4,null,null,368,{"$f":"1/入力部分!$I$38/(2*3.14)^0.5*EXP(-1/2*(((W374+入力部分!$I$47)-入力部分!$I$29)/入力部分!$I$38)^2)","v":1.2588131775234928E-24},4.6324324932864538E-22,null,null,368,{"$f":"1/入力部分!$I$39/(2*3.14)^0.5*EXP(-1/2*(((AB374+入力部分!$I$48)-入力部分!$I$30)/入力部分!$I$39)^2)","v":2.4873667527604203E-145},9.1535096501583468E-143]
[null,null,null,null,null,null,null,null,369,{"$f":"(入力部分!D$7*N375+入力部分!D$8*S375+入力部分!D$9*X375+入力部分!D$10*AC375)/(SUM(入力部分!D$7:D$10))","v":4.6430681532565634E-5},null,null,369,{"$f":"1/入力部分!$I$36/(2*3.14)^0.5*EXP(-1/2*(((M375+入力部分!$I$45)-入力部分!$I$27)/入力部分!$I$36)^2)","v":3.7068981318786405E-4},0.13678454106632185,null,null,369,{"$f":"1/入力部分!$I$37/(2*3.14)^0.5*EXP(-1/2*(((R375+入力部分!$I$46)-入力部分!$I$28)/入力部分!$I$37)^2)","v":2.5187969088699473E-7},9.2943605937301061E-5,null,null,369,{"$f":"1/入力部分!$I$38/(2*3.14)^0.5*EXP(-1/2*(((W375+入力部分!$I$47)-入力部分!$I$29)/入力部分!$I$38)^2)","v":8.8668999969807174E-25},3.2718860988858849E-22,null,null,369,{"$f":"1/入力部分!$I$39/(2*3.14)^0.5*EXP(-1/2*(((AB375+入力部分!$I$48)-入力部分!$I$30)/入力部分!$I$39)^2)","v":2.917984237336929E-146},1.0767361835773268E-143]
[null,null,null,null,null,null,null,null,370,{"$f":"(入力部分!D$7*N376+入力部分!D$8*S376+入力部分!D$9*X376+入力部分!D$10*AC376)/(SUM(入力部分!D$7:D$10))","v":4.540991669627033E-5},null,null,370,{"$f":"1/入力部分!$I$36/(2*3.14)^0.5*EXP(-1/2*(((M376+入力部分!$I$45)-入力部分!$I$27)/入力部分!$I$36)^2)","v":3.6258084808754072E-4},0.13415491379239006,null,null,370,{"$f":"1/入力部分!$I$37/(2*3.14)^0.5*EXP(-1/2*(((R376+入力部分!$I$46)-入力部分!$I$28)/入力部分!$I$37)^2)","v":2.3282849420730895E-7},8.6146542856704316E-5,null,null,370,{"$f":"1/入力部分!$I$38/(2*3.14)^0.5*EXP(-1/2*(((W376+入力部分!$I$47)-入力部分!$I$29)/入力部分!$I$38)^2)","v":6.2381920464838106E-25},2.3081310571990098E-22,null,null,370,{"$f":"1/入力部分!$I$39/(2*3.14)^0.5*EXP(-1/2*(((AB376+入力部分!$I$48)-入力部分!$I$30)/入力部分!$I$39)^2)","v":3.399461477465971E-147},1.2578007466624092E-144]
[null,null,null,null,null,null,null,null,371,{"$f":"(入力部分!D$7*N377+入力部分!D$8*S377+入力部分!D$9*X377+入力部分!D$10*AC377)/(SUM(入力部分!D$7:D$10))","v":4.4407318296353193E-5},null,null,371,{"$f":"1/入力部分!$I$36/(2*3.14)^0.5*EXP(-1/2*(((M377+入力部分!$I$45)-入力部分!$I$27)/入力部分!$I$36)^2)","v":3.5461308618007717E-4},0.13156145497280863,null,null,371,{"$f":"1/入力部分!$I$37/(2*3.14)^0.5*EXP(-1/2*(((R377+入力部分!$I$46)-入力部分!$I$28)/入力部分!$I$37)^2)","v":2.1515339691611539E-7},7.9821910255878817E-5,null,null,371,{"$f":"1/入力部分!$I$38/(2*3.14)^0.5*EXP(-1/2*(((W377+入力部分!$I$47)-入力部分!$I$29)/入力部分!$I$38)^2)","v":4.3835107024763612E-25},1.6262824706187301E-22,null,null,371,{"$f":"1/入力部分!$I$39/(2*3.14)^0.5*EXP(-1/2*(((AB377+入力部分!$I$48)-入力部分!$I$30)/入力部分!$I$39)^2)","v":3.9329766934473148E-148},1.4591343532689538E-145]
[null,null,null,null,null,null,null,null,372,{"$f":"(入力部分!D$7*N378+入力部分!D$8*S378+入力部分!D$9*X378+入力部分!D$10*AC378)/(SUM(入力部分!D$7:D$10))","v":4.3422664126638902E-5},null,null,372,{"$f":"1/入力部分!$I$36/(2*3.14)^0.5*EXP(-1/2*(((M378+入力部分!$I$45)-入力部分!$I$27)/入力部分!$I$36)^2)","v":3.467850324678541E-4},0.12900403207804173,null,null,372,{"$f":"1/入力部分!$I$37/(2*3.14)^0.5*EXP(-1/2*(((R378+入力部分!$I$46)-入力部分!$I$28)/入力部分!$I$37)^2)","v":1.9876018175236532E-7},7.39387876118799E-5,null,null,372,{"$f":"1/入力部分!$I$38/(2*3.14)^0.5*EXP(-1/2*(((W378+入力部分!$I$47)-入力部分!$I$29)/入力部分!$I$38)^2)","v":3.0765345892433713E-25},1.1444708671985342E-22,null,null,372,{"$f":"1/入力部分!$I$39/(2*3.14)^0.5*EXP(-1/2*(((AB378+入力部分!$I$48)-入力部分!$I$30)/入力部分!$I$39)^2)","v":4.5187330710063263E-149},1.6809687024143535E-146]
[null,null,null,null,null,null,null,null,373,{"$f":"(入力部分!D$7*N379+入力部分!D$8*S379+入力部分!D$9*X379+入力部分!D$10*AC379)/(SUM(入力部分!D$7:D$10))","v":4.2455733079790623E-5},null,null,373,{"$f":"1/入力部分!$I$36/(2*3.14)^0.5*EXP(-1/2*(((M379+入力部分!$I$45)-入力部分!$I$27)/入力部分!$I$36)^2)","v":3.3909518259151529E-4},0.1264825031066352,null,null,373,{"$f":"1/入力部分!$I$37/(2*3.14)^0.5*EXP(-1/2*(((R379+入力部分!$I$46)-入力部分!$I$28)/入力部分!$I$37)^2)","v":1.8356068226989805E-7},6.8468134486671971E-5,null,null,373,{"$f":"1/入力部分!$I$38/(2*3.14)^0.5*EXP(-1/2*(((W379+入力部分!$I$47)-入力部分!$I$29)/入力部分!$I$38)^2)","v":2.1566413782363351E-25},8.0442723408215299E-23,null,null,373,{"$f":"1/入力部分!$I$39/(2*3.14)^0.5*EXP(-1/2*(((AB379+入力部分!$I$48)-入力部分!$I$30)/入力部分!$I$39)^2)","v":5.1558000748298481E-150},1.9231134279115333E-147]
[null,null,null,null,null,null,null,null,374,{"$f":"(入力部分!D$7*N380+入力部分!D$8*S380+入力部分!D$9*X380+入力部分!D$10*AC380)/(SUM(入力部分!D$7:D$10))","v":4.1506305114474951E-5},null,null,374,{"$f":"1/入力部分!$I$36/(2*3.14)^0.5*EXP(-1/2*(((M380+入力部分!$I$45)-入力部分!$I$27)/入力部分!$I$36)^2)","v":3.3154202364373383E-4},0.12399671684275645,null,null,374,{"$f":"1/入力部分!$I$37/(2*3.14)^0.5*EXP(-1/2*(((R380+入力部分!$I$46)-入力部分!$I$28)/入力部分!$I$37)^2)","v":1.6947242402193574E-7},6.3382686584203971E-5,null,null,374,{"$f":"1/入力部分!$I$38/(2*3.14)^0.5*EXP(-1/2*(((W380+入力部分!$I$47)-入力部分!$I$29)/入力部分!$I$38)^2)","v":1.5099774625425666E-25},5.6473157099091986E-23,null,null,374,{"$f":"1/入力部分!$I$39/(2*3.14)^0.5*EXP(-1/2*(((AB380+入力部分!$I$48)-入力部分!$I$30)/入力部分!$I$39)^2)","v":5.8419725965185336E-151},2.1848977510979317E-148]
[null,null,null,null,null,null,null,null,375,{"$f":"(入力部分!D$7*N381+入力部分!D$8*S381+入力部分!D$9*X381+入力部分!D$10*AC381)/(SUM(入力部分!D$7:D$10))","v":4.0574161227993773E-5},null,null,375,{"$f":"1/入力部分!$I$36/(2*3.14)^0.5*EXP(-1/2*(((M381+入力部分!$I$45)-入力部分!$I$27)/入力部分!$I$36)^2)","v":3.2412403496928795E-4},0.12154651311348298,null,null,375,{"$f":"1/入力部分!$I$37/(2*3.14)^0.5*EXP(-1/2*(((R381+入力部分!$I$46)-入力部分!$I$28)/入力部分!$I$37)^2)","v":1.5641828488740104E-7},5.8656856832775394E-5,null,null,375,{"$f":"1/入力部分!$I$38/(2*3.14)^0.5*EXP(-1/2*(((W381+入力部分!$I$47)-入力部分!$I$29)/入力部分!$I$38)^2)","v":1.0559403782543485E-25},3.9597764184538072E-23,null,null,375,{"$f":"1/入力部分!$I$39/(2*3.14)^0.5*EXP(-1/2*(((AB381+入力部分!$I$48)-入力部分!$I$30)/入力部分!$I$39)^2)","v":6.5736568303975165E-152},2.4651213113990685E-149]
[null,null,null,null,null,null,null,null,376,{"$f":"(入力部分!D$7*N382+入力部分!D$8*S382+入力部分!D$9*X382+入力部分!D$10*AC382)/(SUM(入力部分!D$7:D$10))","v":3.9659083434032321E-5},null,null,376,{"$f":"1/入力部分!$I$36/(2*3.14)^0.5*EXP(-1/2*(((M382+入力部分!$I$45)-入力部分!$I$27)/入力部分!$I$36)^2)","v":3.168396889512613E-4},0.11913172304567425,null,null,376,{"$f":"1/入力部分!$I$37/(2*3.14)^0.5*EXP(-1/2*(((R382+入力部分!$I$46)-入力部分!$I$28)/入力部分!$I$37)^2)","v":1.443261736657547E-7},5.4266641298323769E-5,null,null,376,{"$f":"1/入力部分!$I$38/(2*3.14)^0.5*EXP(-1/2*(((W382+入力部分!$I$47)-入力部分!$I$29)/入力部分!$I$38)^2)","v":7.3753855766471619E-26},2.7731449768193328E-23,null,null,376,{"$f":"1/入力部分!$I$39/(2*3.14)^0.5*EXP(-1/2*(((AB382+入力部分!$I$48)-入力部分!$I$30)/入力部分!$I$39)^2)","v":7.3457916752676371E-153},2.7620176699006315E-150]
[null,null,null,null,null,null,null,null,377,{"$f":"(入力部分!D$7*N383+入力部分!D$8*S383+入力部分!D$9*X383+入力部分!D$10*AC383)/(SUM(入力部分!D$7:D$10))","v":3.8760854745187106E-5},null,null,377,{"$f":"1/入力部分!$I$36/(2*3.14)^0.5*EXP(-1/2*(((M383+入力部分!$I$45)-入力部分!$I$27)/入力部分!$I$36)^2)","v":3.0968745178320617E-4},0.11675216932226873,null,null,377,{"$f":"1/入力部分!$I$37/(2*3.14)^0.5*EXP(-1/2*(((R383+入力部分!$I$46)-入力部分!$I$28)/入力部分!$I$37)^2)","v":1.3312872609690183E-7},5.0189529738531988E-5,null,null,377,{"$f":"1/入力部分!$I$38/(2*3.14)^0.5*EXP(-1/2*(((W383+入力部分!$I$47)-入力部分!$I$29)/入力部分!$I$38)^2)","v":5.1452497761445317E-26},1.9397591656064883E-23,null,null,377,{"$f":"1/入力部分!$I$39/(2*3.14)^0.5*EXP(-1/2*(((AB383+入力部分!$I$48)-入力部分!$I$30)/入力部分!$I$39)^2)","v":8.1518138341874314E-154},3.0732338154886616E-151]
[null,null,null,null,null,null,null,null,378,{"$f":"(入力部分!D$7*N384+入力部分!D$8*S384+入力部分!D$9*X384+入力部分!D$10*AC384)/(SUM(入力部分!D$7:D$10))","v":3.7879259159948988E-5},null,null,378,{"$f":"1/入力部分!$I$36/(2*3.14)^0.5*EXP(-1/2*(((M384+入力部分!$I$45)-入力部分!$I$27)/入力部分!$I$36)^2)","v":3.0266578422711508E-4},0.1144076664378495,null,null,378,{"$f":"1/入力部分!$I$37/(2*3.14)^0.5*EXP(-1/2*(((R384+入力部分!$I$46)-入力部分!$I$28)/入力部分!$I$37)^2)","v":1.2276301749226917E-7},4.6404420612077745E-5,null,null,378,{"$f":"1/入力部分!$I$38/(2*3.14)^0.5*EXP(-1/2*(((W384+入力部分!$I$47)-入力部分!$I$29)/入力部分!$I$38)^2)","v":3.5851274193315075E-26},1.3551781645073098E-23,null,null,378,{"$f":"1/入力部分!$I$39/(2*3.14)^0.5*EXP(-1/2*(((AB384+入力部分!$I$48)-入力部分!$I$30)/入力部分!$I$39)^2)","v":8.983673596762659E-155},3.395828619576285E-152]
[null,null,null,null,null,null,null,null,379,{"$f":"(入力部分!D$7*N385+入力部分!D$8*S385+入力部分!D$9*X385+入力部分!D$10*AC385)/(SUM(入力部分!D$7:D$10))","v":3.701408165382916E-5},null,null,379,{"$f":"1/入力部分!$I$36/(2*3.14)^0.5*EXP(-1/2*(((M385+入力部分!$I$45)-入力部分!$I$27)/入力部分!$I$36)^2)","v":2.9577314235705652E-4},0.11209802095332443,null,null,379,{"$f":"1/入力部分!$I$37/(2*3.14)^0.5*EXP(-1/2*(((R385+入力部分!$I$46)-入力部分!$I$28)/入力部分!$I$37)^2)","v":1.1317029119224654E-7},4.2891540361861437E-5,null,null,379,{"$f":"1/入力部分!$I$38/(2*3.14)^0.5*EXP(-1/2*(((W385+入力部分!$I$47)-入力部分!$I$29)/入力部分!$I$38)^2)","v":2.4950492871184427E-26},9.4562367981788977E-24,null,null,379,{"$f":"1/入力部分!$I$39/(2*3.14)^0.5*EXP(-1/2*(((AB385+入力部分!$I$48)-入力部分!$I$30)/入力部分!$I$39)^2)","v":9.8319065451146428E-156},3.7262925805984497E-153]
[null,null,null,null,null,null,null,null,380,{"$f":"(入力部分!D$7*N386+入力部分!D$8*S386+入力部分!D$9*X386+入力部分!D$10*AC386)/(SUM(入力部分!D$7:D$10))","v":3.6165108174329612E-5},null,null,380,{"$f":"1/入力部分!$I$36/(2*3.14)^0.5*EXP(-1/2*(((M386+入力部分!$I$45)-入力部分!$I$27)/入力部分!$I$36)^2)","v":2.8900797828835514E-4},0.10982303174957496,null,null,380,{"$f":"1/入力部分!$I$37/(2*3.14)^0.5*EXP(-1/2*(((R386+入力部分!$I$46)-入力部分!$I$28)/入力部分!$I$37)^2)","v":1.0429570209392353E-7},3.9632366795690944E-5,null,null,380,{"$f":"1/入力部分!$I$38/(2*3.14)^0.5*EXP(-1/2*(((W386+入力部分!$I$47)-入力部分!$I$29)/入力部分!$I$38)^2)","v":1.7343233168951374E-26},6.5904286042015223E-24,null,null,380,{"$f":"1/入力部分!$I$39/(2*3.14)^0.5*EXP(-1/2*(((AB386+入力部分!$I$48)-入力部分!$I$30)/入力部分!$I$39)^2)","v":1.0685764172691265E-156},4.0605903856226808E-154]
[null,null,null,null,null,null,null,null,381,{"$f":"(入力部分!D$7*N387+入力部分!D$8*S387+入力部分!D$9*X387+入力部分!D$10*AC387)/(SUM(入力部分!D$7:D$10))","v":3.5332125639470365E-5},null,null,381,{"$f":"1/入力部分!$I$36/(2*3.14)^0.5*EXP(-1/2*(((M387+入力部分!$I$45)-入力部分!$I$27)/入力部分!$I$36)^2)","v":2.8236874089219917E-4},0.10758249027992789,null,null,381,{"$f":"1/入力部分!$I$37/(2*3.14)^0.5*EXP(-1/2*(((R387+入力部分!$I$46)-入力部分!$I$28)/入力部分!$I$37)^2)","v":9.6088074521240726E-8},3.6609556392592719E-5,null,null,381,{"$f":"1/入力部分!$I$38/(2*3.14)^0.5*EXP(-1/2*(((W387+入力部分!$I$47)-入力部分!$I$29)/入力部分!$I$38)^2)","v":1.2040856959614946E-26},4.5875665016132942E-24,null,null,381,{"$f":"1/入力部分!$I$39/(2*3.14)^0.5*EXP(-1/2*(((AB387+入力部分!$I$48)-入力部分!$I$30)/入力部分!$I$39)^2)","v":1.1533403733938978E-157},4.394226822630751E-155]
[null,null,null,null,null,null,null,null,382,{"$f":"(入力部分!D$7*N388+入力部分!D$8*S388+入力部分!D$9*X388+入力部分!D$10*AC388)/(SUM(入力部分!D$7:D$10))","v":3.4514921939598085E-5},null,null,382,{"$f":"1/入力部分!$I$36/(2*3.14)^0.5*EXP(-1/2*(((M388+入力部分!$I$45)-入力部分!$I$27)/入力部分!$I$36)^2)","v":2.7585387649557241E-4},0.10537618082130866,null,null,382,{"$f":"1/入力部分!$I$37/(2*3.14)^0.5*EXP(-1/2*(((R388+入力部分!$I$46)-入力部分!$I$28)/入力部分!$I$37)^2)","v":8.8499673737420025E-8},3.3806875367694449E-5,null,null,382,{"$f":"1/入力部分!$I$38/(2*3.14)^0.5*EXP(-1/2*(((W388+入力部分!$I$47)-入力部分!$I$29)/入力部分!$I$38)^2)","v":8.3495127414270338E-27},3.1895138672251268E-24,null,null,382,{"$f":"1/入力部分!$I$39/(2*3.14)^0.5*EXP(-1/2*(((AB388+入力部分!$I$48)-入力部分!$I$30)/入力部分!$I$39)^2)","v":1.2362134682104791E-158},4.7223354485640305E-156]
[null,null,null,null,null,null,null,null,383,{"$f":"(入力部分!D$7*N389+入力部分!D$8*S389+入力部分!D$9*X389+入力部分!D$10*AC389)/(SUM(入力部分!D$7:D$10))","v":3.3713285942213626E-5},null,null,383,{"$f":"1/入力部分!$I$36/(2*3.14)^0.5*EXP(-1/2*(((M389+入力部分!$I$45)-入力部分!$I$27)/入力部分!$I$36)^2)","v":2.6946182956642898E-4},0.10320388072394229,null,null,383,{"$f":"1/入力部分!$I$37/(2*3.14)^0.5*EXP(-1/2*(((R389+入力部分!$I$46)-入力部分!$I$28)/入力部分!$I$37)^2)","v":8.1485990426669748E-8},3.1209134333414515E-5,null,null,383,{"$f":"1/入力部分!$I$38/(2*3.14)^0.5*EXP(-1/2*(((W389+入力部分!$I$47)-入力部分!$I$29)/入力部分!$I$38)^2)","v":5.782841203268894E-27},2.2148281808519863E-24,null,null,383,{"$f":"1/入力部分!$I$39/(2*3.14)^0.5*EXP(-1/2*(((AB389+入力部分!$I$48)-入力部分!$I$30)/入力部分!$I$39)^2)","v":1.3158715965556004E-159},5.0397882148079499E-157]
[null,null,null,null,null,null,null,null,384,{"$f":"(入力部分!D$7*N390+入力部分!D$8*S390+入力部分!D$9*X390+入力部分!D$10*AC390)/(SUM(入力部分!D$7:D$10))","v":3.2927007499565766E-5},null,null,384,{"$f":"1/入力部分!$I$36/(2*3.14)^0.5*EXP(-1/2*(((M390+入力部分!$I$45)-入力部分!$I$27)/入力部分!$I$36)^2)","v":2.6319104338402979E-4},0.10106536065946745,null,null,384,{"$f":"1/入力部分!$I$37/(2*3.14)^0.5*EXP(-1/2*(((R390+入力部分!$I$46)-入力部分!$I$28)/入力部分!$I$37)^2)","v":7.5005537498790073E-8},2.880212639953539E-5,null,null,384,{"$f":"1/入力部分!$I$38/(2*3.14)^0.5*EXP(-1/2*(((W390+入力部分!$I$47)-入力部分!$I$29)/入力部分!$I$38)^2)","v":4.0003482650034588E-27},1.5361337337613283E-24,null,null,384,{"$f":"1/入力部分!$I$39/(2*3.14)^0.5*EXP(-1/2*(((AB390+入力部分!$I$48)-入力部分!$I$30)/入力部分!$I$39)^2)","v":1.390969542796887E-160},5.3413230443400464E-158]
[null,null,null,null,null,null,null,null,385,{"$f":"(入力部分!D$7*N391+入力部分!D$8*S391+入力部分!D$9*X391+入力部分!D$10*AC391)/(SUM(入力部分!D$7:D$10))","v":3.215587745877098E-5},null,null,385,{"$f":"1/入力部分!$I$36/(2*3.14)^0.5*EXP(-1/2*(((M391+入力部分!$I$45)-入力部分!$I$27)/入力部分!$I$36)^2)","v":2.5703996069437906E-4},9.8960384867335938E-2,null,null,385,{"$f":"1/入力部分!$I$37/(2*3.14)^0.5*EXP(-1/2*(((R391+入力部分!$I$46)-入力部分!$I$28)/入力部分!$I$37)^2)","v":6.9019658596274874E-8},2.6572568559565828E-5,null,null,385,{"$f":"1/入力部分!$I$38/(2*3.14)^0.5*EXP(-1/2*(((W391+入力部分!$I$47)-入力部分!$I$29)/入力部分!$I$38)^2)","v":2.7639535347080424E-27},1.0641221108625963E-24,null,null,385,{"$f":"1/入力部分!$I$39/(2*3.14)^0.5*EXP(-1/2*(((AB391+入力部分!$I$48)-入力部分!$I$30)/入力部分!$I$39)^2)","v":1.4601779794351388E-161},{"$f":"AB391*$AC391","v":5.6216852208252838E-159}]
[null,null,null,null,null,null,null,null,386,{"$f":"(入力部分!D$7*N392+入力部分!D$8*S392+入力部分!D$9*X392+入力部分!D$10*AC392)/(SUM(入力部分!D$7:D$10))","v":3.1399687674229791E-5},null,null,386,{"$f":"1/入力部分!$I$36/(2*3.14)^0.5*EXP(-1/2*(((M392+入力部分!$I$45)-入力部分!$I$27)/入力部分!$I$36)^2)","v":2.5100702435071164E-4},{"$f":"M392*$N392","v":9.6888711399374688E-2},null,null,386,{"$f":"1/入力部分!$I$37/(2*3.14)^0.5*EXP(-1/2*(((R392+入力部分!$I$46)-入力部分!$I$28)/入力部分!$I$37)^2)","v":6.3492347708898005E-8},{"$f":"R392*$S392","v":2.4508046215634631E-5},null,null,386,{"$f":"1/入力部分!$I$38/(2*3.14)^0.5*EXP(-1/2*(((W392+入力部分!$I$47)-入力部分!$I$29)/入力部分!$I$38)^2)","v":1.907392514031597E-27},{"$f":"W392*$X392","v":7.3625351041619647E-25},null,null,386,{"$f":"1/入力部分!$I$39/(2*3.14)^0.5*EXP(-1/2*(((AB392+入力部分!$I$48)-入力部分!$I$30)/入力部分!$I$39)^2)","v":1.5222221419817943E-162},5.8757774680497257E-160]
[null,null,null,null,null,null,null,null,387,{"$f":"(入力部分!D$7*N393+入力部分!D$8*S393+入力部分!D$9*X393+入力部分!D$10*AC393)/(SUM(入力部分!D$7:D$10))","v":3.06582310221206E-5},null,null,387,{"$f":"1/入力部分!$I$36/(2*3.14)^0.5*EXP(-1/2*(((M393+入力部分!$I$45)-入力部分!$I$27)/入力部分!$I$36)^2)","v":2.450906779389882E-4},9.4850092362388436E-2,null,null,387,{"$f":"1/入力部分!$I$37/(2*3.14)^0.5*EXP(-1/2*(((R393+入力部分!$I$46)-入力部分!$I$28)/入力部分!$I$37)^2)","v":5.8390079325524665E-8},2.2596960698978047E-5,null,null,387,{"$f":"1/入力部分!$I$38/(2*3.14)^0.5*EXP(-1/2*(((W393+入力部分!$I$47)-入力部分!$I$29)/入力部分!$I$38)^2)","v":1.3146974187219154E-27},5.0878790104538128E-25,null,null,387,{"$f":"1/入力部分!$I$39/(2*3.14)^0.5*EXP(-1/2*(((AB393+入力部分!$I$48)-入力部分!$I$30)/入力部分!$I$39)^2)","v":1.5759206309774235E-163},6.0988128418826291E-161]
[null,null,null,null,null,null,null,null,388,{"$f":"(入力部分!D$7*N394+入力部分!D$8*S394+入力部分!D$9*X394+入力部分!D$10*AC394)/(SUM(入力部分!D$7:D$10))","v":2.993130141676296E-5},null,null,388,{"$f":"1/入力部分!$I$36/(2*3.14)^0.5*EXP(-1/2*(((M394+入力部分!$I$45)-入力部分!$I$27)/入力部分!$I$36)^2)","v":2.3928936638837277E-4},9.2844274158688636E-2,null,null,388,{"$f":"1/入力部分!$I$37/(2*3.14)^0.5*EXP(-1/2*(((R394+入力部分!$I$46)-入力部分!$I$28)/入力部分!$I$37)^2)","v":5.3681648576967819E-8},2.0828479647863512E-5,null,null,388,{"$f":"1/入力部分!$I$38/(2*3.14)^0.5*EXP(-1/2*(((W394+入力部分!$I$47)-入力部分!$I$29)/入力部分!$I$38)^2)","v":9.0508203993370888E-28},3.5117183149427904E-25,null,null,388,{"$f":"1/入力部分!$I$39/(2*3.14)^0.5*EXP(-1/2*(((AB394+入力部分!$I$48)-入力部分!$I$30)/入力部分!$I$39)^2)","v":1.6202227033431124E-164},6.2864640889712759E-162]
[null,null,null,null,null,null,null,null,389,{"$f":"(入力部分!D$7*N395+入力部分!D$8*S395+入力部分!D$9*X395+入力部分!D$10*AC395)/(SUM(入力部分!D$7:D$10))","v":2.9218693828652139E-5},null,null,389,{"$f":"1/入力部分!$I$36/(2*3.14)^0.5*EXP(-1/2*(((M395+入力部分!$I$45)-入力部分!$I$27)/入力部分!$I$36)^2)","v":2.3360153656667561E-4},9.0870997724436811E-2,null,null,389,{"$f":"1/入力部分!$I$37/(2*3.14)^0.5*EXP(-1/2*(((R395+入力部分!$I$46)-入力部分!$I$28)/入力部分!$I$37)^2)","v":4.9338020847169308E-8},1.919249010954886E-5,null,null,389,{"$f":"1/入力部分!$I$38/(2*3.14)^0.5*EXP(-1/2*(((W395+入力部分!$I$47)-入力部分!$I$29)/入力部分!$I$38)^2)","v":6.2233823547866783E-28},2.420895736012018E-25,null,null,389,{"$f":"1/入力部分!$I$39/(2*3.14)^0.5*EXP(-1/2*(((AB395+入力部分!$I$48)-入力部分!$I$30)/入力部分!$I$39)^2)","v":1.6542424144935913E-165},6.4350029923800703E-163]
[null,null,null,null,null,null,null,null,390,{"$f":"(入力部分!D$7*N396+入力部分!D$8*S396+入力部分!D$9*X396+入力部分!D$10*AC396)/(SUM(入力部分!D$7:D$10))","v":2.8520204303976428E-5},null,null,390,{"$f":"1/入力部分!$I$36/(2*3.14)^0.5*EXP(-1/2*(((M396+入力部分!$I$45)-入力部分!$I$27)/入力部分!$I$36)^2)","v":2.2802563786075323E-4},8.8929998765693755E-2,null,null,390,{"$f":"1/入力部分!$I$37/(2*3.14)^0.5*EXP(-1/2*(((R396+入力部分!$I$46)-入力部分!$I$28)/入力部分!$I$37)^2)","v":4.5332190352735058E-8},1.7679554237566674E-5,null,null,390,{"$f":"1/入力部分!$I$38/(2*3.14)^0.5*EXP(-1/2*(((W396+入力部分!$I$47)-入力部分!$I$29)/入力部分!$I$38)^2)","v":4.2740679430992798E-28},1.666886497808719E-25,null,null,390,{"$f":"1/入力部分!$I$39/(2*3.14)^0.5*EXP(-1/2*(((AB396+入力部分!$I$48)-入力部分!$I$30)/入力部分!$I$39)^2)","v":1.6772880638884016E-166},6.5414234491647665E-164]
[null,null,null,null,null,null,null,null,391,{"$f":"(入力部分!D$7*N397+入力部分!D$8*S397+入力部分!D$9*X397+入力部分!D$10*AC397)/(SUM(入力部分!D$7:D$10))","v":2.783562998543907E-5},null,null,391,{"$f":"1/入力部分!$I$36/(2*3.14)^0.5*EXP(-1/2*(((M397+入力部分!$I$45)-入力部分!$I$27)/入力部分!$I$36)^2)","v":2.2256012274187364E-4},8.7021007992072588E-2,null,null,391,{"$f":"1/入力部分!$I$37/(2*3.14)^0.5*EXP(-1/2*(((R397+入力部分!$I$46)-入力部分!$I$28)/入力部分!$I$37)^2)","v":4.1639047212968321E-8},1.6280867460270614E-5,null,null,391,{"$f":"1/入力部分!$I$38/(2*3.14)^0.5*EXP(-1/2*(((W397+入力部分!$I$47)-入力部分!$I$29)/入力部分!$I$38)^2)","v":2.9317893274992924E-28},1.1463296270522233E-25,null,null,391,{"$f":"1/入力部分!$I$39/(2*3.14)^0.5*EXP(-1/2*(((AB397+入力部分!$I$48)-入力部分!$I$30)/入力部分!$I$39)^2)","v":1.6888855777606004E-167},6.6035426090439474E-165]
[null,null,null,null,null,null,null,null,392,{"$f":"(入力部分!D$7*N398+入力部分!D$8*S398+入力部分!D$9*X398+入力部分!D$10*AC398)/(SUM(入力部分!D$7:D$10))","v":2.7164769134215403E-5},null,null,392,{"$f":"1/入力部分!$I$36/(2*3.14)^0.5*EXP(-1/2*(((M398+入力部分!$I$45)-入力部分!$I$27)/入力部分!$I$36)^2)","v":2.172034473160614E-4},8.5143751347896077E-2,null,null,392,{"$f":"1/入力部分!$I$37/(2*3.14)^0.5*EXP(-1/2*(((R398+入力部分!$I$46)-入力部分!$I$28)/入力部分!$I$37)^2)","v":3.8235252553948151E-8},1.4988219001147676E-5,null,null,392,{"$f":"1/入力部分!$I$38/(2*3.14)^0.5*EXP(-1/2*(((W398+入力部分!$I$47)-入力部分!$I$29)/入力部分!$I$38)^2)","v":2.0086325574978563E-28},7.8738396253915972E-26,null,null,392,{"$f":"1/入力部分!$I$39/(2*3.14)^0.5*EXP(-1/2*(((AB398+入力部分!$I$48)-入力部分!$I$30)/入力部分!$I$39)^2)","v":1.6887947250933982E-168},6.6200753223661204E-166]
[null,null,null,null,null,null,null,null,393,{"$f":"(入力部分!D$7*N399+入力部分!D$8*S399+入力部分!D$9*X399+入力部分!D$10*AC399)/(SUM(入力部分!D$7:D$10))","v":2.6507421152884789E-5},null,null,393,{"$f":"1/入力部分!$I$36/(2*3.14)^0.5*EXP(-1/2*(((M399+入力部分!$I$45)-入力部分!$I$27)/入力部分!$I$36)^2)","v":2.1195407185944543E-4},8.3297950240762059E-2,null,null,393,{"$f":"1/入力部分!$I$37/(2*3.14)^0.5*EXP(-1/2*(((R399+入力部分!$I$46)-入力部分!$I$28)/入力部分!$I$37)^2)","v":3.5099121210956902E-8},1.3793954635906063E-5,null,null,393,{"$f":"1/入力部分!$I$38/(2*3.14)^0.5*EXP(-1/2*(((W399+入力部分!$I$47)-入力部分!$I$29)/入力部分!$I$38)^2)","v":1.3744996589047786E-28},5.4017836594957798E-26,null,null,393,{"$f":"1/入力部分!$I$39/(2*3.14)^0.5*EXP(-1/2*(((AB399+入力部分!$I$48)-入力部分!$I$30)/入力部分!$I$39)^2)","v":1.6770173920936183E-169},6.59067835092792E-167]
[null,null,null,null,null,null,null,null,394,{"$f":"(入力部分!D$7*N400+入力部分!D$8*S400+入力部分!D$9*X400+入力部分!D$10*AC400)/(SUM(入力部分!D$7:D$10))","v":2.5863386609186318E-5},null,null,394,{"$f":"1/入力部分!$I$36/(2*3.14)^0.5*EXP(-1/2*(((M400+入力部分!$I$45)-入力部分!$I$27)/入力部分!$I$36)^2)","v":2.0681046133864972E-4},8.1483321767427994E-2,null,null,394,{"$f":"1/入力部分!$I$37/(2*3.14)^0.5*EXP(-1/2*(((R400+入力部分!$I$46)-入力部分!$I$28)/入力部分!$I$37)^2)","v":3.2210511613615717E-8},1.2690941575764593E-5,null,null,394,{"$f":"1/入力部分!$I$38/(2*3.14)^0.5*EXP(-1/2*(((W400+入力部分!$I$47)-入力部分!$I$29)/入力部分!$I$38)^2)","v":9.3943162327709688E-29},3.701360595711762E-26,null,null,394,{"$f":"1/入力部分!$I$39/(2*3.14)^0.5*EXP(-1/2*(((AB400+入力部分!$I$48)-入力部分!$I$30)/入力部分!$I$39)^2)","v":1.6537975170754757E-170},6.5159622172773746E-168]
[null,null,null,null,null,null,null,null,395,{"$f":"(入力部分!D$7*N401+入力部分!D$8*S401+入力部分!D$9*X401+入力部分!D$10*AC401)/(SUM(入力部分!D$7:D$10))","v":2.5232467260455241E-5},null,null,395,{"$f":"1/入力部分!$I$36/(2*3.14)^0.5*EXP(-1/2*(((M401+入力部分!$I$45)-入力部分!$I$27)/入力部分!$I$36)^2)","v":2.0177108591626946E-4},7.9699578936926432E-2,null,null,395,{"$f":"1/入力部分!$I$37/(2*3.14)^0.5*EXP(-1/2*(((R401+入力部分!$I$46)-入力部分!$I$28)/入力部分!$I$37)^2)","v":2.9550722457480716E-8},1.1672535370704884E-5,null,null,395,{"$f":"1/入力部分!$I$38/(2*3.14)^0.5*EXP(-1/2*(((W401+入力部分!$I$47)-入力部分!$I$29)/入力部分!$I$38)^2)","v":6.41301291758175E-29},2.5331401024447913E-26,null,null,395,{"$f":"1/入力部分!$I$39/(2*3.14)^0.5*EXP(-1/2*(((AB401+入力部分!$I$48)-入力部分!$I$30)/入力部分!$I$39)^2)","v":1.6196126888961424E-171},6.3974701211397621E-169]
[null,null,null,null,null,null,null,null,396,{"$f":"(入力部分!D$7*N402+入力部分!D$8*S402+入力部分!D$9*X402+入力部分!D$10*AC402)/(SUM(入力部分!D$7:D$10))","v":2.4614466078605057E-5},null,null,396,{"$f":"1/入力部分!$I$36/(2*3.14)^0.5*EXP(-1/2*(((M402+入力部分!$I$45)-入力部分!$I$27)/入力部分!$I$36)^2)","v":1.9683442144148672E-4},7.7946430890828741E-2,null,null,396,{"$f":"1/入力部分!$I$37/(2*3.14)^0.5*EXP(-1/2*(((R402+入力部分!$I$46)-入力部分!$I$28)/入力部分!$I$37)^2)","v":2.7102395784579021E-8},1.0732548730693293E-5,null,null,396,{"$f":"1/入力部分!$I$38/(2*3.14)^0.5*EXP(-1/2*(((W402+入力部分!$I$47)-入力部分!$I$29)/入力部分!$I$38)^2)","v":4.3725567464741821E-29},1.7315324716037761E-26,null,null,396,{"$f":"1/入力部分!$I$39/(2*3.14)^0.5*EXP(-1/2*(((AB402+入力部分!$I$48)-入力部分!$I$30)/入力部分!$I$39)^2)","v":1.5751578131115376E-172},6.2376249399216889E-170]
[null,null,null,null,null,null,null,null,397,{"$f":"(入力部分!D$7*N403+入力部分!D$8*S403+入力部分!D$9*X403+入力部分!D$10*AC403)/(SUM(入力部分!D$7:D$10))","v":2.4009187275529015E-5},null,null,397,{"$f":"1/入力部分!$I$36/(2*3.14)^0.5*EXP(-1/2*(((M403+入力部分!$I$45)-入力部分!$I$27)/入力部分!$I$36)^2)","v":1.9199894992589188E-4},7.6223583120579072E-2,null,null,397,{"$f":"1/入力部分!$I$37/(2*3.14)^0.5*EXP(-1/2*(((R403+入力部分!$I$46)-入力部分!$I$28)/入力部分!$I$37)^2)","v":2.4849426113413347E-8},9.8652221670250989E-6,null,null,397,{"$f":"1/入力部分!$I$38/(2*3.14)^0.5*EXP(-1/2*(((W403+入力部分!$I$47)-入力部分!$I$29)/入力部分!$I$38)^2)","v":2.9777291641306456E-29},1.1821584781598663E-26,null,null,397,{"$f":"1/入力部分!$I$39/(2*3.14)^0.5*EXP(-1/2*(((AB403+入力部分!$I$48)-入力部分!$I$30)/入力部分!$I$39)^2)","v":1.5213216261252746E-173},6.0396468557173402E-171]
[null,null,null,null,null,null,null,null,398,{"$f":"(入力部分!D$7*N404+入力部分!D$8*S404+入力部分!D$9*X404+入力部分!D$10*AC404)/(SUM(入力部分!D$7:D$10))","v":2.3416436328801565E-5},null,null,398,{"$f":"1/入力部分!$I$36/(2*3.14)^0.5*EXP(-1/2*(((M404+入力部分!$I$45)-入力部分!$I$27)/入力部分!$I$36)^2)","v":1.8726316000458338E-4},7.453073768182418E-2,null,null,398,{"$f":"1/入力部分!$I$37/(2*3.14)^0.5*EXP(-1/2*(((R404+入力部分!$I$46)-入力部分!$I$28)/入力部分!$I$37)^2)","v":2.2776875276377261E-8},9.0651963599981505E-6,null,null,398,{"$f":"1/入力部分!$I$38/(2*3.14)^0.5*EXP(-1/2*(((W404+入力部分!$I$47)-入力部分!$I$29)/入力部分!$I$38)^2)","v":2.025402468235794E-29},8.06110182357846E-27,null,null,398,{"$f":"1/入力部分!$I$39/(2*3.14)^0.5*EXP(-1/2*(((AB404+入力部分!$I$48)-入力部分!$I$30)/入力部分!$I$39)^2)","v":1.4591571658746297E-174},5.8074455201810259E-172]
[null,null,null,null,null,null,null,null,399,{"$f":"(入力部分!D$7*N405+入力部分!D$8*S405+入力部分!D$9*X405+入力部分!D$10*AC405)/(SUM(入力部分!D$7:D$10))","v":2.2836020007567681E-5},null,null,399,{"$f":"1/入力部分!$I$36/(2*3.14)^0.5*EXP(-1/2*(((M405+入力部分!$I$45)-入力部分!$I$27)/入力部分!$I$36)^2)","v":1.8262554738262364E-4},7.2867593405666828E-2,null,null,399,{"$f":"1/入力部分!$I$37/(2*3.14)^0.5*EXP(-1/2*(((R405+入力部分!$I$46)-入力部分!$I$28)/入力部分!$I$37)^2)","v":2.0870892639268885E-8},8.3274861630682855E-6,null,null,399,{"$f":"1/入力部分!$I$38/(2*3.14)^0.5*EXP(-1/2*(((W405+入力部分!$I$47)-入力部分!$I$29)/入力部分!$I$38)^2)","v":1.3759855580158653E-29},5.4901823764833026E-27,null,null,399,{"$f":"1/入力部分!$I$39/(2*3.14)^0.5*EXP(-1/2*(((AB405+入力部分!$I$48)-入力部分!$I$30)/入力部分!$I$39)^2)","v":1.3898475687709382E-175},5.5454917993960434E-173]
[null,null,null,null,null,null,null,null,400,{"$f":"(入力部分!D$7*N406+入力部分!D$8*S406+入力部分!D$9*X406+入力部分!D$10*AC406)/(SUM(入力部分!D$7:D$10))","v":2.2267746398515964E-5},null,null,400,{"$f":"1/入力部分!$I$36/(2*3.14)^0.5*EXP(-1/2*(((M406+入力部分!$I$45)-入力部分!$I$27)/入力部分!$I$36)^2)","v":1.7808461526694656E-4},7.1233846106778631E-2,null,null,400,{"$f":"1/入力部分!$I$37/(2*3.14)^0.5*EXP(-1/2*(((R406+入力部分!$I$46)-入力部分!$I$28)/入力部分!$I$37)^2)","v":1.9118640393719994E-8},7.6474561574879978E-6,null,null,400,{"$f":"1/入力部分!$I$38/(2*3.14)^0.5*EXP(-1/2*(((W406+入力部分!$I$47)-入力部分!$I$29)/入力部分!$I$38)^2)","v":9.33668736396724E-30},3.7346749455868959E-27,null,null,400,{"$f":"1/入力部分!$I$39/(2*3.14)^0.5*EXP(-1/2*(((AB406+入力部分!$I$48)-入力部分!$I$30)/入力部分!$I$39)^2)","v":1.3146687423320586E-176},5.2586749693282342E-174]
[null,null,null,null,null,null,null,null,401,{"$f":"(入力部分!D$7*N407+入力部分!D$8*S407+入力部分!D$9*X407+入力部分!D$10*AC407)/(SUM(入力部分!D$7:D$10))","v":2.1711424931837058E-5},null,null,401,{"$f":"1/入力部分!$I$36/(2*3.14)^0.5*EXP(-1/2*(((M407+入力部分!$I$45)-入力部分!$I$27)/入力部分!$I$36)^2)","v":1.7363887478380994E-4},6.9629188788307789E-2,null,null,401,{"$f":"1/入力部分!$I$37/(2*3.14)^0.5*EXP(-1/2*(((R407+入力部分!$I$46)-入力部分!$I$28)/入力部分!$I$37)^2)","v":1.750822362884154E-8},7.0207976751654576E-6,null,null,401,{"$f":"1/入力部分!$I$38/(2*3.14)^0.5*EXP(-1/2*(((W407+入力部分!$I$47)-入力部分!$I$29)/入力部分!$I$38)^2)","v":6.3277331839347632E-30},2.53742100675784E-27,null,null,401,{"$f":"1/入力部分!$I$39/(2*3.14)^0.5*EXP(-1/2*(((AB407+入力部分!$I$48)-入力部分!$I$30)/入力部分!$I$39)^2)","v":1.2349505527621991E-177},4.9521517165764184E-175]
[null,null,null,null,null,null,null,null,402,{"$f":"(入力部分!D$7*N408+入力部分!D$8*S408+入力部分!D$9*X408+入力部分!D$10*AC408)/(SUM(入力部分!D$7:D$10))","v":2.1166866407076177E-5},null,null,402,{"$f":"1/入力部分!$I$36/(2*3.14)^0.5*EXP(-1/2*(((M408+入力部分!$I$45)-入力部分!$I$27)/入力部分!$I$36)^2)","v":1.6928684538189959E-4},6.8053311843523631E-2,null,null,402,{"$f":"1/入力部分!$I$37/(2*3.14)^0.5*EXP(-1/2*(((R408+入力部分!$I$46)-入力部分!$I$28)/入力部分!$I$37)^2)","v":1.6028624903273503E-8},6.443507211115948E-6,null,null,402,{"$f":"1/入力部分!$I$38/(2*3.14)^0.5*EXP(-1/2*(((W408+入力部分!$I$47)-入力部分!$I$29)/入力部分!$I$38)^2)","v":4.2833138770533386E-30},1.7218921785754422E-27,null,null,402,{"$f":"1/入力部分!$I$39/(2*3.14)^0.5*EXP(-1/2*(((AB408+入力部分!$I$48)-入力部分!$I$30)/入力部分!$I$39)^2)","v":1.1520381645676851E-178},4.6311934215620944E-176]
[null,null,null,null,null,null,null,null,403,{"$f":"(入力部分!D$7*N409+入力部分!D$8*S409+入力部分!D$9*X409+入力部分!D$10*AC409)/(SUM(入力部分!D$7:D$10))","v":2.0633883018794905E-5},null,null,403,{"$f":"1/入力部分!$I$36/(2*3.14)^0.5*EXP(-1/2*(((M409+入力部分!$I$45)-入力部分!$I$27)/入力部分!$I$36)^2)","v":1.6502705522119994E-4},6.6505903254143572E-2,null,null,403,{"$f":"1/入力部分!$I$37/(2*3.14)^0.5*EXP(-1/2*(((R409+入力部分!$I$46)-入力部分!$I$28)/入力部分!$I$37)^2)","v":1.4669643053100206E-8},5.9118661503993831E-6,null,null,403,{"$f":"1/入力部分!$I$38/(2*3.14)^0.5*EXP(-1/2*(((W409+入力部分!$I$47)-入力部分!$I$29)/入力部分!$I$38)^2)","v":2.8959298835471714E-30},1.1670597430695101E-27,null,null,403,{"$f":"1/入力部分!$I$39/(2*3.14)^0.5*EXP(-1/2*(((AB409+入力部分!$I$48)-入力部分!$I$30)/入力部分!$I$39)^2)","v":1.0672550793218466E-179},4.3010379696670421E-177]
[null,null,null,null,null,null,null,null,404,{"$f":"(入力部分!D$7*N410+入力部分!D$8*S410+入力部分!D$9*X410+入力部分!D$10*AC410)/(SUM(入力部分!D$7:D$10))","v":2.0112288381962837E-5},null,null,404,{"$f":"1/入力部分!$I$36/(2*3.14)^0.5*EXP(-1/2*(((M410+入力部分!$I$45)-入力部分!$I$27)/入力部分!$I$36)^2)","v":1.6085804154774834E-4},6.4986648785290327E-2,null,null,404,{"$f":"1/入力部分!$I$37/(2*3.14)^0.5*EXP(-1/2*(((R410+入力部分!$I$46)-入力部分!$I$28)/入力部分!$I$37)^2)","v":1.3421835984782762E-8},5.4224217378522358E-6,null,null,404,{"$f":"1/入力部分!$I$38/(2*3.14)^0.5*EXP(-1/2*(((W410+入力部分!$I$47)-入力部分!$I$29)/入力部分!$I$38)^2)","v":1.9555664827054564E-30},7.9004885901300435E-28,null,null,404,{"$f":"1/入力部分!$I$39/(2*3.14)^0.5*EXP(-1/2*(((AB410+入力部分!$I$48)-入力部分!$I$30)/入力部分!$I$39)^2)","v":9.8186925275903604E-181},3.9667517811465054E-178]
[null,null,null,null,null,null,null,null,405,{"$f":"(入力部分!D$7*N411+入力部分!D$8*S411+入力部分!D$9*X411+入力部分!D$10*AC411)/(SUM(入力部分!D$7:D$10))","v":1.960189755700616E-5},null,null,405,{"$f":"1/入力部分!$I$36/(2*3.14)^0.5*EXP(-1/2*(((M411+入力部分!$I$45)-入力部分!$I$27)/入力部分!$I$36)^2)","v":1.5677835105440315E-4},6.3495232177033276E-2,null,null,405,{"$f":"1/入力部分!$I$37/(2*3.14)^0.5*EXP(-1/2*(((R411+入力部分!$I$46)-入力部分!$I$28)/入力部分!$I$37)^2)","v":1.2276467215379022E-8},4.9719692222285036E-6,null,null,405,{"$f":"1/入力部分!$I$38/(2*3.14)^0.5*EXP(-1/2*(((W411+入力部分!$I$47)-入力部分!$I$29)/入力部分!$I$38)^2)","v":1.3189657798852023E-30},5.3418114085350697E-28,null,null,405,{"$f":"1/入力部分!$I$39/(2*3.14)^0.5*EXP(-1/2*(((AB411+入力部分!$I$48)-入力部分!$I$30)/入力部分!$I$39)^2)","v":8.9706343801924159E-182},3.6331069239779286E-179]
[null,null,null,null,null,null,null,null,406,{"$f":"(入力部分!D$7*N412+入力部分!D$8*S412+入力部分!D$9*X412+入力部分!D$10*AC412)/(SUM(入力部分!D$7:D$10))","v":1.910252707444543E-5},null,null,406,{"$f":"1/入力部分!$I$36/(2*3.14)^0.5*EXP(-1/2*(((M412+入力部分!$I$45)-入力部分!$I$27)/入力部分!$I$36)^2)","v":1.5278654022775882E-4},6.2031335332470079E-2,null,null,406,{"$f":"1/入力部分!$I$37/(2*3.14)^0.5*EXP(-1/2*(((R412+入力部分!$I$46)-入力部分!$I$28)/入力部分!$I$37)^2)","v":1.122545593487246E-8},4.5575351095582186E-6,null,null,406,{"$f":"1/入力部分!$I$38/(2*3.14)^0.5*EXP(-1/2*(((W412+入力部分!$I$47)-入力部分!$I$29)/入力部分!$I$38)^2)","v":8.8852749511246958E-31},3.6074216301566264E-28,null,null,406,{"$f":"1/入力部分!$I$39/(2*3.14)^0.5*EXP(-1/2*(((AB412+入力部分!$I$48)-入力部分!$I$30)/入力部分!$I$39)^2)","v":8.1391062597126827E-183},3.3044771414433493E-180]
[null,null,null,null,null,null,null,null,407,{"$f":"(入力部分!D$7*N413+入力部分!D$8*S413+入力部分!D$9*X413+入力部分!D$10*AC413)/(SUM(入力部分!D$7:D$10))","v":1.8613994959059711E-5},null,null,407,{"$f":"1/入力部分!$I$36/(2*3.14)^0.5*EXP(-1/2*(((M413+入力部分!$I$45)-入力部分!$I$27)/入力部分!$I$36)^2)","v":1.4888117568134535E-4},6.0594638502307556E-2,null,null,407,{"$f":"1/入力部分!$I$37/(2*3.14)^0.5*EXP(-1/2*(((R413+入力部分!$I$46)-入力部分!$I$28)/入力部分!$I$37)^2)","v":1.0261330377447145E-8},4.1763614636209878E-6,null,null,407,{"$f":"1/入力部分!$I$38/(2*3.14)^0.5*EXP(-1/2*(((W413+入力部分!$I$47)-入力部分!$I$29)/入力部分!$I$38)^2)","v":5.9783951250787496E-31},2.4332068159070513E-28,null,null,407,{"$f":"1/入力部分!$I$39/(2*3.14)^0.5*EXP(-1/2*(((AB413+入力部分!$I$48)-入力部分!$I$30)/入力部分!$I$39)^2)","v":7.3335515078699889E-184},2.9847554637030857E-181]
[null,null,null,null,null,null,null,null,408,{"$f":"(入力部分!D$7*N414+入力部分!D$8*S414+入力部分!D$9*X414+入力部分!D$10*AC414)/(SUM(入力部分!D$7:D$10))","v":1.8136120753520512E-5},null,null,408,{"$f":"1/入力部分!$I$36/(2*3.14)^0.5*EXP(-1/2*(((M414+入力部分!$I$45)-入力部分!$I$27)/入力部分!$I$36)^2)","v":1.4506083447526401E-4},5.9184820465907714E-2,null,null,408,{"$f":"1/入力部分!$I$37/(2*3.14)^0.5*EXP(-1/2*(((R414+入力部分!$I$46)-入力部分!$I$28)/入力部分!$I$37)^2)","v":9.3771843000234814E-9},3.8258911944095804E-6,null,null,408,{"$f":"1/入力部分!$I$38/(2*3.14)^0.5*EXP(-1/2*(((W414+入力部分!$I$47)-入力部分!$I$29)/入力部分!$I$38)^2)","v":4.0176745979514004E-31},1.6392112359641715E-28,null,null,408,{"$f":"1/入力部分!$I$39/(2*3.14)^0.5*EXP(-1/2*(((AB414+入力部分!$I$48)-入力部分!$I$30)/入力部分!$I$39)^2)","v":6.5619972031189149E-185},2.6772948588725173E-182]
[null,null,null,null,null,null,null,null,409,{"$f":"(入力部分!D$7*N415+入力部分!D$8*S415+入力部分!D$9*X415+入力部分!D$10*AC415)/(SUM(入力部分!D$7:D$10))","v":1.766872554144239E-5},null,null,409,{"$f":"1/入力部分!$I$36/(2*3.14)^0.5*EXP(-1/2*(((M415+入力部分!$I$45)-入力部分!$I$27)/入力部分!$I$36)^2)","v":1.413241044224071E-4},5.7801558708764501E-2,null,null,409,{"$f":"1/入力部分!$I$37/(2*3.14)^0.5*EXP(-1/2*(((R415+入力部分!$I$46)-入力部分!$I$28)/入力部分!$I$37)^2)","v":8.5666363773387003E-9},3.5037542783315285E-6,null,null,409,{"$f":"1/入力部分!$I$38/(2*3.14)^0.5*EXP(-1/2*(((W415+入力部分!$I$47)-入力部分!$I$29)/入力部分!$I$38)^2)","v":2.6967538263567801E-31},1.102972314979923E-28,null,null,409,{"$f":"1/入力部分!$I$39/(2*3.14)^0.5*EXP(-1/2*(((AB415+入力部分!$I$48)-入力部分!$I$30)/入力部分!$I$39)^2)","v":5.8309833503286714E-186},2.3848721902844266E-183]
[null,null,null,null,null,null,null,null,410,{"$f":"(入力部分!D$7*N416+入力部分!D$8*S416+入力部分!D$9*X416+入力部分!D$10*AC416)/(SUM(入力部分!D$7:D$10))","v":1.721163196980248E-5},null,null,410,{"$f":"1/入力部分!$I$36/(2*3.14)^0.5*EXP(-1/2*(((M416+入力部分!$I$45)-入力部分!$I$27)/入力部分!$I$36)^2)","v":1.3766958438141987E-4},5.6444529596382145E-2,null,null,410,{"$f":"1/入力部分!$I$37/(2*3.14)^0.5*EXP(-1/2*(((R416+入力部分!$I$46)-入力部分!$I$28)/入力部分!$I$37)^2)","v":7.8237923333214484E-9},3.2077548566617938E-6,null,null,410,{"$f":"1/入力部分!$I$38/(2*3.14)^0.5*EXP(-1/2*(((W416+入力部分!$I$47)-入力部分!$I$29)/入力部分!$I$38)^2)","v":1.807940978034232E-31},7.4125580099403513E-29,null,null,410,{"$f":"1/入力部分!$I$39/(2*3.14)^0.5*EXP(-1/2*(((AB416+入力部分!$I$48)-入力部分!$I$30)/入力部分!$I$39)^2)","v":5.1455479288865666E-187},2.1096746508434923E-184]
[null,null,null,null,null,null,null,null,411,{"$f":"(入力部分!D$7*N417+入力部分!D$8*S417+入力部分!D$9*X417+入力部分!D$10*AC417)/(SUM(入力部分!D$7:D$10))","v":1.6764664270685974E-5},null,null,411,{"$f":"1/入力部分!$I$36/(2*3.14)^0.5*EXP(-1/2*(((M417+入力部分!$I$45)-入力部分!$I$27)/入力部分!$I$36)^2)","v":1.3409588453657231E-4},5.5113408544531221E-2,null,null,411,{"$f":"1/入力部分!$I$37/(2*3.14)^0.5*EXP(-1/2*(((R417+入力部分!$I$46)-入力部分!$I$28)/入力部分!$I$37)^2)","v":7.1432096384960027E-9},2.9358591614218572E-6,null,null,411,{"$f":"1/入力部分!$I$38/(2*3.14)^0.5*EXP(-1/2*(((W417+入力部分!$I$47)-入力部分!$I$29)/入力部分!$I$38)^2)","v":1.2106081506922962E-31},4.9755994993453372E-29,null,null,411,{"$f":"1/入力部分!$I$39/(2*3.14)^0.5*EXP(-1/2*(((AB417+入力部分!$I$48)-入力部分!$I$30)/入力部分!$I$39)^2)","v":4.5092625269945643E-188},1.8533068985947661E-185]
[null,null,null,null,null,null,null,null,412,{"$f":"(入力部分!D$7*N418+入力部分!D$8*S418+入力部分!D$9*X418+入力部分!D$10*AC418)/(SUM(入力部分!D$7:D$10))","v":1.6327648282317447E-5},null,null,412,{"$f":"1/入力部分!$I$36/(2*3.14)^0.5*EXP(-1/2*(((M418+入力部分!$I$45)-入力部分!$I$27)/入力部分!$I$36)^2)","v":1.3060162666470157E-4},5.3807870185857046E-2,null,null,412,{"$f":"1/入力部分!$I$37/(2*3.14)^0.5*EXP(-1/2*(((R418+入力部分!$I$46)-入力部分!$I$28)/入力部分!$I$37)^2)","v":6.5198646126672657E-9},2.6861842204189134E-6,null,null,412,{"$f":"1/入力部分!$I$38/(2*3.14)^0.5*EXP(-1/2*(((W418+入力部分!$I$47)-入力部分!$I$29)/入力部分!$I$38)^2)","v":8.0965376378756481E-32},3.3357735068047668E-29,null,null,412,{"$f":"1/入力部分!$I$39/(2*3.14)^0.5*EXP(-1/2*(((AB418+入力部分!$I$48)-入力部分!$I$30)/入力部分!$I$39)^2)","v":3.9243115549866093E-189},1.6168163606544831E-186]
[null,null,null,null,null,null,null,null,413,{"$f":"(入力部分!D$7*N419+入力部分!D$8*S419+入力部分!D$9*X419+入力部分!D$10*AC419)/(SUM(入力部分!D$7:D$10))","v":1.5900411469343529E-5},null,null,413,{"$f":"1/入力部分!$I$36/(2*3.14)^0.5*EXP(-1/2*(((M419+入力部分!$I$45)-入力部分!$I$27)/入力部分!$I$36)^2)","v":1.2718544438940462E-4},5.2527588532824111E-2,null,null,413,{"$f":"1/入力部分!$I$37/(2*3.14)^0.5*EXP(-1/2*(((R419+入力部分!$I$46)-入力部分!$I$28)/入力部分!$I$37)^2)","v":5.9491217812019202E-9},2.4569872956363929E-6,null,null,413,{"$f":"1/入力部分!$I$38/(2*3.14)^0.5*EXP(-1/2*(((W419+入力部分!$I$47)-入力部分!$I$29)/入力部分!$I$38)^2)","v":5.4084333857506635E-32},2.233682988315024E-29,null,null,413,{"$f":"1/入力部分!$I$39/(2*3.14)^0.5*EXP(-1/2*(((AB419+入力部分!$I$48)-入力部分!$I$30)/入力部分!$I$39)^2)","v":3.3916068516180385E-190},1.4007336297182499E-187]
[null,null,null,null,null,null,null,null,414,{"$f":"(入力部分!D$7*N420+入力部分!D$8*S420+入力部分!D$9*X420+入力部分!D$10*AC420)/(SUM(入力部分!D$7:D$10))","v":1.548278294233517E-5},null,null,414,{"$f":"1/入力部分!$I$36/(2*3.14)^0.5*EXP(-1/2*(((M420+入力部分!$I$45)-入力部分!$I$27)/入力部分!$I$36)^2)","v":1.2384598342265581E-4},5.1272237136979509E-2,null,null,414,{"$f":"1/入力部分!$I$37/(2*3.14)^0.5*EXP(-1/2*(((R420+入力部分!$I$46)-入力部分!$I$28)/入力部分!$I$37)^2)","v":5.4267053418509424E-9},2.2466560115262902E-6,null,null,414,{"$f":"1/入力部分!$I$38/(2*3.14)^0.5*EXP(-1/2*(((W420+入力部分!$I$47)-入力部分!$I$29)/入力部分!$I$38)^2)","v":3.6084445104586594E-32},1.493896027329885E-29,null,null,414,{"$f":"1/入力部分!$I$39/(2*3.14)^0.5*EXP(-1/2*(((AB420+入力部分!$I$48)-入力部分!$I$30)/入力部分!$I$39)^2)","v":2.9109288798477645E-191},1.2051245562569745E-188]
[null,null,null,null,null,null,null,null,415,{"$f":"(入力部分!D$7*N421+入力部分!D$8*S421+入力部分!D$9*X421+入力部分!D$10*AC421)/(SUM(入力部分!D$7:D$10))","v":1.5074593476481412E-5},null,null,415,{"$f":"1/入力部分!$I$36/(2*3.14)^0.5*EXP(-1/2*(((M421+入力部分!$I$45)-入力部分!$I$27)/入力部分!$I$36)^2)","v":1.2058190179402952E-4},5.0041489244522251E-2,null,null,415,{"$f":"1/入力部分!$I$37/(2*3.14)^0.5*EXP(-1/2*(((R421+入力部分!$I$46)-入力部分!$I$28)/入力部分!$I$37)^2)","v":4.9486726072640371E-9},2.0536991320145755E-6,null,null,415,{"$f":"1/入力部分!$I$38/(2*3.14)^0.5*EXP(-1/2*(((W421+入力部分!$I$47)-入力部分!$I$29)/入力部分!$I$38)^2)","v":2.4046118215584494E-32},9.9791390594675645E-30,null,null,415,{"$f":"1/入力部分!$I$39/(2*3.14)^0.5*EXP(-1/2*(((AB421+入力部分!$I$48)-入力部分!$I$30)/入力部分!$I$39)^2)","v":2.4810856210828115E-192},1.0296505327493668E-189]
[null,null,null,null,null,null,null,null,416,{"$f":"(入力部分!D$7*N422+入力部分!D$8*S422+入力部分!D$9*X422+入力部分!D$10*AC422)/(SUM(入力部分!D$7:D$10))","v":1.4675675529450645E-5},null,null,416,{"$f":"1/入力部分!$I$36/(2*3.14)^0.5*EXP(-1/2*(((M422+入力部分!$I$45)-入力部分!$I$27)/入力部分!$I$36)^2)","v":1.173918700677167E-4},4.8835017948170148E-2,null,null,416,{"$f":"1/入力部分!$I$37/(2*3.14)^0.5*EXP(-1/2*(((R422+入力部分!$I$46)-入力部分!$I$28)/入力部分!$I$37)^2)","v":4.5113892961505197E-9},1.8767379471986162E-6,null,null,416,{"$f":"1/入力部分!$I$38/(2*3.14)^0.5*EXP(-1/2*(((W422+入力部分!$I$47)-入力部分!$I$29)/入力部分!$I$38)^2)","v":1.6004655295130709E-32},6.6579366027743752E-30,null,null,416,{"$f":"1/入力部分!$I$39/(2*3.14)^0.5*EXP(-1/2*(((AB422+入力部分!$I$48)-入力部分!$I$30)/入力部分!$I$39)^2)","v":2.1000806573784437E-193},8.736335534694326E-191]
[null,null,null,null,null,null,null,null,417,{"$f":"(入力部分!D$7*N423+入力部分!D$8*S423+入力部分!D$9*X423+入力部分!D$10*AC423)/(SUM(入力部分!D$7:D$10))","v":1.4285863258397957E-5},null,null,417,{"$f":"1/入力部分!$I$36/(2*3.14)^0.5*EXP(-1/2*(((M423+入力部分!$I$45)-入力部分!$I$27)/入力部分!$I$36)^2)","v":1.142745715475233E-4},4.7652496335317214E-2,null,null,417,{"$f":"1/入力部分!$I$37/(2*3.14)^0.5*EXP(-1/2*(((R423+入力部分!$I$46)-入力部分!$I$28)/入力部分!$I$37)^2)","v":4.1115065534510171E-9},1.7144982327890741E-6,null,null,417,{"$f":"1/入力部分!$I$38/(2*3.14)^0.5*EXP(-1/2*(((W423+入力部分!$I$47)-入力部分!$I$29)/入力部分!$I$38)^2)","v":1.0639569900899697E-32},4.4367006486751736E-30,null,null,417,{"$f":"1/入力部分!$I$39/(2*3.14)^0.5*EXP(-1/2*(((AB423+入力部分!$I$48)-入力部分!$I$30)/入力部分!$I$39)^2)","v":1.7652826959931775E-194},7.3612288422915494E-192]
[null,null,null,null,null,null,null,null,418,{"$f":"(入力部分!D$7*N424+入力部分!D$8*S424+入力部分!D$9*X424+入力部分!D$10*AC424)/(SUM(入力部分!D$7:D$10))","v":1.3904992536100362E-5},null,null,418,{"$f":"1/入力部分!$I$36/(2*3.14)^0.5*EXP(-1/2*(((M424+入力部分!$I$45)-入力部分!$I$27)/入力部分!$I$36)^2)","v":1.1122870247004214E-4},4.6493597632477617E-2,null,null,418,{"$f":"1/入力部分!$I$37/(2*3.14)^0.5*EXP(-1/2*(((R424+入力部分!$I$46)-入力部分!$I$28)/入力部分!$I$37)^2)","v":3.7459395869226441E-9},1.5658027473336651E-6,null,null,418,{"$f":"1/入力部分!$I$38/(2*3.14)^0.5*EXP(-1/2*(((W424+入力部分!$I$47)-入力部分!$I$29)/入力部分!$I$38)^2)","v":7.064447791359452E-33},2.9529391767882508E-30,null,null,418,{"$f":"1/入力部分!$I$39/(2*3.14)^0.5*EXP(-1/2*(((AB424+入力部分!$I$48)-入力部分!$I$30)/入力部分!$I$39)^2)","v":1.4735898429403981E-195},6.1596055434908639E-193]
[null,null,null,null,null,null,null,null,419,{"$f":"(入力部分!D$7*N425+入力部分!D$8*S425+入力部分!D$9*X425+入力部分!D$10*AC425)/(SUM(入力部分!D$7:D$10))","v":1.3532900966205044E-5},null,null,419,{"$f":"1/入力部分!$I$36/(2*3.14)^0.5*EXP(-1/2*(((M425+入力部分!$I$45)-入力部分!$I$27)/入力部分!$I$36)^2)","v":1.0825297218619771E-4},4.5357995346016838E-2,null,null,419,{"$f":"1/入力部分!$I$37/(2*3.14)^0.5*EXP(-1/2*(((R425+入力部分!$I$46)-入力部分!$I$28)/入力部分!$I$37)^2)","v":3.4118478142146262E-9},1.4295642341559283E-6,null,null,419,{"$f":"1/入力部分!$I$38/(2*3.14)^0.5*EXP(-1/2*(((W425+入力部分!$I$47)-入力部分!$I$29)/入力部分!$I$38)^2)","v":4.6849910759061495E-33},1.9630112608046766E-30,null,null,419,{"$f":"1/入力部分!$I$39/(2*3.14)^0.5*EXP(-1/2*(((AB425+入力部分!$I$48)-入力部分!$I$30)/入力部分!$I$39)^2)","v":1.2215831701250961E-196},5.1184334828241525E-194]
[null,null,null,null,null,null,null,null,420,{"$f":"(入力部分!D$7*N426+入力部分!D$8*S426+入力部分!D$9*X426+入力部分!D$10*AC426)/(SUM(入力部分!D$7:D$10))","v":1.3169427897577663E-5},null,null,420,{"$f":"1/入力部分!$I$36/(2*3.14)^0.5*EXP(-1/2*(((M426+入力部分!$I$45)-入力部分!$I$27)/入力部分!$I$36)^2)","v":1.0534610333135877E-4},4.4245363399170685E-2,null,null,420,{"$f":"1/入力部分!$I$37/(2*3.14)^0.5*EXP(-1/2*(((R426+入力部分!$I$46)-入力部分!$I$28)/入力部分!$I$37)^2)","v":3.1066164208429421E-9},1.3047788967540356E-6,null,null,420,{"$f":"1/入力部分!$I$38/(2*3.14)^0.5*EXP(-1/2*(((W426+入力部分!$I$47)-入力部分!$I$29)/入力部分!$I$38)^2)","v":3.1032425139975125E-33},1.3033618558789553E-30,null,null,420,{"$f":"1/入力部分!$I$39/(2*3.14)^0.5*EXP(-1/2*(((AB426+入力部分!$I$48)-入力部分!$I$30)/入力部分!$I$39)^2)","v":1.0056654458564174E-197},4.2237948725969532E-195]
[null,null,null,null,null,null,null,null,421,{"$f":"(入力部分!D$7*N427+入力部分!D$8*S427+入力部分!D$9*X427+入力部分!D$10*AC427)/(SUM(入力部分!D$7:D$10))","v":1.2814414437741391E-5},null,null,421,{"$f":"1/入力部分!$I$36/(2*3.14)^0.5*EXP(-1/2*(((M427+入力部分!$I$45)-入力部分!$I$27)/入力部分!$I$36)^2)","v":1.0250683198422472E-4},4.3155376265358605E-2,null,null,421,{"$f":"1/入力部分!$I$37/(2*3.14)^0.5*EXP(-1/2*(((R427+入力部分!$I$46)-入力部分!$I$28)/入力部分!$I$37)^2)","v":2.8278392354697377E-9},1.1905203181327596E-6,null,null,421,{"$f":"1/入力部分!$I$38/(2*3.14)^0.5*EXP(-1/2*(((W427+入力部分!$I$47)-入力部分!$I$29)/入力部分!$I$38)^2)","v":2.0530478202283269E-33},8.6433313231612568E-31,null,null,421,{"$f":"1/入力部分!$I$39/(2*3.14)^0.5*EXP(-1/2*(((AB427+入力部分!$I$48)-入力部分!$I$30)/入力部分!$I$39)^2)","v":8.2218222201760091E-199},3.4613871546940997E-196]
[null,null,null,null,null,null,null,null,422,{"$f":"(入力部分!D$7*N428+入力部分!D$8*S428+入力部分!D$9*X428+入力部分!D$10*AC428)/(SUM(入力部分!D$7:D$10))","v":1.246770346539894E-5},null,null,422,{"$f":"1/入力部分!$I$36/(2*3.14)^0.5*EXP(-1/2*(((M428+入力部分!$I$45)-入力部分!$I$27)/入力部分!$I$36)^2)","v":9.9733907814687791E-5},4.208770909779825E-2,null,null,422,{"$f":"1/入力部分!$I$37/(2*3.14)^0.5*EXP(-1/2*(((R428+入力部分!$I$46)-入力部分!$I$28)/入力部分!$I$37)^2)","v":2.573302834574242E-9},1.08593379619033E-6,null,null,422,{"$f":"1/入力部分!$I$38/(2*3.14)^0.5*EXP(-1/2*(((W428+入力部分!$I$47)-入力部分!$I$29)/入力部分!$I$38)^2)","v":1.3566218711345529E-33},5.7249442961878128E-31,null,null,422,{"$f":"1/入力部分!$I$39/(2*3.14)^0.5*EXP(-1/2*(((AB428+入力部分!$I$48)-入力部分!$I$30)/入力部分!$I$39)^2)","v":6.6752371821334546E-200},2.8169500908603176E-197]
[null,null,null,null,null,null,null,null,423,{"$f":"(入力部分!D$7*N429+入力部分!D$8*S429+入力部分!D$9*X429+入力部分!D$10*AC429)/(SUM(入力部分!D$7:D$10))","v":1.2129139642032469E-5},null,null,423,{"$f":"1/入力部分!$I$36/(2*3.14)^0.5*EXP(-1/2*(((M429+入力部分!$I$45)-入力部分!$I$27)/入力部分!$I$36)^2)","v":9.7026094220877806E-5},4.1042037855431313E-2,null,null,423,{"$f":"1/入力部分!$I$37/(2*3.14)^0.5*EXP(-1/2*(((R429+入力部分!$I$46)-入力部分!$I$28)/入力部分!$I$37)^2)","v":2.3409717939783917E-9},9.9023106885285958E-7,null,null,423,{"$f":"1/入力部分!$I$38/(2*3.14)^0.5*EXP(-1/2*(((W429+入力部分!$I$47)-入力部分!$I$29)/入力部分!$I$38)^2)","v":8.9535438293460247E-34},3.7873490398133683E-31,null,null,423,{"$f":"1/入力部分!$I$39/(2*3.14)^0.5*EXP(-1/2*(((AB429+入力部分!$I$48)-入力部分!$I$30)/入力部分!$I$39)^2)","v":5.3820705616125918E-201},2.2766158475621263E-198]
[null,null,null,null,null,null,null,null,424,{"$f":"(入力部分!D$7*N430+入力部分!D$8*S430+入力部分!D$9*X430+入力部分!D$10*AC430)/(SUM(入力部分!D$7:D$10))","v":1.1798569422578586E-5},null,null,424,{"$f":"1/入力部分!$I$36/(2*3.14)^0.5*EXP(-1/2*(((M430+入力部分!$I$45)-入力部分!$I$27)/入力部分!$I$36)^2)","v":9.4382168455599356E-5},4.0018039425174123E-2,null,null,424,{"$f":"1/入力部分!$I$37/(2*3.14)^0.5*EXP(-1/2*(((R430+入力部分!$I$46)-入力部分!$I$28)/入力部分!$I$37)^2)","v":2.128975009775043E-9},9.0268540414461822E-7,null,null,424,{"$f":"1/入力部分!$I$38/(2*3.14)^0.5*EXP(-1/2*(((W430+入力部分!$I$47)-入力部分!$I$29)/入力部分!$I$38)^2)","v":5.9021129143174276E-34},2.5024958756705894E-31,null,null,424,{"$f":"1/入力部分!$I$39/(2*3.14)^0.5*EXP(-1/2*(((AB430+入力部分!$I$48)-入力部分!$I$30)/入力部分!$I$39)^2)","v":4.3093933699121999E-202},1.8271827888427727E-199]
[null,null,null,null,null,null,null,null,425,{"$f":"(入力部分!D$7*N431+入力部分!D$8*S431+入力部分!D$9*X431+入力部分!D$10*AC431)/(SUM(入力部分!D$7:D$10))","v":1.1475841065177503E-5},null,null,425,{"$f":"1/入力部分!$I$36/(2*3.14)^0.5*EXP(-1/2*(((M431+入力部分!$I$45)-入力部分!$I$27)/入力部分!$I$36)^2)","v":9.1800921742371972E-5},3.9015391740508089E-2,null,null,425,{"$f":"1/入力部分!$I$37/(2*3.14)^0.5*EXP(-1/2*(((R431+入力部分!$I$46)-入力部分!$I$28)/入力部分!$I$37)^2)","v":1.9355930160145224E-9},8.2262703180617206E-7,null,null,425,{"$f":"1/入力部分!$I$38/(2*3.14)^0.5*EXP(-1/2*(((W431+入力部分!$I$47)-入力部分!$I$29)/入力部分!$I$38)^2)","v":3.8859433408676444E-34},1.6515259198687488E-31,null,null,425,{"$f":"1/入力部分!$I$39/(2*3.14)^0.5*EXP(-1/2*(((AB431+入力部分!$I$48)-入力部分!$I$30)/入力部分!$I$39)^2)","v":3.4266279827269088E-203},1.4563168926589362E-200]
[null,null,null,null,null,null,null,null,426,{"$f":"(入力部分!D$7*N432+入力部分!D$8*S432+入力部分!D$9*X432+入力部分!D$10*AC432)/(SUM(入力部分!D$7:D$10))","v":1.1160804639997062E-5},null,null,426,{"$f":"1/入力部分!$I$36/(2*3.14)^0.5*EXP(-1/2*(((M432+入力部分!$I$45)-入力部分!$I$27)/入力部分!$I$36)^2)","v":8.928115938128336E-5},3.8033773896426711E-2,null,null,426,{"$f":"1/入力部分!$I$37/(2*3.14)^0.5*EXP(-1/2*(((R432+入力部分!$I$46)-入力部分!$I$28)/入力部分!$I$37)^2)","v":1.7592462310463234E-9},7.4943889442573372E-7,null,null,426,{"$f":"1/入力部分!$I$38/(2*3.14)^0.5*EXP(-1/2*(((W432+入力部分!$I$47)-入力部分!$I$29)/入力部分!$I$38)^2)","v":2.5554172063068723E-34},1.0886077298867275E-31,null,null,426,{"$f":"1/入力部分!$I$39/(2*3.14)^0.5*EXP(-1/2*(((AB432+入力部分!$I$48)-入力部分!$I$30)/入力部分!$I$39)^2)","v":2.7058383090271989E-204},1.1526871196455868E-201]
[null,null,null,null,null,null,null,null,427,{"$f":"(入力部分!D$7*N433+入力部分!D$8*S433+入力部分!D$9*X433+入力部分!D$10*AC433)/(SUM(入力部分!D$7:D$10))","v":1.0853312037134842E-5},null,null,427,{"$f":"1/入力部分!$I$36/(2*3.14)^0.5*EXP(-1/2*(((M433+入力部分!$I$45)-入力部分!$I$27)/入力部分!$I$36)^2)","v":8.682170084487263E-5},3.707286626076061E-2,null,null,427,{"$f":"1/入力部分!$I$37/(2*3.14)^0.5*EXP(-1/2*(((R433+入力部分!$I$46)-入力部分!$I$28)/入力部分!$I$37)^2)","v":1.5984840687016989E-9},6.8255269733562545E-7,null,null,427,{"$f":"1/入力部分!$I$38/(2*3.14)^0.5*EXP(-1/2*(((W433+入力部分!$I$47)-入力部分!$I$29)/入力部分!$I$38)^2)","v":1.6784312840349358E-34},7.1669015828291757E-32,null,null,427,{"$f":"1/入力部分!$I$39/(2*3.14)^0.5*EXP(-1/2*(((AB433+入力部分!$I$48)-入力部分!$I$30)/入力部分!$I$39)^2)","v":2.1218798633141658E-205},9.0604270163514875E-203]
[null,null,null,null,null,null,null,null,428,{"$f":"(入力部分!D$7*N434+入力部分!D$8*S434+入力部分!D$9*X434+入力部分!D$10*AC434)/(SUM(入力部分!D$7:D$10))","v":1.0553216973602463E-5},null,null,428,{"$f":"1/入力部分!$I$36/(2*3.14)^0.5*EXP(-1/2*(((M434+入力部分!$I$45)-入力部分!$I$27)/入力部分!$I$36)^2)","v":8.4421379864256068E-5},3.6132350581901597E-2,null,null,428,{"$f":"1/入力部分!$I$37/(2*3.14)^0.5*EXP(-1/2*(((R434+入力部分!$I$46)-入力部分!$I$28)/入力部分!$I$37)^2)","v":1.4519748545490308E-9},6.214452377469852E-7,null,null,428,{"$f":"1/入力部分!$I$38/(2*3.14)^0.5*EXP(-1/2*(((W434+入力部分!$I$47)-入力部分!$I$29)/入力部分!$I$38)^2)","v":1.1010872075561109E-34},4.7126532483401547E-32,null,null,428,{"$f":"1/入力部分!$I$39/(2*3.14)^0.5*EXP(-1/2*(((AB434+入力部分!$I$48)-入力部分!$I$30)/入力部分!$I$39)^2)","v":1.652432802640183E-206},7.0724123952999831E-204]
[null,null,null,null,null,null,null,null,429,{"$f":"(入力部分!D$7*N435+入力部分!D$8*S435+入力部分!D$9*X435+入力部分!D$10*AC435)/(SUM(入力部分!D$7:D$10))","v":1.026037499939813E-5},null,null,429,{"$f":"1/入力部分!$I$36/(2*3.14)^0.5*EXP(-1/2*(((M435+入力部分!$I$45)-入力部分!$I$27)/入力部分!$I$36)^2)","v":8.2079044505711235E-5},3.5211910092950119E-2,null,null,429,{"$f":"1/入力部分!$I$37/(2*3.14)^0.5*EXP(-1/2*(((R435+入力部分!$I$46)-入力部分!$I$28)/入力部分!$I$37)^2)","v":1.3184964912711928E-9},5.6563499475534166E-7,null,null,429,{"$f":"1/入力部分!$I$38/(2*3.14)^0.5*EXP(-1/2*(((W435+入力部分!$I$47)-入力部分!$I$29)/入力部分!$I$38)^2)","v":7.2146666368349686E-35},3.0950919872022013E-32,null,null,429,{"$f":"1/入力部分!$I$39/(2*3.14)^0.5*EXP(-1/2*(((AB435+入力部分!$I$48)-入力部分!$I$30)/入力部分!$I$39)^2)","v":1.2779412536863446E-207},5.4823679783144183E-205]
[null,null,null,null,null,null,null,null,430,{"$f":"(入力部分!D$7*N436+入力部分!D$8*S436+入力部分!D$9*X436+入力部分!D$10*AC436)/(SUM(入力部分!D$7:D$10))","v":9.9746435026749877E-6},null,null,430,{"$f":"1/入力部分!$I$36/(2*3.14)^0.5*EXP(-1/2*(((M436+入力部分!$I$45)-入力部分!$I$27)/入力部分!$I$36)^2)","v":7.9793557237937461E-5},3.4311229612313109E-2,null,null,430,{"$f":"1/入力部分!$I$37/(2*3.14)^0.5*EXP(-1/2*(((R436+入力部分!$I$46)-入力部分!$I$28)/入力部分!$I$37)^2)","v":1.1969278208111942E-9},5.1467896294881353E-7,null,null,430,{"$f":"1/入力部分!$I$38/(2*3.14)^0.5*EXP(-1/2*(((W436+入力部分!$I$47)-入力部分!$I$29)/入力部分!$I$38)^2)","v":4.7215785679746916E-35},2.0302787842291174E-32,null,null,430,{"$f":"1/入力部分!$I$39/(2*3.14)^0.5*EXP(-1/2*(((AB436+入力部分!$I$48)-入力部分!$I$30)/入力部分!$I$39)^2)","v":9.8148132026885305E-209},4.2203696771560681E-206]
[null,null,null,null,null,null,null,null,431,{"$f":"(入力部分!D$7*N437+入力部分!D$8*S437+入力部分!D$9*X437+入力部分!D$10*AC437)/(SUM(入力部分!D$7:D$10))","v":9.6958817140139948E-6},null,null,431,{"$f":"1/入力部分!$I$36/(2*3.14)^0.5*EXP(-1/2*(((M437+入力部分!$I$45)-入力部分!$I$27)/入力部分!$I$36)^2)","v":7.7563794990208988E-5},3.3429995640780072E-2,null,null,431,{"$f":"1/入力部分!$I$37/(2*3.14)^0.5*EXP(-1/2*(((R437+入力部分!$I$46)-入力部分!$I$28)/入力部分!$I$37)^2)","v":1.0862406343220748E-9},4.6816971339281424E-7,null,null,431,{"$f":"1/入力部分!$I$38/(2*3.14)^0.5*EXP(-1/2*(((W437+入力部分!$I$47)-入力部分!$I$29)/入力部分!$I$38)^2)","v":3.0862746614962779E-35},1.3301843791048957E-32,null,null,431,{"$f":"1/入力部分!$I$39/(2*3.14)^0.5*EXP(-1/2*(((AB437+入力部分!$I$48)-入力部分!$I$30)/入力部分!$I$39)^2)","v":7.4857833359658299E-210},3.2263726178012729E-207]
[null,null,null,null,null,null,null,null,432,{"$f":"(入力部分!D$7*N438+入力部分!D$8*S438+入力部分!D$9*X438+入力部分!D$10*AC438)/(SUM(入力部分!D$7:D$10))","v":9.423950709811243E-6},null,null,432,{"$f":"1/入力部分!$I$36/(2*3.14)^0.5*EXP(-1/2*(((M438+入力部分!$I$45)-入力部分!$I$27)/入力部分!$I$36)^2)","v":7.5388649201637493E-5},3.2567896455107395E-2,null,null,432,{"$f":"1/入力部分!$I$37/(2*3.14)^0.5*EXP(-1/2*(((R438+入力部分!$I$46)-入力部分!$I$28)/入力部分!$I$37)^2)","v":9.8549228414803439E-10},4.2573266675195088E-7,null,null,432,{"$f":"1/入力部分!$I$38/(2*3.14)^0.5*EXP(-1/2*(((W438+入力部分!$I$47)-入力部分!$I$29)/入力部分!$I$38)^2)","v":2.0149224051597765E-35},8.7044647902902343E-33,null,null,432,{"$f":"1/入力部分!$I$39/(2*3.14)^0.5*EXP(-1/2*(((AB438+入力部分!$I$48)-入力部分!$I$30)/入力部分!$I$39)^2)","v":5.6699148093837944E-211},2.4494031976537992E-208]
[null,null,null,null,null,null,null,null,433,{"$f":"(入力部分!D$7*N439+入力部分!D$8*S439+入力部分!D$9*X439+入力部分!D$10*AC439)/(SUM(入力部分!D$7:D$10))","v":9.1587134147911091E-6},null,null,433,{"$f":"1/入力部分!$I$36/(2*3.14)^0.5*EXP(-1/2*(((M439+入力部分!$I$45)-入力部分!$I$27)/入力部分!$I$36)^2)","v":7.3267025861763674E-5},3.1724622198143669E-2,null,null,433,{"$f":"1/入力部分!$I$37/(2*3.14)^0.5*EXP(-1/2*(((R439+入力部分!$I$46)-入力部分!$I$28)/入力部分!$I$37)^2)","v":8.9381885506679482E-10},3.8702356424392213E-7,null,null,433,{"$f":"1/入力部分!$I$38/(2*3.14)^0.5*EXP(-1/2*(((W439+入力部分!$I$47)-入力部分!$I$29)/入力部分!$I$38)^2)","v":1.3138884026656694E-35},5.6891367835423485E-33,null,null,433,{"$f":"1/入力部分!$I$39/(2*3.14)^0.5*EXP(-1/2*(((AB439+入力部分!$I$48)-入力部分!$I$30)/入力部分!$I$39)^2)","v":4.2648118910604881E-212},1.8466635488291914E-209]
[null,null,null,null,null,null,null,null,434,{"$f":"(入力部分!D$7*N440+入力部分!D$8*S440+入力部分!D$9*X440+入力部分!D$10*AC440)/(SUM(入力部分!D$7:D$10))","v":8.9000346036573736E-6},null,null,434,{"$f":"1/入力部分!$I$36/(2*3.14)^0.5*EXP(-1/2*(((M440+入力部分!$I$45)-入力部分!$I$27)/入力部分!$I$36)^2)","v":7.1197845542694444E-5},3.0899864965529388E-2,null,null,434,{"$f":"1/入力部分!$I$37/(2*3.14)^0.5*EXP(-1/2*(((R440+入力部分!$I$46)-入力部分!$I$28)/入力部分!$I$37)^2)","v":8.1042885484796796E-10},3.5172612300401812E-7,null,null,434,{"$f":"1/入力部分!$I$38/(2*3.14)^0.5*EXP(-1/2*(((W440+入力部分!$I$47)-入力部分!$I$29)/入力部分!$I$38)^2)","v":8.5572660134161884E-36},3.7138534498226259E-33,null,null,434,{"$f":"1/入力部分!$I$39/(2*3.14)^0.5*EXP(-1/2*(((AB440+入力部分!$I$48)-入力部分!$I$30)/入力部分!$I$39)^2)","v":3.1857177350081902E-213},1.3826014969935546E-210]
[null,null,null,null,null,null,null,null,435,{"$f":"(入力部分!D$7*N441+入力部分!D$8*S441+入力部分!D$9*X441+入力部分!D$10*AC441)/(SUM(入力部分!D$7:D$10))","v":8.6477809018954685E-6},null,null,435,{"$f":"1/入力部分!$I$36/(2*3.14)^0.5*EXP(-1/2*(((M441+入力部分!$I$45)-入力部分!$I$27)/入力部分!$I$36)^2)","v":6.9180043423003242E-5},3.0093318889006411E-2,null,null,435,{"$f":"1/入力部分!$I$37/(2*3.14)^0.5*EXP(-1/2*(((R441+入力部分!$I$46)-入力部分!$I$28)/入力部分!$I$37)^2)","v":7.3459738683689296E-10},3.1954986327404846E-7,null,null,435,{"$f":"1/入力部分!$I$38/(2*3.14)^0.5*EXP(-1/2*(((W441+入力部分!$I$47)-入力部分!$I$29)/入力部分!$I$38)^2)","v":5.5665739986964474E-36},2.4214596894329547E-33,null,null,435,{"$f":"1/入力部分!$I$39/(2*3.14)^0.5*EXP(-1/2*(((AB441+入力部分!$I$48)-入力部分!$I$30)/入力部分!$I$39)^2)","v":2.3631907181892365E-214},1.0279879624123178E-211]
[null,null,null,null,null,null,null,null,436,{"$f":"(入力部分!D$7*N442+入力部分!D$8*S442+入力部分!D$9*X442+入力部分!D$10*AC442)/(SUM(入力部分!D$7:D$10))","v":8.4018207857401739E-6},null,null,436,{"$f":"1/入力部分!$I$36/(2*3.14)^0.5*EXP(-1/2*(((M442+入力部分!$I$45)-入力部分!$I$27)/入力部分!$I$36)^2)","v":6.7212569303612085E-5},2.9304680216374869E-2,null,null,436,{"$f":"1/入力部分!$I$37/(2*3.14)^0.5*EXP(-1/2*(((R442+入力部分!$I$46)-入力部分!$I$28)/入力部分!$I$37)^2)","v":6.6566076976836831E-10},2.902280956190086E-7,null,null,436,{"$f":"1/入力部分!$I$38/(2*3.14)^0.5*EXP(-1/2*(((W442+入力部分!$I$47)-入力部分!$I$29)/入力部分!$I$38)^2)","v":3.6167404298226227E-36},1.5768988274026634E-33,null,null,436,{"$f":"1/入力部分!$I$39/(2*3.14)^0.5*EXP(-1/2*(((AB442+入力部分!$I$48)-入力部分!$I$30)/入力部分!$I$39)^2)","v":1.7409019721086994E-215},7.5903325983939291E-213]
[null,null,null,null,null,null,null,null,437,{"$f":"(入力部分!D$7*N443+入力部分!D$8*S443+入力部分!D$9*X443+入力部分!D$10*AC443)/(SUM(入力部分!D$7:D$10))","v":8.1620245813234311E-6},null,null,437,{"$f":"1/入力部分!$I$36/(2*3.14)^0.5*EXP(-1/2*(((M443+入力部分!$I$45)-入力部分!$I$27)/入力部分!$I$36)^2)","v":6.5294387615870379E-5},2.8533647388135356E-2,null,null,437,{"$f":"1/入力部分!$I$37/(2*3.14)^0.5*EXP(-1/2*(((R443+入力部分!$I$46)-入力部分!$I$28)/入力部分!$I$37)^2)","v":6.030115723567473E-10},2.6351605711989858E-7,null,null,437,{"$f":"1/入力部分!$I$38/(2*3.14)^0.5*EXP(-1/2*(((W443+入力部分!$I$47)-入力部分!$I$29)/入力部分!$I$38)^2)","v":2.3470540746718554E-36},1.0256626306316009E-33,null,null,437,{"$f":"1/入力部分!$I$39/(2*3.14)^0.5*EXP(-1/2*(((AB443+入力部分!$I$48)-入力部分!$I$30)/入力部分!$I$39)^2)","v":1.2736025748256817E-216},5.5656432519882293E-214]
[null,null,null,null,null,null,null,null,438,{"$f":"(入力部分!D$7*N444+入力部分!D$8*S444+入力部分!D$9*X444+入力部分!D$10*AC444)/(SUM(入力部分!D$7:D$10))","v":7.9282644630182226E-6},null,null,438,{"$f":"1/入力部分!$I$36/(2*3.14)^0.5*EXP(-1/2*(((M444+入力部分!$I$45)-入力部分!$I$27)/入力部分!$I$36)^2)","v":6.3424477422048558E-5},2.7779921110857267E-2,null,null,438,{"$f":"1/入力部分!$I$37/(2*3.14)^0.5*EXP(-1/2*(((R444+入力部分!$I$46)-入力部分!$I$28)/入力部分!$I$37)^2)","v":5.4609403240762445E-10},2.3918918619453951E-7,null,null,438,{"$f":"1/入力部分!$I$38/(2*3.14)^0.5*EXP(-1/2*(((W444+入力部分!$I$47)-入力部分!$I$29)/入力部分!$I$38)^2)","v":1.5212663208803055E-36},6.6631464854557381E-34,null,null,438,{"$f":"1/入力部分!$I$39/(2*3.14)^0.5*EXP(-1/2*(((AB444+入力部分!$I$48)-入力部分!$I$30)/入力部分!$I$39)^2)","v":9.2528943978240026E-218},4.0527677462469134E-215]
[null,null,null,null,null,null,null,null,439,{"$f":"(入力部分!D$7*N445+入力部分!D$8*S445+入力部分!D$9*X445+入力部分!D$10*AC445)/(SUM(入力部分!D$7:D$10))","v":7.7004144509947781E-6},null,null,439,{"$f":"1/入力部分!$I$36/(2*3.14)^0.5*EXP(-1/2*(((M445+入力部分!$I$45)-入力部分!$I$27)/入力部分!$I$36)^2)","v":6.160183240846145E-5},2.7043204427314577E-2,null,null,439,{"$f":"1/入力部分!$I$37/(2*3.14)^0.5*EXP(-1/2*(((R445+入力部分!$I$46)-入力部分!$I$28)/入力部分!$I$37)^2)","v":4.9439983225832739E-10},2.1704152636140574E-7,null,null,439,{"$f":"1/入力部分!$I$38/(2*3.14)^0.5*EXP(-1/2*(((W445+入力部分!$I$47)-入力部分!$I$29)/入力部分!$I$38)^2)","v":9.8483575145136405E-37},4.3234289488714885E-34,null,null,439,{"$f":"1/入力部分!$I$39/(2*3.14)^0.5*EXP(-1/2*(((AB445+入力部分!$I$48)-入力部分!$I$30)/入力部分!$I$39)^2)","v":6.6758312319745269E-219},2.9306899108368171E-216]
[null,null,null,null,null,null,null,null,440,{"$f":"(入力部分!D$7*N446+入力部分!D$8*S446+入力部分!D$9*X446+入力部分!D$10*AC446)/(SUM(入力部分!D$7:D$10))","v":7.478350408005897E-6},null,null,440,{"$f":"1/入力部分!$I$36/(2*3.14)^0.5*EXP(-1/2*(((M446+入力部分!$I$45)-入力部分!$I$27)/入力部分!$I$36)^2)","v":5.9825460871434309E-5},2.6323202783431095E-2,null,null,440,{"$f":"1/入力部分!$I$37/(2*3.14)^0.5*EXP(-1/2*(((R446+入力部分!$I$46)-入力部分!$I$28)/入力部分!$I$37)^2)","v":4.4746420428805717E-10},1.9688424988674514E-7,null,null,440,{"$f":"1/入力部分!$I$38/(2*3.14)^0.5*EXP(-1/2*(((W446+入力部分!$I$47)-入力部分!$I$29)/入力部分!$I$38)^2)","v":6.3679370517117261E-37},2.8018923027531593E-34,null,null,440,{"$f":"1/入力部分!$I$39/(2*3.14)^0.5*EXP(-1/2*(((AB446+入力部分!$I$48)-入力部分!$I$30)/入力部分!$I$39)^2)","v":4.7831847791893598E-220},2.1046013028433182E-217]
[null,null,null,null,null,null,null,null,441,{"$f":"(入力部分!D$7*N447+入力部分!D$8*S447+入力部分!D$9*X447+入力部分!D$10*AC447)/(SUM(入力部分!D$7:D$10))","v":7.2619500354191892E-6},null,null,441,{"$f":"1/入力部分!$I$36/(2*3.14)^0.5*EXP(-1/2*(((M447+入力部分!$I$45)-入力部分!$I$27)/入力部分!$I$36)^2)","v":5.8094385696327357E-5},2.5619624092080365E-2,null,null,441,{"$f":"1/入力部分!$I$37/(2*3.14)^0.5*EXP(-1/2*(((R447+入力部分!$I$46)-入力部分!$I$28)/入力部分!$I$37)^2)","v":4.0486234205020093E-10},1.785442928441386E-7,null,null,441,{"$f":"1/入力部分!$I$38/(2*3.14)^0.5*EXP(-1/2*(((W447+入力部分!$I$47)-入力部分!$I$29)/入力部分!$I$38)^2)","v":4.1125398359395867E-37},1.8136300676493577E-34,null,null,441,{"$f":"1/入力部分!$I$39/(2*3.14)^0.5*EXP(-1/2*(((AB447+入力部分!$I$48)-入力部分!$I$30)/入力部分!$I$39)^2)","v":3.4034003090696201E-221},1.5008995362997025E-218]
[null,null,null,null,null,null,null,null,442,{"$f":"(入力部分!D$7*N448+入力部分!D$8*S448+入力部分!D$9*X448+入力部分!D$10*AC448)/(SUM(入力部分!D$7:D$10))","v":7.0510928685140796E-6},null,null,442,{"$f":"1/入力部分!$I$36/(2*3.14)^0.5*EXP(-1/2*(((M448+入力部分!$I$45)-入力部分!$I$27)/入力部分!$I$36)^2)","v":5.6407644329829811E-5},2.4932178793784777E-2,null,null,442,{"$f":"1/入力部分!$I$37/(2*3.14)^0.5*EXP(-1/2*(((R448+入力部分!$I$46)-入力部分!$I$28)/入力部分!$I$37)^2)","v":3.6620609427626519E-10},1.6186309367010922E-7,null,null,442,{"$f":"1/入力部分!$I$38/(2*3.14)^0.5*EXP(-1/2*(((W448+入力部分!$I$47)-入力部分!$I$29)/入力部分!$I$38)^2)","v":2.6527594737967009E-37},1.1725196874181419E-34,null,null,442,{"$f":"1/入力部分!$I$39/(2*3.14)^0.5*EXP(-1/2*(((AB448+入力部分!$I$48)-入力部分!$I$30)/入力部分!$I$39)^2)","v":2.4048775912423424E-222},1.0629558953291153E-219]
[null,null,null,null,null,null,null,null,443,{"$f":"(入力部分!D$7*N449+入力部分!D$8*S449+入力部分!D$9*X449+入力部分!D$10*AC449)/(SUM(入力部分!D$7:D$10))","v":6.8456602710618698E-6},null,null,443,{"$f":"1/入力部分!$I$36/(2*3.14)^0.5*EXP(-1/2*(((M449+入力部分!$I$45)-入力部分!$I$27)/入力部分!$I$36)^2)","v":5.4764288745733195E-5},2.4260579914359804E-2,null,null,443,{"$f":"1/入力部分!$I$37/(2*3.14)^0.5*EXP(-1/2*(((R449+入力部分!$I$46)-入力部分!$I$28)/入力部分!$I$37)^2)","v":3.3114092058941455E-10},1.4669542782111063E-7,null,null,443,{"$f":"1/入力部分!$I$38/(2*3.14)^0.5*EXP(-1/2*(((W449+入力部分!$I$47)-入力部分!$I$29)/入力部分!$I$38)^2)","v":1.709078579419632E-37},7.57121810682897E-35,null,null,443,{"$f":"1/入力部分!$I$39/(2*3.14)^0.5*EXP(-1/2*(((AB449+入力部分!$I$48)-入力部分!$I$30)/入力部分!$I$39)^2)","v":1.6875512979515739E-223},7.4758522499254725E-221]
[null,null,null,null,null,null,null,null,444,{"$f":"(入力部分!D$7*N450+入力部分!D$8*S450+入力部分!D$9*X450+入力部分!D$10*AC450)/(SUM(入力部分!D$7:D$10))","v":6.6455354292078744E-6},null,null,444,{"$f":"1/入力部分!$I$36/(2*3.14)^0.5*EXP(-1/2*(((M450+入力部分!$I$45)-入力部分!$I$27)/入力部分!$I$36)^2)","v":5.3163385404395239E-5},2.3604543119551485E-2,null,null,444,{"$f":"1/入力部分!$I$37/(2*3.14)^0.5*EXP(-1/2*(((R450+入力部分!$I$46)-入力部分!$I$28)/入力部分!$I$37)^2)","v":2.9934308925181176E-10},1.3290833162780443E-7,null,null,444,{"$f":"1/入力部分!$I$38/(2*3.14)^0.5*EXP(-1/2*(((W450+入力部分!$I$47)-入力部分!$I$29)/入力部分!$I$38)^2)","v":1.0997718221651755E-37},4.8829868904133789E-35,null,null,444,{"$f":"1/入力部分!$I$39/(2*3.14)^0.5*EXP(-1/2*(((AB450+入力部分!$I$48)-入力部分!$I$30)/入力部分!$I$39)^2)","v":1.1759938678888031E-224},5.221412773426286E-222]
[null,null,null,null,null,null,null,null,445,{"$f":"(入力部分!D$7*N451+入力部分!D$8*S451+入力部分!D$9*X451+入力部分!D$10*AC451)/(SUM(入力部分!D$7:D$10))","v":6.45060334467461E-6},null,null,445,{"$f":"1/入力部分!$I$36/(2*3.14)^0.5*EXP(-1/2*(((M451+入力部分!$I$45)-入力部分!$I$27)/入力部分!$I$36)^2)","v":5.1604015206100901E-5},2.29637867667149E-2,null,null,445,{"$f":"1/入力部分!$I$37/(2*3.14)^0.5*EXP(-1/2*(((R451+入力部分!$I$46)-入力部分!$I$28)/入力部分!$I$37)^2)","v":2.7051709865991226E-10},1.2038010890366096E-7,null,null,445,{"$f":"1/入力部分!$I$38/(2*3.14)^0.5*EXP(-1/2*(((W451+入力部分!$I$47)-入力部分!$I$29)/入力部分!$I$38)^2)","v":7.0683744072582615E-38},3.1454266112299261E-35,null,null,445,{"$f":"1/入力部分!$I$39/(2*3.14)^0.5*EXP(-1/2*(((AB451+入力部分!$I$48)-入力部分!$I$30)/入力部分!$I$39)^2)","v":8.138365624520696E-226},3.6215727029117097E-223]
[null,null,null,null,null,null,null,null,446,{"$f":"(入力部分!D$7*N452+入力部分!D$8*S452+入力部分!D$9*X452+入力部分!D$10*AC452)/(SUM(入力部分!D$7:D$10))","v":6.2607508273053248E-6},null,null,446,{"$f":"1/入力部分!$I$36/(2*3.14)^0.5*EXP(-1/2*(((M452+入力部分!$I$45)-入力部分!$I$27)/入力部分!$I$36)^2)","v":5.0085273438525788E-5},2.2338031953582502E-2,null,null,446,{"$f":"1/入力部分!$I$37/(2*3.14)^0.5*EXP(-1/2*(((R452+入力部分!$I$46)-入力部分!$I$28)/入力部分!$I$37)^2)","v":2.4439330560101543E-10},1.0899941429805288E-7,null,null,446,{"$f":"1/入力部分!$I$38/(2*3.14)^0.5*EXP(-1/2*(((W452+入力部分!$I$47)-入力部分!$I$29)/入力部分!$I$38)^2)","v":4.5374609833180115E-38},2.023707598559833E-35,null,null,446,{"$f":"1/入力部分!$I$39/(2*3.14)^0.5*EXP(-1/2*(((AB452+入力部分!$I$48)-入力部分!$I$30)/入力部分!$I$39)^2)","v":5.5931105461334913E-227},2.4945273035755371E-224]
[null,null,null,null,null,null,null,null,447,{"$f":"(入力部分!D$7*N453+入力部分!D$8*S453+入力部分!D$9*X453+入力部分!D$10*AC453)/(SUM(入力部分!D$7:D$10))","v":6.0758664869676406E-6},null,null,447,{"$f":"1/入力部分!$I$36/(2*3.14)^0.5*EXP(-1/2*(((M453+入力部分!$I$45)-入力部分!$I$27)/入力部分!$I$36)^2)","v":4.8606269718507628E-5},2.1727002564172909E-2,null,null,447,{"$f":"1/入力部分!$I$37/(2*3.14)^0.5*EXP(-1/2*(((R453+入力部分!$I$46)-入力部分!$I$28)/入力部分!$I$37)^2)","v":2.2072574449814835E-10},9.8664407790672311E-8,null,null,447,{"$f":"1/入力部分!$I$38/(2*3.14)^0.5*EXP(-1/2*(((W453+入力部分!$I$47)-入力部分!$I$29)/入力部分!$I$38)^2)","v":2.9092608449227426E-38},1.3004395976804661E-35,null,null,447,{"$f":"1/入力部分!$I$39/(2*3.14)^0.5*EXP(-1/2*(((AB453+入力部分!$I$48)-入力部分!$I$30)/入力部分!$I$39)^2)","v":3.8172769968731194E-228},1.7063228176022845E-225]
[null,null,null,null,null,null,null,null,448,{"$f":"(入力部分!D$7*N454+入力部分!D$8*S454+入力部分!D$9*X454+入力部分!D$10*AC454)/(SUM(入力部分!D$7:D$10))","v":5.8958407248369756E-6},null,null,448,{"$f":"1/入力部分!$I$36/(2*3.14)^0.5*EXP(-1/2*(((M454+入力部分!$I$45)-入力部分!$I$27)/入力部分!$I$36)^2)","v":4.7166127928326795E-5},2.1130425311890404E-2,null,null,448,{"$f":"1/入力部分!$I$37/(2*3.14)^0.5*EXP(-1/2*(((R454+入力部分!$I$46)-入力部分!$I$28)/入力部分!$I$37)^2)","v":1.9929012300367702E-10},8.9281975105647303E-8,null,null,448,{"$f":"1/入力部分!$I$38/(2*3.14)^0.5*EXP(-1/2*(((W454+入力部分!$I$47)-入力部分!$I$29)/入力部分!$I$38)^2)","v":1.8630684894297171E-38},8.3465468326451318E-36,null,null,448,{"$f":"1/入力部分!$I$39/(2*3.14)^0.5*EXP(-1/2*(((AB454+入力部分!$I$48)-入力部分!$I$30)/入力部分!$I$39)^2)","v":2.5872477233305399E-229},1.1590869800520818E-226]
[null,null,null,null,null,null,null,null,449,{"$f":"(入力部分!D$7*N455+入力部分!D$8*S455+入力部分!D$9*X455+入力部分!D$10*AC455)/(SUM(入力部分!D$7:D$10))","v":5.720565724079614E-6},null,null,449,{"$f":"1/入力部分!$I$36/(2*3.14)^0.5*EXP(-1/2*(((M455+入力部分!$I$45)-入力部分!$I$27)/入力部分!$I$36)^2)","v":4.5763986146695833E-5},2.0548029779866427E-2,null,null,449,{"$f":"1/入力部分!$I$37/(2*3.14)^0.5*EXP(-1/2*(((R455+入力部分!$I$46)-入力部分!$I$28)/入力部分!$I$37)^2)","v":1.7988198035993248E-10},8.0767009181609678E-8,null,null,449,{"$f":"1/入力部分!$I$38/(2*3.14)^0.5*EXP(-1/2*(((W455+入力部分!$I$47)-入力部分!$I$29)/入力部分!$I$38)^2)","v":1.1916573048674901E-38},5.3505412988550306E-36,null,null,449,{"$f":"1/入力部分!$I$39/(2*3.14)^0.5*EXP(-1/2*(((AB455+入力部分!$I$48)-入力部分!$I$30)/入力部分!$I$39)^2)","v":1.7414315874852327E-230},{"$f":"AB455*$AC455","v":7.8190278278086949E-228}]
[null,null,null,null,null,null,null,null,450,{"$f":"(入力部分!D$7*N456+入力部分!D$8*S456+入力部分!D$9*X456+入力部分!D$10*AC456)/(SUM(入力部分!D$7:D$10))","v":5.5499354399555408E-6},null,null,450,{"$f":"1/入力部分!$I$36/(2*3.14)^0.5*EXP(-1/2*(((M456+入力部分!$I$45)-入力部分!$I$27)/入力部分!$I$36)^2)","v":4.4398996574656529E-5},{"$f":"M456*$N456","v":1.9979548458595439E-2},null,null,450,{"$f":"1/入力部分!$I$37/(2*3.14)^0.5*EXP(-1/2*(((R456+入力部分!$I$46)-入力部分!$I$28)/入力部分!$I$37)^2)","v":1.6231499593188335E-10},{"$f":"R456*$S456","v":7.3041748169347508E-8},null,null,450,{"$f":"1/入力部分!$I$38/(2*3.14)^0.5*EXP(-1/2*(((W456+入力部分!$I$47)-入力部分!$I$29)/入力部分!$I$38)^2)","v":7.6129037480396018E-39},{"$f":"W456*$X456","v":3.4258066866178208E-36},null,null,450,{"$f":"1/入力部分!$I$39/(2*3.14)^0.5*EXP(-1/2*(((AB456+入力部分!$I$48)-入力部分!$I$30)/入力部分!$I$39)^2)","v":1.1640158344633387E-231},5.2380712550850242E-229]
[null,null,null,null,null,null,null,null,451,{"$f":"(入力部分!D$7*N457+入力部分!D$8*S457+入力部分!D$9*X457+入力部分!D$10*AC457)/(SUM(入力部分!D$7:D$10))","v":5.3838455893610437E-6},null,null,451,{"$f":"1/入力部分!$I$36/(2*3.14)^0.5*EXP(-1/2*(((M457+入力部分!$I$45)-入力部分!$I$27)/入力部分!$I$36)^2)","v":4.3070325456579641E-5},1.9424716780917419E-2,null,null,451,{"$f":"1/入力部分!$I$37/(2*3.14)^0.5*EXP(-1/2*(((R457+入力部分!$I$46)-入力部分!$I$28)/入力部分!$I$37)^2)","v":1.4641943623703223E-10},6.6035165742901534E-8,null,null,451,{"$f":"1/入力部分!$I$38/(2*3.14)^0.5*EXP(-1/2*(((W457+入力部分!$I$47)-入力部分!$I$29)/入力部分!$I$38)^2)","v":4.8576441674275718E-39},2.1907975195098349E-36,null,null,451,{"$f":"1/入力部分!$I$39/(2*3.14)^0.5*EXP(-1/2*(((AB457+入力部分!$I$48)-入力部分!$I$30)/入力部分!$I$39)^2)","v":7.726724449532763E-233},3.4847527267392761E-230]
[null,null,null,null,null,null,null,null,452,{"$f":"(入力部分!D$7*N458+入力部分!D$8*S458+入力部分!D$9*X458+入力部分!D$10*AC458)/(SUM(入力部分!D$7:D$10))","v":5.2221936398311545E-6},null,null,452,{"$f":"1/入力部分!$I$36/(2*3.14)^0.5*EXP(-1/2*(((M458+入力部分!$I$45)-入力部分!$I$27)/入力部分!$I$36)^2)","v":4.1777152996460272E-5},1.8883273154400044E-2,null,null,452,{"$f":"1/入力部分!$I$37/(2*3.14)^0.5*EXP(-1/2*(((R458+入力部分!$I$46)-入力部分!$I$28)/入力部分!$I$37)^2)","v":1.3204072965527438E-10},5.9682409804184018E-8,null,null,452,{"$f":"1/入力部分!$I$38/(2*3.14)^0.5*EXP(-1/2*(((W458+入力部分!$I$47)-入力部分!$I$29)/入力部分!$I$38)^2)","v":3.0958325256959718E-39},1.3993163016145793E-36,null,null,452,{"$f":"1/入力部分!$I$39/(2*3.14)^0.5*EXP(-1/2*(((AB458+入力部分!$I$48)-入力部分!$I$30)/入力部分!$I$39)^2)","v":5.0934966789122453E-234},2.3022604988683348E-231]
[null,null,null,null,null,null,null,null,453,{"$f":"(入力部分!D$7*N459+入力部分!D$8*S459+入力部分!D$9*X459+入力部分!D$10*AC459)/(SUM(入力部分!D$7:D$10))","v":5.0648787980221016E-6},null,null,453,{"$f":"1/入力部分!$I$36/(2*3.14)^0.5*EXP(-1/2*(((M459+入力部分!$I$45)-入力部分!$I$27)/入力部分!$I$36)^2)","v":4.0518673269700408E-5},1.8354958991174286E-2,null,null,453,{"$f":"1/入力部分!$I$37/(2*3.14)^0.5*EXP(-1/2*(((R459+入力部分!$I$46)-入力部分!$I$28)/入力部分!$I$37)^2)","v":1.190381588002222E-10},5.3924285936500652E-8,null,null,453,{"$f":"1/入力部分!$I$38/(2*3.14)^0.5*EXP(-1/2*(((W459+入力部分!$I$47)-入力部分!$I$29)/入力部分!$I$38)^2)","v":1.9706324012570675E-39},8.926964777694516E-37,null,null,453,{"$f":"1/入力部分!$I$39/(2*3.14)^0.5*EXP(-1/2*(((AB459+入力部分!$I$48)-入力部分!$I$30)/入力部分!$I$39)^2)","v":3.3344230237120997E-235},1.5104936297415812E-232]
[null,null,null,null,null,null,null,null,454,{"$f":"(入力部分!D$7*N460+入力部分!D$8*S460+入力部分!D$9*X460+入力部分!D$10*AC460)/(SUM(入力部分!D$7:D$10))","v":4.9118019976937239E-6},null,null,454,{"$f":"1/入力部分!$I$36/(2*3.14)^0.5*EXP(-1/2*(((M460+入力部分!$I$45)-入力部分!$I$27)/入力部分!$I$36)^2)","v":3.9294094130565965E-5},1.7839518735276949E-2,null,null,454,{"$f":"1/入力部分!$I$37/(2*3.14)^0.5*EXP(-1/2*(((R460+入力部分!$I$46)-入力部分!$I$28)/入力部分!$I$37)^2)","v":1.0728366127732462E-10},4.8706782219905381E-8,null,null,454,{"$f":"1/入力部分!$I$38/(2*3.14)^0.5*EXP(-1/2*(((W460+入力部分!$I$47)-入力部分!$I$29)/入力部分!$I$38)^2)","v":1.2528820294350726E-39},5.6880844136352291E-37,null,null,454,{"$f":"1/入力部分!$I$39/(2*3.14)^0.5*EXP(-1/2*(((AB460+入力部分!$I$48)-入力部分!$I$30)/入力部分!$I$39)^2)","v":2.1677511777209264E-236},9.8415903468530054E-234]
[null,null,null,null,null,null,null,null,455,{"$f":"(入力部分!D$7*N461+入力部分!D$8*S461+入力部分!D$9*X461+入力部分!D$10*AC461)/(SUM(入力部分!D$7:D$10))","v":4.7628658872119295E-6},null,null,455,{"$f":"1/入力部分!$I$36/(2*3.14)^0.5*EXP(-1/2*(((M461+入力部分!$I$45)-入力部分!$I$27)/入力部分!$I$36)^2)","v":3.8102637115504697E-5},1.7336699887554638E-2,null,null,455,{"$f":"1/入力部分!$I$37/(2*3.14)^0.5*EXP(-1/2*(((R461+入力部分!$I$46)-入力部分!$I$28)/入力部分!$I$37)^2)","v":9.666073024626122E-11},4.3980632262048856E-8,null,null,455,{"$f":"1/入力部分!$I$38/(2*3.14)^0.5*EXP(-1/2*(((W461+入力部分!$I$47)-入力部分!$I$29)/入力部分!$I$38)^2)","v":7.9559334417023121E-40},3.6199497159745522E-37,null,null,455,{"$f":"1/入力部分!$I$39/(2*3.14)^0.5*EXP(-1/2*(((AB461+入力部分!$I$48)-入力部分!$I$30)/入力部分!$I$39)^2)","v":1.3995300625605077E-237},6.3678617846503099E-235]
[null,null,null,null,null,null,null,null,456,{"$f":"(入力部分!D$7*N462+入力部分!D$8*S462+入力部分!D$9*X462+入力部分!D$10*AC462)/(SUM(入力部分!D$7:D$10))","v":4.6179748165910365E-6},null,null,456,{"$f":"1/入力部分!$I$36/(2*3.14)^0.5*EXP(-1/2*(((M462+入力部分!$I$45)-入力部分!$I$27)/入力部分!$I$36)^2)","v":3.6943537342507744E-5},1.684625302818353E-2,null,null,456,{"$f":"1/入力部分!$I$37/(2*3.14)^0.5*EXP(-1/2*(((R462+入力部分!$I$46)-入力部分!$I$28)/入力部分!$I$37)^2)","v":8.7063406848987313E-11},3.9700913523138217E-8,null,null,456,{"$f":"1/入力部分!$I$38/(2*3.14)^0.5*EXP(-1/2*(((W462+入力部分!$I$47)-入力部分!$I$29)/入力部分!$I$38)^2)","v":5.0460146000950391E-40},2.3009826576433379E-37,null,null,456,{"$f":"1/入力部分!$I$39/(2*3.14)^0.5*EXP(-1/2*(((AB462+入力部分!$I$48)-入力部分!$I$30)/入力部分!$I$39)^2)","v":8.9730295661794946E-239},4.0917014821778497E-236]
[null,null,null,null,null,null,null,null,457,{"$f":"(入力部分!D$7*N463+入力部分!D$8*S463+入力部分!D$9*X463+入力部分!D$10*AC463)/(SUM(入力部分!D$7:D$10))","v":4.477034824095767E-6},null,null,457,{"$f":"1/入力部分!$I$36/(2*3.14)^0.5*EXP(-1/2*(((M463+入力部分!$I$45)-入力部分!$I$27)/入力部分!$I$36)^2)","v":3.5816043406694645E-5},1.6367931836859452E-2,null,null,457,{"$f":"1/入力部分!$I$37/(2*3.14)^0.5*EXP(-1/2*(((R463+入力部分!$I$46)-入力部分!$I$28)/入力部分!$I$37)^2)","v":7.8395357163461833E-11},3.582667822370206E-8,null,null,457,{"$f":"1/入力部分!$I$38/(2*3.14)^0.5*EXP(-1/2*(((W463+入力部分!$I$47)-入力部分!$I$29)/入力部分!$I$38)^2)","v":3.1965556136079717E-40},1.4608259154188431E-37,null,null,457,{"$f":"1/入力部分!$I$39/(2*3.14)^0.5*EXP(-1/2*(((AB463+入力部分!$I$48)-入力部分!$I$30)/入力部分!$I$39)^2)","v":5.7132079501327413E-240},2.610936033210663E-237]
[null,null,null,null,null,null,null,null,458,{"$f":"(入力部分!D$7*N464+入力部分!D$8*S464+入力部分!D$9*X464+入力部分!D$10*AC464)/(SUM(入力部分!D$7:D$10))","v":4.3399536224225581E-6},null,null,458,{"$f":"1/入力部分!$I$36/(2*3.14)^0.5*EXP(-1/2*(((M464+入力部分!$I$45)-入力部分!$I$27)/入力部分!$I$36)^2)","v":3.4719417272299766E-5},1.5901493110713292E-2,null,null,458,{"$f":"1/入力部分!$I$37/(2*3.14)^0.5*EXP(-1/2*(((R464+入力部分!$I$46)-入力部分!$I$28)/入力部分!$I$37)^2)","v":7.0569026899455624E-11},3.2320614319950673E-8,null,null,458,{"$f":"1/入力部分!$I$38/(2*3.14)^0.5*EXP(-1/2*(((W464+入力部分!$I$47)-入力部分!$I$29)/入力部分!$I$38)^2)","v":2.0225181468197321E-40},9.2631331124343737E-38,null,null,458,{"$f":"1/入力部分!$I$39/(2*3.14)^0.5*EXP(-1/2*(((AB464+入力部分!$I$48)-入力部分!$I$30)/入力部分!$I$39)^2)","v":3.6124765039294127E-241},1.6545142387996711E-238]
[null,null,null,null,null,null,null,null,459,{"$f":"(入力部分!D$7*N465+入力部分!D$8*S465+入力部分!D$9*X465+入力部分!D$10*AC465)/(SUM(入力部分!D$7:D$10))","v":4.2066405844796921E-6},null,null,459,{"$f":"1/入力部分!$I$36/(2*3.14)^0.5*EXP(-1/2*(((M465+入力部分!$I$45)-入力部分!$I$27)/入力部分!$I$36)^2)","v":3.3652934161234833E-5},1.5446696780006788E-2,null,null,459,{"$f":"1/入力部分!$I$37/(2*3.14)^0.5*EXP(-1/2*(((R465+入力部分!$I$46)-入力部分!$I$28)/入力部分!$I$37)^2)","v":6.350486756964103E-11},2.9148734214465231E-8,null,null,459,{"$f":"1/入力部分!$I$38/(2*3.14)^0.5*EXP(-1/2*(((W465+入力部分!$I$47)-入力部分!$I$29)/入力部分!$I$38)^2)","v":1.2781416571952229E-40},5.8666702065260727E-38,null,null,459,{"$f":"1/入力部分!$I$39/(2*3.14)^0.5*EXP(-1/2*(((AB465+入力部分!$I$48)-入力部分!$I$30)/入力部分!$I$39)^2)","v":2.2683710519625684E-242},1.0411823128508189E-239]
[null,null,null,null,null,null,null,null,460,{"$f":"(入力部分!D$7*N466+入力部分!D$8*S466+入力部分!D$9*X466+入力部分!D$10*AC466)/(SUM(入力部分!D$7:D$10))","v":4.0770067287854341E-6},null,null,460,{"$f":"1/入力部分!$I$36/(2*3.14)^0.5*EXP(-1/2*(((M466+入力部分!$I$45)-入力部分!$I$27)/入力部分!$I$36)^2)","v":3.2615882438398427E-5},1.5003305921663277E-2,null,null,460,{"$f":"1/入力部分!$I$37/(2*3.14)^0.5*EXP(-1/2*(((R466+入力部分!$I$46)-入力部分!$I$28)/入力部分!$I$37)^2)","v":5.7130628349010398E-11},2.6280089040544783E-8,null,null,460,{"$f":"1/入力部分!$I$38/(2*3.14)^0.5*EXP(-1/2*(((W466+入力部分!$I$47)-入力部分!$I$29)/入力部分!$I$38)^2)","v":8.0675553297761545E-41},3.7110754516970313E-38,null,null,460,{"$f":"1/入力部分!$I$39/(2*3.14)^0.5*EXP(-1/2*(((AB466+入力部分!$I$48)-入力部分!$I$30)/入力部分!$I$39)^2)","v":1.414513926904171E-243},6.5067640637591862E-241]
[null,null,null,null,null,null,null,null,461,{"$f":"(入力部分!D$7*N467+入力部分!D$8*S467+入力部分!D$9*X467+入力部分!D$10*AC467)/(SUM(入力部分!D$7:D$10))","v":3.9509647045033356E-6},null,null,461,{"$f":"1/入力部分!$I$36/(2*3.14)^0.5*EXP(-1/2*(((M467+入力部分!$I$45)-入力部分!$I$27)/入力部分!$I$36)^2)","v":3.1607563493901839E-5},1.4571086770688748E-2,null,null,461,{"$f":"1/入力部分!$I$37/(2*3.14)^0.5*EXP(-1/2*(((R467+入力部分!$I$46)-入力部分!$I$28)/入力部分!$I$37)^2)","v":5.1380708281003021E-11},2.3686506517542392E-8,null,null,461,{"$f":"1/入力部分!$I$38/(2*3.14)^0.5*EXP(-1/2*(((W467+入力部分!$I$47)-入力部分!$I$29)/入力部分!$I$38)^2)","v":5.0860580883094874E-41},2.3446727787106737E-38,null,null,461,{"$f":"1/入力部分!$I$39/(2*3.14)^0.5*EXP(-1/2*(((AB467+入力部分!$I$48)-入力部分!$I$30)/入力部分!$I$39)^2)","v":8.7596030321561351E-245},4.038176997823978E-242]
[null,null,null,null,null,null,null,null,462,{"$f":"(入力部分!D$7*N468+入力部分!D$8*S468+入力部分!D$9*X468+入力部分!D$10*AC468)/(SUM(入力部分!D$7:D$10))","v":3.8284287761336142E-6},null,null,462,{"$f":"1/入力部分!$I$36/(2*3.14)^0.5*EXP(-1/2*(((M468+入力部分!$I$45)-入力部分!$I$27)/入力部分!$I$36)^2)","v":3.062729162237721E-5},1.4149808729538272E-2,null,null,462,{"$f":"1/入力部分!$I$37/(2*3.14)^0.5*EXP(-1/2*(((R468+入力部分!$I$46)-入力部分!$I$28)/入力部分!$I$37)^2)","v":4.6195563901802408E-11},2.1342350522632711E-8,null,null,462,{"$f":"1/入力部分!$I$38/(2*3.14)^0.5*EXP(-1/2*(((W468+入力部分!$I$47)-入力部分!$I$29)/入力部分!$I$38)^2)","v":3.202558559924129E-41},1.4795820546849477E-38,null,null,462,{"$f":"1/入力部分!$I$39/(2*3.14)^0.5*EXP(-1/2*(((AB468+入力部分!$I$48)-入力部分!$I$30)/入力部分!$I$39)^2)","v":5.3869840397065682E-246},2.4887866263444346E-243]
[null,null,null,null,null,null,null,null,463,{"$f":"(入力部分!D$7*N469+入力部分!D$8*S469+入力部分!D$9*X469+入力部分!D$10*AC469)/(SUM(入力部分!D$7:D$10))","v":3.7093148078790921E-6},null,null,463,{"$f":"1/入力部分!$I$36/(2*3.14)^0.5*EXP(-1/2*(((M469+入力部分!$I$45)-入力部分!$I$27)/入力部分!$I$36)^2)","v":2.9674393899529524E-5},1.3739244375482169E-2,null,null,463,{"$f":"1/入力部分!$I$37/(2*3.14)^0.5*EXP(-1/2*(((R469+入力部分!$I$46)-入力部分!$I$28)/入力部分!$I$37)^2)","v":4.1521167737305575E-11},1.9224300662372483E-8,null,null,463,{"$f":"1/入力部分!$I$38/(2*3.14)^0.5*EXP(-1/2*(((W469+入力部分!$I$47)-入力部分!$I$29)/入力部分!$I$38)^2)","v":2.0141380955711581E-41},9.3254593824944617E-39,null,null,463,{"$f":"1/入力部分!$I$39/(2*3.14)^0.5*EXP(-1/2*(((AB469+入力部分!$I$48)-入力部分!$I$30)/入力部分!$I$39)^2)","v":3.2899630361498414E-247},1.5232528857373764E-244]
[null,null,null,null,null,null,null,null,464,{"$f":"(入力部分!D$7*N470+入力部分!D$8*S470+入力部分!D$9*X470+入力部分!D$10*AC470)/(SUM(入力部分!D$7:D$10))","v":3.5935402477041973E-6},null,null,464,{"$f":"1/入力部分!$I$36/(2*3.14)^0.5*EXP(-1/2*(((M470+入力部分!$I$45)-入力部分!$I$27)/入力部分!$I$36)^2)","v":2.8748210056093132E-5},1.3339169466027213E-2,null,null,464,{"$f":"1/入力部分!$I$37/(2*3.14)^0.5*EXP(-1/2*(((R470+入力部分!$I$46)-入力部分!$I$28)/入力部分!$I$37)^2)","v":3.7308513482235414E-11},1.7311150255757231E-8,null,null,464,{"$f":"1/入力部分!$I$38/(2*3.14)^0.5*EXP(-1/2*(((W470+入力部分!$I$47)-入力部分!$I$29)/入力部分!$I$38)^2)","v":1.2651959944282555E-41},5.8705094141471056E-39,null,null,464,{"$f":"1/入力部分!$I$39/(2*3.14)^0.5*EXP(-1/2*(((AB470+入力部分!$I$48)-入力部分!$I$30)/入力部分!$I$39)^2)","v":1.9953561058914137E-248},9.2584523313361587E-246]
[null,null,null,null,null,null,null,null,465,{"$f":"(入力部分!D$7*N471+入力部分!D$8*S471+入力部分!D$9*X471+入力部分!D$10*AC471)/(SUM(入力部分!D$7:D$10))","v":3.4810241111051228E-6},null,null,465,{"$f":"1/入力部分!$I$36/(2*3.14)^0.5*EXP(-1/2*(((M471+入力部分!$I$45)-入力部分!$I$27)/入力部分!$I$36)^2)","v":2.7848092349348981E-5},1.2949362942447275E-2,null,null,465,{"$f":"1/入力部分!$I$37/(2*3.14)^0.5*EXP(-1/2*(((R471+入力部分!$I$46)-入力部分!$I$28)/入力部分!$I$37)^2)","v":3.3513163999728006E-11},1.5583621259873524E-8,null,null,465,{"$f":"1/入力部分!$I$38/(2*3.14)^0.5*EXP(-1/2*(((W471+入力部分!$I$47)-入力部分!$I$29)/入力部分!$I$38)^2)","v":7.9378479024751844E-42},3.6910992746509607E-39,null,null,465,{"$f":"1/入力部分!$I$39/(2*3.14)^0.5*EXP(-1/2*(((AB471+入力部分!$I$48)-入力部分!$I$30)/入力部分!$I$39)^2)","v":1.2018046393768231E-249},5.5883915731022279E-247]
[null,null,null,null,null,null,null,null,466,{"$f":"(入力部分!D$7*N472+入力部分!D$8*S472+入力部分!D$9*X472+入力部分!D$10*AC472)/(SUM(入力部分!D$7:D$10))","v":3.3716869646088604E-6},null,null,466,{"$f":"1/入力部分!$I$36/(2*3.14)^0.5*EXP(-1/2*(((M472+入力部分!$I$45)-入力部分!$I$27)/入力部分!$I$36)^2)","v":2.6973405432355129E-5},1.2569606931477489E-2,null,null,466,{"$f":"1/入力部分!$I$37/(2*3.14)^0.5*EXP(-1/2*(((R472+入力部分!$I$46)-入力部分!$I$28)/入力部分!$I$37)^2)","v":3.0094838584206121E-11},1.4024194780240053E-8,null,null,466,{"$f":"1/入力部分!$I$38/(2*3.14)^0.5*EXP(-1/2*(((W472+入力部分!$I$47)-入力部分!$I$29)/入力部分!$I$38)^2)","v":4.9742102524714203E-42},2.3179819776516819E-39,null,null,466,{"$f":"1/入力部分!$I$39/(2*3.14)^0.5*EXP(-1/2*(((AB472+入力部分!$I$48)-入力部分!$I$30)/入力部分!$I$39)^2)","v":7.1883862399905927E-251},3.3497879878356162E-248]
[null,null,null,null,null,null,null,null,467,{"$f":"(入力部分!D$7*N473+入力部分!D$8*S473+入力部分!D$9*X473+入力部分!D$10*AC473)/(SUM(入力部分!D$7:D$10))","v":3.2654509090188177E-6},null,null,467,{"$f":"1/入力部分!$I$36/(2*3.14)^0.5*EXP(-1/2*(((M473+入力部分!$I$45)-入力部分!$I$27)/入力部分!$I$36)^2)","v":2.6123526221041904E-5},1.2199686745226569E-2,null,null,467,{"$f":"1/入力部分!$I$37/(2*3.14)^0.5*EXP(-1/2*(((R473+入力部分!$I$46)-入力部分!$I$28)/入力部分!$I$37)^2)","v":2.7017036212189171E-11},1.2616955911092344E-8,null,null,467,{"$f":"1/入力部分!$I$38/(2*3.14)^0.5*EXP(-1/2*(((W473+入力部分!$I$47)-入力部分!$I$29)/入力部分!$I$38)^2)","v":3.1133066826767389E-42},1.453914220810037E-39,null,null,467,{"$f":"1/入力部分!$I$39/(2*3.14)^0.5*EXP(-1/2*(((AB473+入力部分!$I$48)-入力部分!$I$30)/入力部分!$I$39)^2)","v":4.2698537336927145E-252},1.9940216936344976E-249]
[null,null,null,null,null,null,null,null,468,{"$f":"(入力部分!D$7*N474+入力部分!D$8*S474+入力部分!D$9*X474+入力部分!D$10*AC474)/(SUM(入力部分!D$7:D$10))","v":3.1622395624241303E-6},null,null,468,{"$f":"1/入力部分!$I$36/(2*3.14)^0.5*EXP(-1/2*(((M474+入力部分!$I$45)-入力部分!$I$27)/入力部分!$I$36)^2)","v":2.5297843759317744E-5},1.1839390879360704E-2,null,null,468,{"$f":"1/入力部分!$I$37/(2*3.14)^0.5*EXP(-1/2*(((R474+入力部分!$I$46)-入力部分!$I$28)/入力部分!$I$37)^2)","v":2.4246691766400638E-11},1.1347451746675498E-8,null,null,468,{"$f":"1/入力部分!$I$38/(2*3.14)^0.5*EXP(-1/2*(((W474+入力部分!$I$47)-入力部分!$I$29)/入力部分!$I$38)^2)","v":1.946238546481029E-42},9.1083963975312147E-40,null,null,468,{"$f":"1/入力部分!$I$39/(2*3.14)^0.5*EXP(-1/2*(((AB474+入力部分!$I$48)-入力部分!$I$30)/入力部分!$I$39)^2)","v":2.5187128534056626E-253},1.17875761539385E-250]
[null,null,null,null,null,null,null,null,469,{"$f":"(入力部分!D$7*N475+入力部分!D$8*S475+入力部分!D$9*X475+入力部分!D$10*AC475)/(SUM(入力部分!D$7:D$10))","v":3.0619780429896126E-6},null,null,469,{"$f":"1/入力部分!$I$36/(2*3.14)^0.5*EXP(-1/2*(((M475+入力部分!$I$45)-入力部分!$I$27)/入力部分!$I$36)^2)","v":2.449575908232952E-5},1.1488511009612545E-2,null,null,469,{"$f":"1/入力部分!$I$37/(2*3.14)^0.5*EXP(-1/2*(((R475+入力部分!$I$46)-入力部分!$I$28)/入力部分!$I$37)^2)","v":2.1753862459632122E-11},1.0202561493567464E-8,null,null,469,{"$f":"1/入力部分!$I$38/(2*3.14)^0.5*EXP(-1/2*(((W475+入力部分!$I$47)-入力部分!$I$29)/入力部分!$I$38)^2)","v":1.2151968527343211E-42},5.6992732393239659E-40,null,null,469,{"$f":"1/入力部分!$I$39/(2*3.14)^0.5*EXP(-1/2*(((AB475+入力部分!$I$48)-入力部分!$I$30)/入力部分!$I$39)^2)","v":1.4754632089530331E-254},6.9199224499897249E-252]
[null,null,null,null,null,null,null,null,470,{"$f":"(入力部分!D$7*N476+入力部分!D$8*S476+入力部分!D$9*X476+入力部分!D$10*AC476)/(SUM(入力部分!D$7:D$10))","v":2.9645929515430348E-6},null,null,470,{"$f":"1/入力部分!$I$36/(2*3.14)^0.5*EXP(-1/2*(((M476+入力部分!$I$45)-入力部分!$I$27)/入力部分!$I$36)^2)","v":2.3716685078018553E-5},1.114684198666872E-2,null,null,470,{"$f":"1/入力部分!$I$37/(2*3.14)^0.5*EXP(-1/2*(((R476+入力部分!$I$46)-入力部分!$I$28)/入力部分!$I$37)^2)","v":1.9511441907670473E-11},9.1703776966051217E-9,null,null,470,{"$f":"1/入力部分!$I$38/(2*3.14)^0.5*EXP(-1/2*(((W476+入力部分!$I$47)-入力部分!$I$29)/入力部分!$I$38)^2)","v":7.5783315690790194E-43},3.5618158374671393E-40,null,null,470,{"$f":"1/入力部分!$I$39/(2*3.14)^0.5*EXP(-1/2*(((AB476+入力部分!$I$48)-入力部分!$I$30)/入力部分!$I$39)^2)","v":8.5834558394073508E-256},4.0342242445214546E-253]
[null,null,null,null,null,null,null,null,471,{"$f":"(入力部分!D$7*N477+入力部分!D$8*S477+入力部分!D$9*X477+入力部分!D$10*AC477)/(SUM(入力部分!D$7:D$10))","v":2.8700123539759072E-6},null,null,471,{"$f":"1/入力部分!$I$36/(2*3.14)^0.5*EXP(-1/2*(((M477+入力部分!$I$45)-入力部分!$I$27)/入力部分!$I$36)^2)","v":2.2960046347108738E-5},1.0814181829488215E-2,null,null,471,{"$f":"1/入力部分!$I$37/(2*3.14)^0.5*EXP(-1/2*(((R477+入力部分!$I$46)-入力部分!$I$28)/入力部分!$I$37)^2)","v":1.7494899506476453E-11},8.2400976675504087E-9,null,null,471,{"$f":"1/入力部分!$I$38/(2*3.14)^0.5*EXP(-1/2*(((W477+入力部分!$I$47)-入力部分!$I$29)/入力部分!$I$38)^2)","v":4.7203800882289946E-43},2.2232990215558565E-40,null,null,471,{"$f":"1/入力部分!$I$39/(2*3.14)^0.5*EXP(-1/2*(((AB477+入力部分!$I$48)-入力部分!$I$30)/入力部分!$I$39)^2)","v":4.9588393130473666E-257},2.3356133164453096E-254]
[null,null,null,null,null,null,null,null,472,{"$f":"(入力部分!D$7*N478+入力部分!D$8*S478+入力部分!D$9*X478+入力部分!D$10*AC478)/(SUM(入力部分!D$7:D$10))","v":2.7781657634737721E-6},null,null,472,{"$f":"1/入力部分!$I$36/(2*3.14)^0.5*EXP(-1/2*(((M478+入力部分!$I$45)-入力部分!$I$27)/入力部分!$I$36)^2)","v":2.22252790616613E-5},1.0490331717104133E-2,null,null,472,{"$f":"1/入力部分!$I$37/(2*3.14)^0.5*EXP(-1/2*(((R478+入力部分!$I$46)-入力部分!$I$28)/入力部分!$I$37)^2)","v":1.5682042958944604E-11},7.4019242766218532E-9,null,null,472,{"$f":"1/入力部分!$I$38/(2*3.14)^0.5*EXP(-1/2*(((W478+入力部分!$I$47)-入力部分!$I$29)/入力部分!$I$38)^2)","v":2.9366807546025789E-43},1.3861133161724172E-40,null,null,472,{"$f":"1/入力部分!$I$39/(2*3.14)^0.5*EXP(-1/2*(((AB478+入力部分!$I$48)-入力部分!$I$30)/入力部分!$I$39)^2)","v":2.8449979654204963E-258},1.3428390396784742E-255]
[null,null,null,null,null,null,null,null,473,{"$f":"(入力部分!D$7*N479+入力部分!D$8*S479+入力部分!D$9*X479+入力部分!D$10*AC479)/(SUM(入力部分!D$7:D$10))","v":2.6889841225916104E-6},null,null,473,{"$f":"1/入力部分!$I$36/(2*3.14)^0.5*EXP(-1/2*(((M479+入力部分!$I$45)-入力部分!$I$27)/入力部分!$I$36)^2)","v":2.1511830822326963E-5},1.0175095978960654E-2,null,null,473,{"$f":"1/入力部分!$I$37/(2*3.14)^0.5*EXP(-1/2*(((R479+入力部分!$I$46)-入力部分!$I$28)/入力部分!$I$37)^2)","v":1.4052801972081626E-11},6.6469753327946097E-9,null,null,473,{"$f":"1/入力部分!$I$38/(2*3.14)^0.5*EXP(-1/2*(((W479+入力部分!$I$47)-入力部分!$I$29)/入力部分!$I$38)^2)","v":1.8247900527109166E-43},8.6312569493226359E-41,null,null,473,{"$f":"1/入力部分!$I$39/(2*3.14)^0.5*EXP(-1/2*(((AB479+入力部分!$I$48)-入力部分!$I$30)/入力部分!$I$39)^2)","v":1.6209437746245043E-259},7.6670640539739051E-257]
[null,null,null,null,null,null,null,null,474,{"$f":"(入力部分!D$7*N480+入力部分!D$8*S480+入力部分!D$9*X480+入力部分!D$10*AC480)/(SUM(入力部分!D$7:D$10))","v":2.6023997851895891E-6},null,null,474,{"$f":"1/入力部分!$I$36/(2*3.14)^0.5*EXP(-1/2*(((M480+入力部分!$I$45)-入力部分!$I$27)/入力部分!$I$36)^2)","v":2.081916051442279E-5},9.8682820838364022E-3,null,null,474,{"$f":"1/入力部分!$I$37/(2*3.14)^0.5*EXP(-1/2*(((R480+入力部分!$I$46)-入力部分!$I$28)/入力部分!$I$37)^2)","v":1.2589031307390591E-11},5.96720083970314E-9,null,null,474,{"$f":"1/入力部分!$I$38/(2*3.14)^0.5*EXP(-1/2*(((W480+入力部分!$I$47)-入力部分!$I$29)/入力部分!$I$38)^2)","v":1.1325189378225085E-43},5.3681397652786909E-41,null,null,474,{"$f":"1/入力部分!$I$39/(2*3.14)^0.5*EXP(-1/2*(((AB480+入力部分!$I$48)-入力部分!$I$30)/入力部分!$I$39)^2)","v":9.1714501018869108E-261},4.3472673482943961E-258]
[null,null,null,null,null,null,null,null,475,{"$f":"(入力部分!D$7*N481+入力部分!D$8*S481+入力部分!D$9*X481+入力部分!D$10*AC481)/(SUM(入力部分!D$7:D$10))","v":2.5183464982441005E-6},null,null,475,{"$f":"1/入力部分!$I$36/(2*3.14)^0.5*EXP(-1/2*(((M481+入力部分!$I$45)-入力部分!$I$27)/入力部分!$I$36)^2)","v":2.0146738162958252E-5},9.5697006274051699E-3,null,null,475,{"$f":"1/入力部分!$I$37/(2*3.14)^0.5*EXP(-1/2*(((R481+入力部分!$I$46)-入力部分!$I$28)/入力部分!$I$37)^2)","v":1.1274331516601707E-11},5.355307470385811E-9,null,null,475,{"$f":"1/入力部分!$I$38/(2*3.14)^0.5*EXP(-1/2*(((W481+入力部分!$I$47)-入力部分!$I$29)/入力部分!$I$38)^2)","v":7.0202801189098378E-44},3.3346330564821728E-41,null,null,475,{"$f":"1/入力部分!$I$39/(2*3.14)^0.5*EXP(-1/2*(((AB481+入力部分!$I$48)-入力部分!$I$30)/入力部分!$I$39)^2)","v":5.1533795585327032E-262},2.447855290303034E-259]
[null,null,null,null,null,null,null,null,476,{"$f":"(入力部分!D$7*N482+入力部分!D$8*S482+入力部分!D$9*X482+入力部分!D$10*AC482)/(SUM(入力部分!D$7:D$10))","v":2.4367593835486332E-6},null,null,476,{"$f":"1/入力部分!$I$36/(2*3.14)^0.5*EXP(-1/2*(((M482+入力部分!$I$45)-入力部分!$I$27)/入力部分!$I$36)^2)","v":1.9494044786731568E-5},9.2791653184842258E-3,null,null,476,{"$f":"1/入力部分!$I$37/(2*3.14)^0.5*EXP(-1/2*(((R482+入力部分!$I$46)-入力部分!$I$28)/入力部分!$I$37)^2)","v":1.009388583259005E-11},4.8046896563128639E-9,null,null,476,{"$f":"1/入力部分!$I$38/(2*3.14)^0.5*EXP(-1/2*(((W482+入力部分!$I$47)-入力部分!$I$29)/入力部分!$I$38)^2)","v":4.346501264045147E-44},2.0689346016854901E-41,null,null,476,{"$f":"1/入力部分!$I$39/(2*3.14)^0.5*EXP(-1/2*(((AB482+入力部分!$I$48)-入力部分!$I$30)/入力部分!$I$39)^2)","v":2.8756122128608835E-263},1.3687914133217805E-260]
[null,null,null,null,null,null,null,null,477,{"$f":"(入力部分!D$7*N483+入力部分!D$8*S483+入力部分!D$9*X483+入力部分!D$10*AC483)/(SUM(入力部分!D$7:D$10))","v":2.3575749193186435E-6},null,null,477,{"$f":"1/入力部分!$I$36/(2*3.14)^0.5*EXP(-1/2*(((M483+入力部分!$I$45)-入力部分!$I$27)/入力部分!$I$36)^2)","v":1.8860572251613712E-5},8.9964929640197408E-3,null,null,477,{"$f":"1/入力部分!$I$37/(2*3.14)^0.5*EXP(-1/2*(((R483+入力部分!$I$46)-入力部分!$I$28)/入力部分!$I$37)^2)","v":9.0343118122005597E-12},4.3093667344196671E-9,null,null,477,{"$f":"1/入力部分!$I$38/(2*3.14)^0.5*EXP(-1/2*(((W483+入力部分!$I$47)-入力部分!$I$29)/入力部分!$I$38)^2)","v":2.6878286538342493E-44},1.2820942678789368E-41,null,null,477,{"$f":"1/入力部分!$I$39/(2*3.14)^0.5*EXP(-1/2*(((AB483+入力部分!$I$48)-入力部分!$I$30)/入力部分!$I$39)^2)","v":1.5935018590352753E-264},7.6010038675982633E-262]
[null,null,null,null,null,null,null,null,478,{"$f":"(入力部分!D$7*N484+入力部分!D$8*S484+入力部分!D$9*X484+入力部分!D$10*AC484)/(SUM(入力部分!D$7:D$10))","v":2.280730921714326E-6},null,null,478,{"$f":"1/入力部分!$I$36/(2*3.14)^0.5*EXP(-1/2*(((M484+入力部分!$I$45)-入力部分!$I$27)/入力部分!$I$36)^2)","v":1.8245823123135274E-5},8.7215034528586605E-3,null,null,478,{"$f":"1/入力部分!$I$37/(2*3.14)^0.5*EXP(-1/2*(((R484+入力部分!$I$46)-入力部分!$I$28)/入力部分!$I$37)^2)","v":8.0835264445744864E-12},3.8639256405066046E-9,null,null,478,{"$f":"1/入力部分!$I$38/(2*3.14)^0.5*EXP(-1/2*(((W484+入力部分!$I$47)-入力部分!$I$29)/入力部分!$I$38)^2)","v":1.6601210219156044E-44},7.9353784847565887E-42,null,null,478,{"$f":"1/入力部分!$I$39/(2*3.14)^0.5*EXP(-1/2*(((AB484+入力部分!$I$48)-入力部分!$I$30)/入力部分!$I$39)^2)","v":8.769178201842545E-266},4.1916671804807368E-263]
[null,null,null,null,null,null,null,null,479,{"$f":"(入力部分!D$7*N485+入力部分!D$8*S485+入力部分!D$9*X485+入力部分!D$10*AC485)/(SUM(入力部分!D$7:D$10))","v":2.2061665262947205E-6},null,null,479,{"$f":"1/入力部分!$I$36/(2*3.14)^0.5*EXP(-1/2*(((M485+入力部分!$I$45)-入力部分!$I$27)/入力部分!$I$36)^2)","v":1.7649310518487127E-5},8.4540197383553336E-3,null,null,479,{"$f":"1/入力部分!$I$37/(2*3.14)^0.5*EXP(-1/2*(((R485+入力部分!$I$46)-入力部分!$I$28)/入力部分!$I$37)^2)","v":7.2306235461790833E-12},3.4634686786197811E-9,null,null,479,{"$f":"1/入力部分!$I$38/(2*3.14)^0.5*EXP(-1/2*(((W485+入力部分!$I$47)-入力部分!$I$29)/入力部分!$I$38)^2)","v":1.0241281860448203E-44},4.9055740111546892E-42,null,null,479,{"$f":"1/入力部分!$I$39/(2*3.14)^0.5*EXP(-1/2*(((AB485+入力部分!$I$48)-入力部分!$I$30)/入力部分!$I$39)^2)","v":4.7923583256768557E-267},2.295539637999214E-264]
[null,null,null,null,null,null,null,null,480,{"$f":"(入力部分!D$7*N486+入力部分!D$8*S486+入力部分!D$9*X486+入力部分!D$10*AC486)/(SUM(入力部分!D$7:D$10))","v":2.1338221694162685E-6},null,null,480,{"$f":"1/入力部分!$I$36/(2*3.14)^0.5*EXP(-1/2*(((M486+入力部分!$I$45)-入力部分!$I$27)/入力部分!$I$36)^2)","v":1.707055795804306E-5},8.1938678198606694E-3,null,null,480,{"$f":"1/入力部分!$I$37/(2*3.14)^0.5*EXP(-1/2*(((R486+入力部分!$I$46)-入力部分!$I$28)/入力部分!$I$37)^2)","v":6.4657623627702028E-12},3.1035659341296973E-9,null,null,480,{"$f":"1/入力部分!$I$38/(2*3.14)^0.5*EXP(-1/2*(((W486+入力部分!$I$47)-入力部分!$I$29)/入力部分!$I$38)^2)","v":6.3102314561786151E-45},3.0289110989657354E-42,null,null,480,{"$f":"1/入力部分!$I$39/(2*3.14)^0.5*EXP(-1/2*(((AB486+入力部分!$I$48)-入力部分!$I$30)/入力部分!$I$39)^2)","v":2.6009004885646216E-268},1.2484322345110183E-265]
[null,null,null,null,null,null,null,null,481,{"$f":"(入力部分!D$7*N487+入力部分!D$8*S487+入力部分!D$9*X487+入力部分!D$10*AC487)/(SUM(入力部分!D$7:D$10))","v":2.0636395695885925E-6},null,null,481,{"$f":"1/入力部分!$I$36/(2*3.14)^0.5*EXP(-1/2*(((M487+入力部分!$I$45)-入力部分!$I$27)/入力部分!$I$36)^2)","v":1.6509099216509571E-5},7.9408767231411038E-3,null,null,481,{"$f":"1/入力部分!$I$37/(2*3.14)^0.5*EXP(-1/2*(((R487+入力部分!$I$46)-入力部分!$I$28)/入力部分!$I$37)^2)","v":5.7800663896212085E-12},2.7802119334078013E-9,null,null,481,{"$f":"1/入力部分!$I$38/(2*3.14)^0.5*EXP(-1/2*(((W487+入力部分!$I$47)-入力部分!$I$29)/入力部分!$I$38)^2)","v":3.8834047715758032E-45},1.8679176951279612E-42,null,null,481,{"$f":"1/入力部分!$I$39/(2*3.14)^0.5*EXP(-1/2*(((AB487+入力部分!$I$48)-入力部分!$I$30)/入力部分!$I$39)^2)","v":1.401787734704963E-269},6.7425990039308722E-267]
[null,null,null,null,null,null,null,null,482,{"$f":"(入力部分!D$7*N488+入力部分!D$8*S488+入力部分!D$9*X488+入力部分!D$10*AC488)/(SUM(入力部分!D$7:D$10))","v":1.9955617087998774E-6},null,null,482,{"$f":"1/入力部分!$I$36/(2*3.14)^0.5*EXP(-1/2*(((M488+入力部分!$I$45)-入力部分!$I$27)/入力部分!$I$36)^2)","v":1.5964478173804506E-5},7.6948784797737715E-3,null,null,482,{"$f":"1/入力部分!$I$37/(2*3.14)^0.5*EXP(-1/2*(((R488+入力部分!$I$46)-入力部分!$I$28)/入力部分!$I$37)^2)","v":5.1655315051196815E-12},2.4897861854676865E-9,null,null,482,{"$f":"1/入力部分!$I$38/(2*3.14)^0.5*EXP(-1/2*(((W488+入力部分!$I$47)-入力部分!$I$29)/入力部分!$I$38)^2)","v":2.3870220506616122E-45},1.1505446284188971E-42,null,null,482,{"$f":"1/入力部分!$I$39/(2*3.14)^0.5*EXP(-1/2*(((AB488+入力部分!$I$48)-入力部分!$I$30)/入力部分!$I$39)^2)","v":7.5028254215210333E-271},3.6163618531731382E-268]
[null,null,null,null,null,null,null,null,483,{"$f":"(入力部分!D$7*N489+入力部分!D$8*S489+入力部分!D$9*X489+入力部分!D$10*AC489)/(SUM(入力部分!D$7:D$10))","v":1.929532813823852E-6},null,null,483,{"$f":"1/入力部分!$I$36/(2*3.14)^0.5*EXP(-1/2*(((M489+入力部分!$I$45)-入力部分!$I$27)/入力部分!$I$36)^2)","v":1.5436248665763046E-5},7.4557081055635511E-3,null,null,483,{"$f":"1/入力部分!$I$37/(2*3.14)^0.5*EXP(-1/2*(((R489+入力部分!$I$46)-入力部分!$I$28)/入力部分!$I$37)^2)","v":4.614942589832762E-12},2.229017270889224E-9,null,null,483,{"$f":"1/入力部分!$I$38/(2*3.14)^0.5*EXP(-1/2*(((W489+入力部分!$I$47)-入力部分!$I$29)/入力部分!$I$38)^2)","v":1.4654688864206695E-45},7.0782147214118333E-43,null,null,483,{"$f":"1/入力部分!$I$39/(2*3.14)^0.5*EXP(-1/2*(((AB489+入力部分!$I$48)-入力部分!$I$30)/入力部分!$I$39)^2)","v":3.9879664213030986E-272},1.9261877814893966E-269]
[null,null,null,null,null,null,null,null,484,{"$f":"(入力部分!D$7*N490+入力部分!D$8*S490+入力部分!D$9*X490+入力部分!D$10*AC490)/(SUM(入力部分!D$7:D$10))","v":1.8654983375200784E-6},null,null,484,{"$f":"1/入力部分!$I$36/(2*3.14)^0.5*EXP(-1/2*(((M490+入力部分!$I$45)-入力部分!$I$27)/入力部分!$I$36)^2)","v":1.4923974334767006E-5},7.2232035780272312E-3,null,null,484,{"$f":"1/入力部分!$I$37/(2*3.14)^0.5*EXP(-1/2*(((R490+入力部分!$I$46)-入力部分!$I$28)/入力部分!$I$37)^2)","v":4.1217978738815202E-12},1.9949501709586558E-9,null,null,484,{"$f":"1/入力部分!$I$38/(2*3.14)^0.5*EXP(-1/2*(((W490+入力部分!$I$47)-入力部分!$I$29)/入力部分!$I$38)^2)","v":8.9861398682215885E-46},4.3492916962192485E-43,null,null,484,{"$f":"1/入力部分!$I$39/(2*3.14)^0.5*EXP(-1/2*(((AB490+入力部分!$I$48)-入力部分!$I$30)/入力部分!$I$39)^2)","v":2.1050490054170367E-273},1.0188437186218457E-270]
[null,null,null,null,null,null,null,null,485,{"$f":"(入力部分!D$7*N491+入力部分!D$8*S491+入力部分!D$9*X491+入力部分!D$10*AC491)/(SUM(入力部分!D$7:D$10))","v":1.8034049401387943E-6},null,null,485,{"$f":"1/入力部分!$I$36/(2*3.14)^0.5*EXP(-1/2*(((M491+入力部分!$I$45)-入力部分!$I$27)/入力部分!$I$36)^2)","v":1.4427228480389394E-5},6.9972058129888562E-3,null,null,485,{"$f":"1/入力部分!$I$37/(2*3.14)^0.5*EXP(-1/2*(((R491+入力部分!$I$46)-入力部分!$I$28)/入力部分!$I$37)^2)","v":3.6802403204342363E-12},1.7849165554106045E-9,null,null,485,{"$f":"1/入力部分!$I$38/(2*3.14)^0.5*EXP(-1/2*(((W491+入力部分!$I$47)-入力部分!$I$29)/入力部分!$I$38)^2)","v":5.5035909288230256E-46},2.6692416004791673E-43,null,null,485,{"$f":"1/入力部分!$I$39/(2*3.14)^0.5*EXP(-1/2*(((AB491+入力部分!$I$48)-入力部分!$I$30)/入力部分!$I$39)^2)","v":1.1034610155825986E-274},5.3517859255756035E-272]
[null,null,null,null,null,null,null,null,486,{"$f":"(入力部分!D$7*N492+入力部分!D$8*S492+入力部分!D$9*X492+入力部分!D$10*AC492)/(SUM(入力部分!D$7:D$10))","v":1.7432004706412832E-6},null,null,486,{"$f":"1/入力部分!$I$36/(2*3.14)^0.5*EXP(-1/2*(((M492+入力部分!$I$45)-入力部分!$I$27)/入力部分!$I$36)^2)","v":1.3945593910144029E-5},6.7775586403299977E-3,null,null,486,{"$f":"1/入力部分!$I$37/(2*3.14)^0.5*EXP(-1/2*(((R492+入力部分!$I$46)-入力部分!$I$28)/入力部分!$I$37)^2)","v":3.2849954127665893E-12},1.5965077706045624E-9,null,null,486,{"$f":"1/入力部分!$I$38/(2*3.14)^0.5*EXP(-1/2*(((W492+入力部分!$I$47)-入力部分!$I$29)/入力部分!$I$38)^2)","v":3.3666310042279882E-46},1.6361826680548023E-43,null,null,486,{"$f":"1/入力部分!$I$39/(2*3.14)^0.5*EXP(-1/2*(((AB492+入力部分!$I$48)-入力部分!$I$30)/入力部分!$I$39)^2)","v":5.7442832188867713E-276},2.791721644378971E-273]
[null,null,null,null,null,null,null,null,487,{"$f":"(入力部分!D$7*N493+入力部分!D$8*S493+入力部分!D$9*X493+入力部分!D$10*AC493)/(SUM(入力部分!D$7:D$10))","v":1.68483394804634E-6},null,null,487,{"$f":"1/入力部分!$I$36/(2*3.14)^0.5*EXP(-1/2*(((M493+入力部分!$I$45)-入力部分!$I$27)/入力部分!$I$36)^2)","v":1.3478662790426419E-5},6.564108778937666E-3,null,null,487,{"$f":"1/入力部分!$I$37/(2*3.14)^0.5*EXP(-1/2*(((R493+入力部分!$I$46)-入力部分!$I$28)/入力部分!$I$37)^2)","v":2.9313147670627778E-12},1.4275502915595729E-9,null,null,487,{"$f":"1/入力部分!$I$38/(2*3.14)^0.5*EXP(-1/2*(((W493+入力部分!$I$47)-入力部分!$I$29)/入力部分!$I$38)^2)","v":2.056938426494026E-46},1.0017290137025907E-43,null,null,487,{"$f":"1/入力部分!$I$39/(2*3.14)^0.5*EXP(-1/2*(((AB493+入力部分!$I$48)-入力部分!$I$30)/入力部分!$I$39)^2)","v":2.9696055107305181E-277},1.4461978837257622E-274]
[null,null,null,null,null,null,null,null,488,{"$f":"(入力部分!D$7*N494+入力部分!D$8*S494+入力部分!D$9*X494+入力部分!D$10*AC494)/(SUM(入力部分!D$7:D$10))","v":1.6282555428130229E-6},null,null,488,{"$f":"1/入力部分!$I$36/(2*3.14)^0.5*EXP(-1/2*(((M494+入力部分!$I$45)-入力部分!$I$27)/入力部分!$I$36)^2)","v":1.3026036497729052E-5},6.3567058108917772E-3,null,null,488,{"$f":"1/入力部分!$I$37/(2*3.14)^0.5*EXP(-1/2*(((R494+入力部分!$I$46)-入力部分!$I$28)/入力部分!$I$37)^2)","v":2.6149250433277253E-12},1.2760834211439299E-9,null,null,488,{"$f":"1/入力部分!$I$38/(2*3.14)^0.5*EXP(-1/2*(((W494+入力部分!$I$47)-入力部分!$I$29)/入力部分!$I$38)^2)","v":1.2552304461053254E-46},6.1255245769939879E-44,null,null,488,{"$f":"1/入力部分!$I$39/(2*3.14)^0.5*EXP(-1/2*(((AB494+入力部分!$I$48)-入力部分!$I$30)/入力部分!$I$39)^2)","v":1.5245642884761138E-278},7.4398737277634355E-276]
[null,null,null,null,null,null,null,null,489,{"$f":"(入力部分!D$7*N495+入力部分!D$8*S495+入力部分!D$9*X495+入力部分!D$10*AC495)/(SUM(入力部分!D$7:D$10))","v":1.5734165582696186E-6},null,null,489,{"$f":"1/入力部分!$I$36/(2*3.14)^0.5*EXP(-1/2*(((M495+入力部分!$I$45)-入力部分!$I$27)/入力部分!$I$36)^2)","v":1.258732547021193E-5},6.1552021549336339E-3,null,null,489,{"$f":"1/入力部分!$I$37/(2*3.14)^0.5*EXP(-1/2*(((R495+入力部分!$I$46)-入力部分!$I$28)/入力部分!$I$37)^2)","v":2.331981672801108E-12},1.1403390379997419E-9,null,null,489,{"$f":"1/入力部分!$I$38/(2*3.14)^0.5*EXP(-1/2*(((W495+入力部分!$I$47)-入力部分!$I$29)/入力部分!$I$38)^2)","v":7.6507152480352002E-47},3.7411997562892131E-44,null,null,489,{"$f":"1/入力部分!$I$39/(2*3.14)^0.5*EXP(-1/2*(((AB495+入力部分!$I$48)-入力部分!$I$30)/入力部分!$I$39)^2)","v":7.7727874307974427E-280},3.8008930536599495E-277]
[null,null,null,null,null,null,null,null,490,{"$f":"(入力部分!D$7*N496+入力部分!D$8*S496+入力部分!D$9*X496+入力部分!D$10*AC496)/(SUM(入力部分!D$7:D$10))","v":1.5202694120982807E-6},null,null,490,{"$f":"1/入力部分!$I$36/(2*3.14)^0.5*EXP(-1/2*(((M496+入力部分!$I$45)-入力部分!$I$27)/入力部分!$I$36)^2)","v":1.2162149059705358E-5},5.9594530392556248E-3,null,null,490,{"$f":"1/入力部分!$I$37/(2*3.14)^0.5*EXP(-1/2*(((R496+入力部分!$I$46)-入力部分!$I$28)/入力部分!$I$37)^2)","v":2.0790269624427906E-12},1.0187232115969673E-9,null,null,490,{"$f":"1/入力部分!$I$38/(2*3.14)^0.5*EXP(-1/2*(((W496+入力部分!$I$47)-入力部分!$I$29)/入力部分!$I$38)^2)","v":4.6575444912635189E-47},2.2821968007191244E-44,null,null,490,{"$f":"1/入力部分!$I$39/(2*3.14)^0.5*EXP(-1/2*(((AB496+入力部分!$I$48)-入力部分!$I$30)/入力部分!$I$39)^2)","v":3.9354274013147703E-281},1.9283594266442376E-278]
[null,null,null,null,null,null,null,null,491,{"$f":"(入力部分!D$7*N497+入力部分!D$8*S497+入力部分!D$9*X497+入力部分!D$10*AC497)/(SUM(入力部分!D$7:D$10))","v":1.4687676178845285E-6},null,null,491,{"$f":"1/入力部分!$I$36/(2*3.14)^0.5*EXP(-1/2*(((M497+入力部分!$I$45)-入力部分!$I$27)/入力部分!$I$36)^2)","v":1.17501353842197E-5},5.769316473651873E-3,null,null,491,{"$f":"1/入力部分!$I$37/(2*3.14)^0.5*EXP(-1/2*(((R497+入力部分!$I$46)-入力部分!$I$28)/入力部分!$I$37)^2)","v":1.8529521756961768E-12},9.0979951826682287E-10,null,null,491,{"$f":"1/入力部分!$I$38/(2*3.14)^0.5*EXP(-1/2*(((W497+入力部分!$I$47)-入力部分!$I$29)/入力部分!$I$38)^2)","v":2.831968292023121E-47},1.3904964313833524E-44,null,null,491,{"$f":"1/入力部分!$I$39/(2*3.14)^0.5*EXP(-1/2*(((AB497+入力部分!$I$48)-入力部分!$I$30)/入力部分!$I$39)^2)","v":1.9787507186641521E-282},9.7156660286409868E-280]
[null,null,null,null,null,null,null,null,492,{"$f":"(入力部分!D$7*N498+入力部分!D$8*S498+入力部分!D$9*X498+入力部分!D$10*AC498)/(SUM(入力部分!D$7:D$10))","v":1.4188657667404332E-6},null,null,492,{"$f":"1/入力部分!$I$36/(2*3.14)^0.5*EXP(-1/2*(((M498+入力部分!$I$45)-入力部分!$I$27)/入力部分!$I$36)^2)","v":1.1350921181033795E-5},5.5846532210686271E-3,null,null,492,{"$f":"1/入力部分!$I$37/(2*3.14)^0.5*EXP(-1/2*(((R498+入力部分!$I$46)-入力部分!$I$28)/入力部分!$I$37)^2)","v":1.6509632241184188E-12},8.1227390626626209E-10,null,null,492,{"$f":"1/入力部分!$I$38/(2*3.14)^0.5*EXP(-1/2*(((W498+入力部分!$I$47)-入力部分!$I$29)/入力部分!$I$38)^2)","v":1.7198721387537138E-47},8.4617709226682716E-45,null,null,492,{"$f":"1/入力部分!$I$39/(2*3.14)^0.5*EXP(-1/2*(((AB498+入力部分!$I$48)-入力部分!$I$30)/入力部分!$I$39)^2)","v":9.8803955665515197E-284},4.8611546187433478E-281]
[null,null,null,null,null,null,null,null,493,{"$f":"(入力部分!D$7*N499+入力部分!D$8*S499+入力部分!D$9*X499+入力部分!D$10*AC499)/(SUM(入力部分!D$7:D$10))","v":1.3705195090099863E-6},null,null,493,{"$f":"1/入力部分!$I$36/(2*3.14)^0.5*EXP(-1/2*(((M499+入力部分!$I$45)-入力部分!$I$27)/入力部分!$I$36)^2)","v":1.0964151660430981E-5},5.4053267685924737E-3,null,null,493,{"$f":"1/入力部分!$I$37/(2*3.14)^0.5*EXP(-1/2*(((R499+入力部分!$I$46)-入力部分!$I$28)/入力部分!$I$37)^2)","v":1.4705496368518206E-12},7.2498097096794751E-10,null,null,493,{"$f":"1/入力部分!$I$38/(2*3.14)^0.5*EXP(-1/2*(((W499+入力部分!$I$47)-入力部分!$I$29)/入力部分!$I$38)^2)","v":1.0432306453900367E-47},5.1431270817728808E-45,null,null,493,{"$f":"1/入力部分!$I$39/(2*3.14)^0.5*EXP(-1/2*(((AB499+入力部分!$I$48)-入力部分!$I$30)/入力部分!$I$39)^2)","v":4.8993858634658741E-285},2.4153972306886758E-282]
[null,null,null,null,null,null,null,null,494,{"$f":"(入力部分!D$7*N500+入力部分!D$8*S500+入力部分!D$9*X500+入力部分!D$10*AC500)/(SUM(入力部分!D$7:D$10))","v":1.3236855360647448E-6},null,null,494,{"$f":"1/入力部分!$I$36/(2*3.14)^0.5*EXP(-1/2*(((M500+入力部分!$I$45)-入力部分!$I$27)/入力部分!$I$36)^2)","v":1.0589480360148446E-5},5.2312032979133323E-3,null,null,494,{"$f":"1/入力部分!$I$37/(2*3.14)^0.5*EXP(-1/2*(((R500+入力部分!$I$46)-入力部分!$I$28)/入力部分!$I$37)^2)","v":1.3094565045433941E-12},6.4687151324443663E-10,null,null,494,{"$f":"1/入力部分!$I$38/(2*3.14)^0.5*EXP(-1/2*(((W500+入力部分!$I$47)-入力部分!$I$29)/入力部分!$I$38)^2)","v":6.3203468395729252E-48},3.1222513387490248E-45,null,null,494,{"$f":"1/入力部分!$I$39/(2*3.14)^0.5*EXP(-1/2*(((AB500+入力部分!$I$48)-入力部分!$I$30)/入力部分!$I$39)^2)","v":2.4126427755304937E-286},1.1918455311120639E-283]
[null,null,null,null,null,null,null,null,495,{"$f":"(入力部分!D$7*N501+入力部分!D$8*S501+入力部分!D$9*X501+入力部分!D$10*AC501)/(SUM(入力部分!D$7:D$10))","v":1.2783215621976339E-6},null,null,495,{"$f":"1/入力部分!$I$36/(2*3.14)^0.5*EXP(-1/2*(((M501+入力部分!$I$45)-入力部分!$I$27)/入力部分!$I$36)^2)","v":1.0226569000603707E-5},5.0621516552988351E-3,null,null,495,{"$f":"1/入力部分!$I$37/(2*3.14)^0.5*EXP(-1/2*(((R501+入力部分!$I$46)-入力部分!$I$28)/入力部分!$I$37)^2)","v":1.16565912142005E-12},5.7700126510292476E-10,null,null,495,{"$f":"1/入力部分!$I$38/(2*3.14)^0.5*EXP(-1/2*(((W501+入力部分!$I$47)-入力部分!$I$29)/入力部分!$I$38)^2)","v":3.8245283743892703E-48},1.8931415453226887E-45,null,null,495,{"$f":"1/入力部分!$I$39/(2*3.14)^0.5*EXP(-1/2*(((AB501+入力部分!$I$48)-入力部分!$I$30)/入力部分!$I$39)^2)","v":1.1798545408041012E-287},5.8402799769803005E-285]
[null,null,null,null,null,null,null,null,496,{"$f":"(入力部分!D$7*N502+入力部分!D$8*S502+入力部分!D$9*X502+入力部分!D$10*AC502)/(SUM(入力部分!D$7:D$10))","v":1.2343863066223433E-6},null,null,496,{"$f":"1/入力部分!$I$36/(2*3.14)^0.5*EXP(-1/2*(((M502+入力部分!$I$45)-入力部分!$I$27)/入力部分!$I$36)^2)","v":9.8750873409585244E-6},4.898043321115428E-3,null,null,496,{"$f":"1/入力部分!$I$37/(2*3.14)^0.5*EXP(-1/2*(((R502+入力部分!$I$46)-入力部分!$I$28)/入力部分!$I$37)^2)","v":1.0373400740039321E-12},5.1452067670595031E-10,null,null,496,{"$f":"1/入力部分!$I$38/(2*3.14)^0.5*EXP(-1/2*(((W502+入力部分!$I$47)-入力部分!$I$29)/入力部分!$I$38)^2)","v":2.3114859790191746E-48},1.1464970455935106E-45,null,null,496,{"$f":"1/入力部分!$I$39/(2*3.14)^0.5*EXP(-1/2*(((AB502+入力部分!$I$48)-入力部分!$I$30)/入力部分!$I$39)^2)","v":5.7299123575966617E-289},2.8420365293679442E-286]
[null,null,null,null,null,null,null,null,497,{"$f":"(入力部分!D$7*N503+入力部分!D$8*S503+入力部分!D$9*X503+入力部分!D$10*AC503)/(SUM(入力部分!D$7:D$10))","v":1.1918394755854841E-6},null,null,497,{"$f":"1/入力部分!$I$36/(2*3.14)^0.5*EXP(-1/2*(((M503+入力部分!$I$45)-入力部分!$I$27)/入力部分!$I$36)^2)","v":9.5347130360782309E-6},4.7387523789308812E-3,null,null,497,{"$f":"1/入力部分!$I$37/(2*3.14)^0.5*EXP(-1/2*(((R503+入力部分!$I$46)-入力部分!$I$28)/入力部分!$I$37)^2)","v":9.228685475938294E-13},4.586656681541332E-10,null,null,497,{"$f":"1/入力部分!$I$38/(2*3.14)^0.5*EXP(-1/2*(((W503+入力部分!$I$47)-入力部分!$I$29)/入力部分!$I$38)^2)","v":1.3953431989622435E-48},6.9348556988423505E-46,null,null,497,{"$f":"1/入力部分!$I$39/(2*3.14)^0.5*EXP(-1/2*(((AB503+入力部分!$I$48)-入力部分!$I$30)/入力部分!$I$39)^2)","v":2.7634496505898812E-290},1.373434476343171E-287]
[null,null,null,null,null,null,null,null,498,{"$f":"(入力部分!D$7*N504+入力部分!D$8*S504+入力部分!D$9*X504+入力部分!D$10*AC504)/(SUM(入力部分!D$7:D$10))","v":1.1506417445983712E-6},null,null,498,{"$f":"1/入力部分!$I$36/(2*3.14)^0.5*EXP(-1/2*(((M504+入力部分!$I$45)-入力部分!$I$27)/入力部分!$I$36)^2)","v":9.2051314944420431E-6},4.5841554842321374E-3,null,null,498,{"$f":"1/入力部分!$I$37/(2*3.14)^0.5*EXP(-1/2*(((R504+入力部分!$I$46)-入力部分!$I$28)/入力部分!$I$37)^2)","v":8.2078164232153774E-13},4.0874925787612581E-10,null,null,498,{"$f":"1/入力部分!$I$38/(2*3.14)^0.5*EXP(-1/2*(((W504+入力部分!$I$47)-入力部分!$I$29)/入力部分!$I$38)^2)","v":8.4129288648921584E-49},4.1896385747162948E-46,null,null,498,{"$f":"1/入力部分!$I$39/(2*3.14)^0.5*EXP(-1/2*(((AB504+入力部分!$I$48)-入力部分!$I$30)/入力部分!$I$39)^2)","v":1.3235464861050607E-291},6.5912615008032025E-289]
[null,null,null,null,null,null,null,null,499,{"$f":"(入力部分!D$7*N505+入力部分!D$8*S505+入力部分!D$9*X505+入力部分!D$10*AC505)/(SUM(入力部分!D$7:D$10))","v":1.1107547407949455E-6},null,null,499,{"$f":"1/入力部分!$I$36/(2*3.14)^0.5*EXP(-1/2*(((M505+入力部分!$I$45)-入力部分!$I$27)/入力部分!$I$36)^2)","v":8.8860357370570355E-6},4.4341318327914608E-3,null,null,499,{"$f":"1/入力部分!$I$37/(2*3.14)^0.5*EXP(-1/2*(((R505+入力部分!$I$46)-入力部分!$I$28)/入力部分!$I$37)^2)","v":7.2976750947794098E-13},3.6415398722949256E-10,null,null,499,{"$f":"1/入力部分!$I$38/(2*3.14)^0.5*EXP(-1/2*(((W505+入力部分!$I$47)-入力部分!$I$29)/入力部分!$I$38)^2)","v":5.0662870641097459E-49},2.5280772449907631E-46,null,null,499,{"$f":"1/入力部分!$I$39/(2*3.14)^0.5*EXP(-1/2*(((AB505+入力部分!$I$48)-入力部分!$I$30)/入力部分!$I$39)^2)","v":6.2952199494501177E-293},3.141314754775609E-290]
[null,null,null,null,null,null,null,null,500,{"$f":"(入力部分!D$7*N506+入力部分!D$8*S506+入力部分!D$9*X506+入力部分!D$10*AC506)/(SUM(入力部分!D$7:D$10))","v":1.0721410254220328E-6},null,null,500,{"$f":"1/入力部分!$I$36/(2*3.14)^0.5*EXP(-1/2*(((M506+入力部分!$I$45)-入力部分!$I$27)/入力部分!$I$36)^2)","v":8.5771262574258546E-6},4.288563128712927E-3,null,null,500,{"$f":"1/入力部分!$I$37/(2*3.14)^0.5*EXP(-1/2*(((R506+入力部分!$I$46)-入力部分!$I$28)/入力部分!$I$37)^2)","v":6.4865013604108276E-13},3.243250680205414E-10,null,null,500,{"$f":"1/入力部分!$I$38/(2*3.14)^0.5*EXP(-1/2*(((W506+入力部分!$I$47)-入力部分!$I$29)/入力部分!$I$38)^2)","v":3.0472548122724985E-49},1.5236274061362494E-46,null,null,500,{"$f":"1/入力部分!$I$39/(2*3.14)^0.5*EXP(-1/2*(((AB506+入力部分!$I$48)-入力部分!$I$30)/入力部分!$I$39)^2)","v":2.9734913803356628E-294},1.4867456901678315E-291]

{"sheet":"簡易マニュアル","index":2,"n_rows":13,"n_cols":3,"rows_kept":13,"cut":false,"hidden":false,"merged":[]}
[]
[null,null," "]
[null,null,"露出高推定モデル（混合粒径版）　マニュアル（2021/4/1更新）"]
[null,null," "]
[null,null,"１．各区分の存在割合（粒度加積曲線または被度割合をもとに算出）を"]
[null,null,"　　C7～11に入力します（入力範囲：0～1）"]
[null,null,"　　必ず入力が必要です"]
[null,null,"２．各区分の代表粒径を(C17～21)に入力します（入力範囲：１～５００ mm）"]
[null,null,"　　なければ、Wentworthの粒径区分に基づき自動入力します"]
[null,null,"３．各区分の代表高さを（C25～29）に入力します（入力範囲：１～３００ mm）"]
[null,null,"　　なければ、代表粒径×0.64で近似計算します"]
[null,null,"４．各区分の標準偏差の係数を（C33～37）に入力します（入力範囲：0～1）"]
[null,null,"　　なければ、代表粒径×0.3で近似計算します"]